Workbook
Name A.III.L1.: 'B-01-FII-10-2'!$D$1:$E$1
Name A.III.L1.: 'B-01-FII-10-3'!$D$1:$E$1
Name A.III.L1.: 'B-01-FIII-10-2'!$D$1:$E$1
Name KörlevMező: '[1]#HIV'!$A$1
Name nyomtat: [2]Alapadatok!$C$42
Name TABLE: Alapa!$C$27:$C$27
Name TABLE_2: Alapa!$C$27:$C$27

Sheet BORITO
O1: Használati útmutató
O2: ◄◄ NEM SZERKESZTHETŐ SOR !!
A3: BESZÁMOLÓ ÉS LELTÁR | O3: Tartalom
A4: A TÁRSASÁG
A5: VEZETÉSE RÉSZÉRE
A7: =Alapa!C17 -> 0
A8: Vállalkozás megnevezése
A10: =Alapa!C18 -> 0
A11: Vállalkozás címe
A15: =Alapa!C12 -> 0
A16: Üzleti év fordulónapja
K20: Beosztása:
B21: Beszámolót aláíró neve: | F21: =Alapa!L2 -> 0 | K21: =Alapa!M2 -> 0
B22: Számviteli rendért felelős neve: | F22: =Alapa!L3 -> 0 | K22: =Alapa!M3 -> 0
B25: Könyvvizsgáló társaság: | F25: =Alapa!C2 -> 0
B26: Független könyvvizsgáló neve: | F26: =Alapa!C5 -> 0
B27: Független könyvvizsgáló címe: | F27: =Alapa!C6 -> 0
F30: B BESZÁMOLÓ ÉS LELTÁR
G31: B-01 | H31: Leltár és eredmény
G32: B-02 | H32: Főkönyvi kivonat
G33: B-03 | H33: Mérleg, Eredménykimutatás
G34: B-04 | H34: Kiegészítő melléklet
G35: B-05 | H35: Üzleti jelentés
G36: B-06 | H36: Teljességi nyilatkozat
G37: B-07 | H37: Könyvvizsgálói jelentés
G38: B-08 | H38: Vezetői levél
G39: B-09 | H39: Legfőbb szerv határozatai
A46: Használati útmutató | D46: VISSZA | F46: Tartalom
A47: Cél | C47: A DigitAudit program AuditBeszámoló moduljának B01 Leltár és eredmény táblarendszere segítséget nyújt a vállalkozások mérlegének és eredménykimutatásának szakszerű elkészítéséhez.
A48: Ellenőrzés - Áttekintés | C48: Az ellenőrzések eredményeit, a szöveges értékeléseket és következtetéseket a Tartalom munkalapon tekintheti át. A Tartalom munkalapon követheti munkavégzésének folyamatát.
A49: Áttekintés | C49: A táblarendszer Tartalom munkalapjának F;G oszlopában áttekintheti a táblarendszer ellenőrző számait, követheti munkavégzésének pillanatnyi állapotát.
A50: JELZÉSEK | C50: Az alábbi feladatok közül:
C51: A piros betűs feladatok a használat Kiemelt támaköreit jelzik, amit el kell végezni.
C52: A zölddel jelzett témák kiegészítő információk, és javasolt feladatok a táblarendszer használatához.
A53: Előkészítés | C53: A táblarendszer használatához előzetesen a program mérleg -és eredménykimutatás összeállító felületén kell beolvasni az aktuális (három oszlopos) főkönyvi kivonat számláit, majd a főkönyvi számlák besorolását követően az adatokat exportálni kell.
A54: Feltöltés | C54: Az Exportálással a táblarendszer feltöltésre kerül és a főkönyvi adatok megjelennek a táblarendszer megfelelő celláiban.
A55: Mérleg-Eredmény | C55: Az Exportálással a programban lévő Mérleg és Eredménykimutatás is feltöltésre kerülnek a Dokumentumkezelő/Fastruktúrájából megnyitható másik Excel táblában.
A56: Mutatók | C56: Az Exportálással a programban lévő mutatószámos elemző táblák is feltöltésre kerülnek a Dokumentumkezelő/Fastruktúrájából megnyitható másik Excel táblában.
A57: Dátumok | C57: A táblarendszer valemennyi dátuma alapértelmezésben megegyezik a Mérleg-Eredménykimuatás összeállítás Exportálása során megjelölt munkavégzés dátumával. Amennyiben módosítani kívánja az egyes táblák dátumát, írja felül a képletet, de legyen figyelemmel arra, hogy ezt követően az alapértelmezés már nem jöhet létre, a beírt dátum megmarad.
A58: Kitöltés | D58: Csak színes cellákba írjon adatot !
D59: Üres ( fehér kitöltésű ) cellákban lévő képletet ne írja felül és ne töröljön sort, vagy oszlopot!
A60: Adatsor bővítés | C60: Amennyiben az analitikus részletező táblázatokban lévő sorok nem elégségesek, akkor az adott táblázat utolsó cellasorának kijelölése és sorbeszúrás(ok) után másolja (húzza át) a fehér hátterű cellák képleteit az új sorba.
A61: Feladat | C61: Az analitikus kimutatások főkönyvi kivonattal történő egyeztetésének elvégzése érdekében a felhasználónak ki kell töltenie az analitikus kimutatások összesítő adataival a táblák színes celláit (értelemszerűen, ahol nincs főkönyvi érték ott az analitikus összesítés is üres marad.)
A62: Ellenőrzés | C62: A táblarendszer kötelező összefüggéseit ellenőrző számok képzése segíti, JÓ, HA "0" összefüggés alkalmazásával. A 01-el végződő munkalapok analitika-főkönyv egyeztetésének ellenőrző számai a táblarendszerben szerepelnek.
A63: Ellenőrzés - Leltár analitika | C63: A főkönyvi kivonat adatainak és az analitikus leltárak egyeztetését a Leltárösszesítő 01-es munkalapok C13-… celláiba kell beírni. A főkönyvi kivonat és az analitikus leltár értékegyezősége esetén a Leltárösszesítő C10 cellájában EGYEZIK szöveg jelenik meg.
A64: Értékelés | C64: A munkalapok kitöltésének Eredménye megjelenik valamennyi munkalapon és a Tartalom munkalapon is. A ...01-es munkalapok kiértékelésé automatikus.
A65: ..01 munkalapok Eredménye | C65: NINCS ADAT- Ha a munkalahoz nem tartozik főkönyvi érték. NINCS ANALITIKA - Ha a főkönyvi értékhez nem adták meg az analitikus részletezés(ek) összértékét. NEM EGYEZIK - Ha a főkönyvi értékhez pontatlanul adták meg az analitikus részletezés(ek) összértékét. EGYEZIK - Ha a főkönyvi érték(ek)hez teljes körűen megadták az analitikus részletezés(eke)t.
A66: Összköltség-Forgalmiköltség eljárás Eredménye | C66: Amennyiben a DigitAudit programba beállított eredménykimutatás összköltség eljárással készült, akkor a forgalimköltség eljárás Eredménye: NEM LÉNYEGES, fordított esetben az összköltség eljárás Eredménye: NEM LÉNYEGES.
A67: Adózott eredmény | C67: NEM EGYEZIK - Ha az Eredménykimutatás adózott eredménye eltér a Mérlegben szereplőtől. EGYEZIK - Ha az Eredménykimutatás adózott eredménye megegyezik a Mérlegben szereplővel.
A68: Következtetés | C68: A felhasználó a munkavégzés értékelése alapján a táblák Következtetés: szövegű cellája alatt lévő cellába történő rövid szöveges megfogalmazással kifejtheti következtetését a beszámoló alátámasztásának megfelelőségére vonatkozóan. Pl. A mérleg/eredmény csoport megfelel a törvényi követelményeknek. A szöveges következtetés megjelenik a Tartalom munkalap I cellaoszlopában is.

Sheet Tartalom
A1: B-01 Leltár és Eredmény
D2: Ide írja az egyeztetés / vizsgálat szöveges értékelését | E2: Ide írja a következtetés szövegét | J2: ◄◄ NEM SZERKESZTHETŐ SOR !!
A3: DigitAudit | H3: AuditBeszámoló
D4: =Alapa!C17 -> 0
A5: =Alapa!C12 -> 0
C6: Tartalom | F6: Ellenőrzés - Értékelés - Következtetés | J6: Használati útmutató
A9: Megnevezés | B9: Sorszám | C9: Hivatkozás | D9: Munkalap neve | E9: Dátum | F9: 1. Ellenőrző szám JÓ, HA "0" | G9: 2. Ellenőrző szám JÓ, HA "0" | H9: Eredmény* | I9: Következtetés* | J9: * Az eredményt és a következtetést az egyedi munkalapokon lehet megfogalmazni.
A10: Forduló napi deviza-valuta értékelés
B11: =COUNT(B$9:$B10)+1 -> 1 | C11: B-01-DEV | D11: Deviza-valuta értékelése | E11: ='B-01-DEV'!F5 -> 0 | F11: ='B-01-DEV'!B2 -> 0 | G11: ='B-01-DEV'!C2 -> 0 | H11: =IF('B-01-DEV'!D2=D2,"",'B-01-DEV'!D2) -> NINCS ADAT | I11: =IF('B-01-DEV'!E2=E2,"",'B-01-DEV'!E2)
A12: Leltár
A13: Mérlegen kívüli tételek
B14: =COUNT(B$9:$B13)+1 -> 2 | C14: B-01-MK | D14: Mérlegen kívüli tételek | E14: ='B-01-MK'!D5 -> 0 | F14: ='B-01-MK'!B2 -> 0 | G14: ='B-01-MK'!C2 -> 0 | H14: =IF('B-01-MK'!D2=D2,"",'B-01-MK'!D2) -> NINCS ADAT | I14: =IF('B-01-MK'!E2=E2,"",'B-01-MK'!E2)
A15: Immateriális javak
B16: =COUNT(B$9:$B15)+1 -> 3 | C16: B-01-AI-01 | D16: Leltárösszesítő | E16: ='B-01-AI-01'!D5 -> 0 | F16: ='B-01-AI-01'!B2 -> 0 | G16: ='B-01-AI-01'!C2 -> 0 | H16: =IF('B-01-AI-01'!D2=D2,"",'B-01-AI-01'!D2) -> NINCS FK. ADAT | I16: =IF('B-01-AI-01'!E2=E2,"",'B-01-AI-01'!E2)
B17: =COUNT(B$9:$B16)+1 -> 4 | C17: B-01-AI-02 | D17: Főkönyvi kivonat egyeztetés | E17: ='B-01-AI-02'!F3 -> 0 | F17: ='B-01-AI-02'!B2 -> 0 | G17: ='B-01-AI-02'!C2 -> 0 | H17: =IF('B-01-AI-02'!D2=D2,"",'B-01-AI-02'!D2) | I17: =IF('B-01-AI-02'!E2=E2,"",'B-01-AI-02'!E2)
B18: =COUNT(B$9:$B17)+1 -> 5 | C18: B-01-AI-10-01 | D18: Immateriális javak (kivéve előlegek) | E18: ='B-01-AI-10-01'!I5 -> 0 | F18: ='B-01-AI-10-01'!B2 -> 0 | G18: ='B-01-AI-10-01'!C2 -> 0 | H18: =IF('B-01-AI-10-01'!D2=D2,"",'B-01-AI-10-01'!D2) | I18: =IF('B-01-AI-10-01'!E2=E2,"",'B-01-AI-10-01'!E2)
B19: =COUNT(B$9:$B18)+1 -> 6 | C19: B-01-AI-10-02 | D19: Immateriális javakra adott előlegek | E19: ='B-01-AI-10-02'!G5 -> 0 | F19: ='B-01-AI-10-02'!B2 -> 0 | G19: ='B-01-AI-10-02'!C2 -> 0 | H19: =IF('B-01-AI-10-02'!D2=D2,"",'B-01-AI-10-02'!D2) | I19: =IF('B-01-AI-10-02'!E2=E2,"",'B-01-AI-10-02'!E2)
A20: Tárgyi eszközök
B21: =COUNT(B$9:$B20)+1 -> 7 | C21: B-01-AII-01 | D21: Leltárösszesítő | E21: ='B-01-AII-01'!D5 -> 0 | F21: ='B-01-AII-01'!B2 -> 0 | G21: ='B-01-AII-01'!C2 -> 0 | H21: =IF('B-01-AII-01'!D2=D2,"",'B-01-AII-01'!D2) -> NINCS FK. ADAT | I21: =IF('B-01-AII-01'!E2=E2,"",'B-01-AII-01'!E2)
B22: =COUNT(B$9:$B21)+1 -> 8 | C22: B-01-AII-02 | D22: Főkönyvi kivonat egyeztetés | E22: ='B-01-AII-02'!F3 -> 0 | F22: ='B-01-AII-02'!B2 -> 0 | G22: ='B-01-AII-02'!C2 -> 0 | H22: =IF('B-01-AII-02'!D2=D2,"",'B-01-AII-02'!D2) | I22: =IF('B-01-AII-02'!E2=E2,"",'B-01-AII-02'!E2)
B23: =COUNT(B$9:$B22)+1 -> 9 | C23: B-01-AII-10-01 | D23: Tárgyieszközök (kivéve beruházások, felújítások, előlegek) | E23: ='B-01-AII-10-01'!I5 -> 0 | F23: ='B-01-AII-10-01'!B2 -> 0 | G23: ='B-01-AII-10-01'!C2 -> 0 | H23: =IF('B-01-AII-10-01'!D2=D2,"",'B-01-AII-10-01'!D2) | I23: =IF('B-01-AII-10-01'!E2=E2,"",'B-01-AII-10-01'!E2)
B24: =COUNT(B$9:$B23)+1 -> 10 | C24: B-01-AII-10-02 | D24: Beruházásokra adott előlegek | E24: ='B-01-AII-10-02'!G5 -> 0 | F24: ='B-01-AII-10-02'!B2 -> 0 | G24: ='B-01-AII-10-02'!C2 -> 0 | H24: =IF('B-01-AII-10-02'!D2=D2,"",'B-01-AII-10-02'!D2) | I24: =IF('B-01-AII-10-02'!E2=E2,"",'B-01-AII-10-02'!E2)
B25: =COUNT(B$9:$B24)+1 -> 11 | C25: B-01-AII-10-03 | D25: Beruházások,felujítások | E25: ='B-01-AII-10-03'!E5 -> 0 | F25: ='B-01-AII-10-03'!B2 -> 0 | G25: ='B-01-AII-10-03'!C2 -> 0 | H25: =IF('B-01-AII-10-03'!D2=D2,"",'B-01-AII-10-03'!D2) | I25: =IF('B-01-AII-10-03'!E2=E2,"",'B-01-AII-10-03'!E2)
A26: Befektetett pénzügyi eszközök
B27: =COUNT(B$9:$B26)+1 -> 12 | C27: B-01-AIII-01 | D27: Leltárösszesítő | E27: ='B-01-AIII-01'!D5 -> 0 | F27: ='B-01-AIII-01'!B2 -> 0 | G27: ='B-01-AIII-01'!C2 -> 0 | H27: =IF('B-01-AIII-01'!D2=D2,"",'B-01-AIII-01'!D2) -> NINCS FK. ADAT | I27: =IF('B-01-AIII-01'!E2=E2,"",'B-01-AIII-01'!E2)
B28: =COUNT(B$9:$B27)+1 -> 13 | C28: B-01-AIII-02 | D28: Főkönyvi kivonat egyeztetés | E28: ='B-01-AIII-02'!F3 -> 0 | F28: ='B-01-AIII-02'!B2 -> 0 | G28: ='B-01-AIII-02'!C2 -> 0 | H28: =IF('B-01-AIII-02'!D2=D2,"",'B-01-AIII-02'!D2) | I28: =IF('B-01-AIII-02'!E2=E2,"",'B-01-AIII-02'!E2)
B29: =COUNT(B$9:$B28)+1 -> 14 | C29: B-01-AIII-10-01 | D29: Befektetett pénzügyi eszközök,Tartós részesedések | E29: ='B-01-AIII-10-01'!H5 -> 0 | F29: ='B-01-AIII-10-01'!B2 -> 0 | G29: ='B-01-AIII-10-01'!C2 -> 0 | H29: =IF('B-01-AIII-10-01'!D2=D2,"",'B-01-AIII-10-01'!D2) | I29: =IF('B-01-AIII-10-01'!E2=E2,"",'B-01-AIII-10-01'!E2)
B30: =COUNT(B$9:$B29)+1 -> 15 | C30: B-01-AIII-10-02 | D30: Tartósan adott kölcsönök | E30: ='B-01-AIII-10-02'!G5 -> 0 | F30: ='B-01-AIII-10-02'!B2 -> 0 | G30: ='B-01-AIII-10-02'!C2 -> 0 | H30: =IF('B-01-AIII-10-02'!D2=D2,"",'B-01-AIII-10-02'!D2) | I30: =IF('B-01-AIII-10-02'!E2=E2,"",'B-01-AIII-10-02'!E2)
B31: =COUNT(B$9:$B30)+1 -> 16 | C31: B-01-AIII-10-03 | D31: Tartós hitelviszonyt megtestesítő értékpapír | E31: ='B-01-AIII-10-03'!G5 -> 0 | F31: ='B-01-AIII-10-03'!B2 -> 0 | G31: ='B-01-AIII-10-03'!C2 -> 0 | H31: =IF('B-01-AIII-10-03'!D2=D2,"",'B-01-AIII-10-03'!D2) | I31: =IF('B-01-AIII-10-03'!E2=E2,"",'B-01-AIII-10-03'!E2)
B32: =COUNT(B$9:$B31)+1 -> 17 | C32: B-01-AIII-10-04 | D32: Befektetett pénzügyi eszközök értékhelyesbítése | E32: ='B-01-AIII-10-04'!E5 -> 0 | F32: ='B-01-AIII-10-04'!B2 -> 0 | G32: ='B-01-AIII-10-04'!C2 -> 0 | H32: =IF('B-01-AIII-10-04'!D2=D2,"",'B-01-AIII-10-04'!D2) | I32: =IF('B-01-AIII-10-04'!E2=E2,"",'B-01-AIII-10-04'!E2)
A33: Halasztott adókövetelés
B34: =COUNT(B$9:$B33)+1 -> 18 | C34: B-01-AIV-01 | D34: Leltárösszesítő | E34: ='B-01-AIV-01'!D5 -> 0 | F34: ='B-01-AIV-01'!B2 -> 0 | G34: ='B-01-AIV-01'!C2 -> 0 | H34: =IF('B-01-AIV-01'!D2=D2,"",'B-01-AIV-01'!D2) -> NINCS FK. ADAT | I34: =IF('B-01-AIV-01'!E2=E2,"",'B-01-AIV-01'!E2)
B35: =COUNT(B$9:$B34)+1 -> 19 | C35: B-01-AIV-02 | D35: Főkönyvi kivonat egyeztetés | E35: ='B-01-AIV-02'!F3 -> 0 | F35: ='B-01-AIV-02'!B2 -> 0 | G35: ='B-01-AIV-02'!C2 -> 0 | H35: =IF('B-01-AIV-02'!D2=D2,"",'B-01-AIV-02'!D2) | I35: =IF('B-01-AIV-02'!E2=E2,"",'B-01-AIV-02'!E2)
A36: Készletek
B37: =COUNT(B$9:$B36)+1 -> 20 | C37: B-01-BI-01 | D37: Leltárösszesítő | E37: ='B-01-BI-01'!D5 -> 0 | F37: ='B-01-BI-01'!B2 -> 0 | G37: ='B-01-BI-01'!C2 -> 0 | H37: =IF('B-01-BI-01'!D2=D2,"",'B-01-BI-01'!D2) -> NINCS FK. ADAT | I37: =IF('B-01-BI-01'!E2=E2,"",'B-01-BI-01'!E2)
B38: =COUNT(B$9:$B37)+1 -> 21 | C38: B-01-BI-02 | D38: Főkönyvi kivonat egyeztetés | E38: ='B-01-BI-02'!F3 -> 0 | F38: ='B-01-BI-02'!B2 -> 0 | G38: ='B-01-BI-02'!C2 -> 0 | H38: =IF('B-01-BI-02'!D2=D2,"",'B-01-BI-02'!D2) | I38: =IF('B-01-BI-02'!E2=E2,"",'B-01-BI-02'!E2)
B39: =COUNT(B$9:$B38)+1 -> 22 | C39: B-01-BI-10-01 | D39: Készletek leltráfelvételi íve (mennyiségi nyilvántartás hiányában) | E39: ='B-01-BI-10-01'!G5 -> 0 | F39: ='B-01-BI-10-01'!B2 -> 0 | G39: ='B-01-BI-10-01'!C2 -> 0 | H39: =IF('B-01-BI-10-01'!D2=D2,"",'B-01-BI-10-01'!D2) | I39: =IF('B-01-BI-10-01'!E2=E2,"",'B-01-BI-10-01'!E2)
B40: =COUNT(B$9:$B39)+1 -> 23 | C40: B-01-BI-10-02 | D40: Készletek leltráfelvételi íve( mennyiségi nyilvántartás mellett) | E40: ='B-01-BI-10-02'!J5 -> 0 | F40: ='B-01-BI-10-02'!B2 -> 0 | G40: ='B-01-BI-10-02'!C2 -> 0 | H40: =IF('B-01-BI-10-02'!D2=D2,"",'B-01-BI-10-02'!D2) | I40: =IF('B-01-BI-10-02'!E2=E2,"",'B-01-BI-10-02'!E2)
B41: =COUNT(B$9:$B40)+1 -> 24 | C41: B-01-BI-10-03 | D41: Vásárolt készletek ( anyag áru ) értékelése | E41: ='B-01-BI-10-03'!H5 -> 0 | F41: ='B-01-BI-10-03'!B2 -> 0 | G41: ='B-01-BI-10-03'!C2 -> 0 | H41: =IF('B-01-BI-10-03'!D2=D2,"",'B-01-BI-10-03'!D2) | I41: =IF('B-01-BI-10-03'!E2=E2,"",'B-01-BI-10-03'!E2)
B42: =COUNT(B$9:$B41)+1 -> 25 | C42: B-01-BI-10-04 | D42: Saját termelésű készletek értékelése | E42: ='B-01-BI-10-04'!J5 -> 0 | F42: ='B-01-BI-10-04'!B2 -> 0 | G42: ='B-01-BI-10-04'!C2 -> 0 | H42: =IF('B-01-BI-10-04'!D2=D2,"",'B-01-BI-10-04'!D2) | I42: =IF('B-01-BI-10-04'!E2=E2,"",'B-01-BI-10-04'!E2)
B43: =COUNT(B$9:$B42)+1 -> 26 | C43: B-01-BI-10-05 | D43: Készletre adott előlegek | E43: ='B-01-BI-10-05'!G5 -> 0 | F43: ='B-01-BI-10-05'!B2 -> 0 | G43: ='B-01-BI-10-05'!C2 -> 0 | H43: =IF('B-01-BI-10-05'!D2=D2,"",'B-01-BI-10-05'!D2) | I43: =IF('B-01-BI-10-05'!E2=E2,"",'B-01-BI-10-05'!E2)
A44: Követelések
B45: =COUNT(B$9:$B44)+1 -> 27 | C45: B-01-BII-01 | D45: Leltárösszesítő | E45: ='B-01-BII-01'!D5 -> 0 | F45: ='B-01-BII-01'!B2 -> 0 | G45: ='B-01-BII-01'!C2 -> 0 | H45: =IF('B-01-BII-01'!D2=D2,"",'B-01-BII-01'!D2) -> NINCS FK. ADAT | I45: =IF('B-01-BII-01'!E2=E2,"",'B-01-BII-01'!E2)
B46: =COUNT(B$9:$B45)+1 -> 28 | C46: B-01-BII-02 | D46: Főkönyvi kivonat egyeztetés | E46: ='B-01-BII-02'!F3 -> 0 | F46: ='B-01-BII-02'!B2 -> 0 | G46: ='B-01-BII-02'!C2 -> 0 | H46: =IF('B-01-BII-02'!D2=D2,"",'B-01-BII-02'!D2) | I46: =IF('B-01-BII-02'!E2=E2,"",'B-01-BII-02'!E2)
B47: =COUNT(B$9:$B46)+1 -> 29 | C47: B-01-BII-10-01 | D47: Követelések | E47: ='B-01-BII-10-01'!G5 -> 0 | F47: ='B-01-BII-10-01'!B2 -> 0 | G47: ='B-01-BII-10-01'!C2 -> 0 | H47: =IF('B-01-BII-10-01'!D2=D2,"",'B-01-BII-10-01'!D2) | I47: =IF('B-01-BII-10-01'!E2=E2,"",'B-01-BII-10-01'!E2)
B48: =COUNT(B$9:$B47)+1 -> 30 | C48: B-01-BII-10-02 | D48: Egyéb követelések | E48: ='B-01-BII-10-02'!G5 -> 0 | F48: ='B-01-BII-10-02'!B2 -> 0 | G48: ='B-01-BII-10-02'!C2 -> 0 | H48: =IF('B-01-BII-10-02'!D2=D2,"",'B-01-BII-10-02'!D2) | I48: =IF('B-01-BII-10-02'!E2=E2,"",'B-01-BII-10-02'!E2)
A49: Értékpapírok
B50: =COUNT(B$9:$B49)+1 -> 31 | C50: B-01-BIII-01 | D50: Leltárösszesítő | E50: ='B-01-BIII-01'!D5 -> 0 | F50: ='B-01-BIII-01'!B2 -> 0 | G50: ='B-01-BIII-01'!C2 -> 0 | H50: =IF('B-01-BIII-01'!D2=D2,"",'B-01-BIII-01'!D2) -> NINCS FK. ADAT | I50: =IF('B-01-BIII-01'!E2=E2,"",'B-01-BIII-01'!E2)
B51: =COUNT(B$9:$B50)+1 -> 32 | C51: B-01-BIII-02 | D51: Főkönyvi kivonat egyeztetés | E51: ='B-01-BIII-02'!F3 -> 0 | F51: ='B-01-BIII-02'!B2 -> 0 | G51: ='B-01-BIII-02'!C2 -> 0 | H51: =IF('B-01-BIII-02'!D2=D2,"",'B-01-BIII-02'!D2) | I51: =IF('B-01-BIII-02'!E2=E2,"",'B-01-BIII-02'!E2)
B52: =COUNT(B$9:$B51)+1 -> 33 | C52: B-01-BIII-10-01 | D52: Értékpapírok (részesedések) | E52: ='B-01-BIII-10-01'!H5 -> 0 | F52: ='B-01-BIII-10-01'!B2 -> 0 | G52: ='B-01-BIII-10-01'!C2 -> 0 | H52: =IF('B-01-BIII-10-01'!D2=D2,"",'B-01-BIII-10-01'!D2) | I52: =IF('B-01-BIII-10-01'!E2=E2,"",'B-01-BIII-10-01'!E2)
B53: =COUNT(B$9:$B52)+1 -> 34 | C53: B-01-BIII-10-02 | D53: Forgatási célú hitelviszonyt megtestesítő értékpapír | E53: ='B-01-BIII-10-02'!G5 -> 0 | F53: ='B-01-BIII-10-02'!B2 -> 0 | G53: ='B-01-BIII-10-02'!C2 -> 0 | H53: =IF('B-01-BIII-10-02'!D2=D2,"",'B-01-BIII-10-02'!D2) | I53: =IF('B-01-BIII-10-02'!E2=E2,"",'B-01-BIII-10-02'!E2)
A54: Pénzeszközök
B55: =COUNT(B$9:$B54)+1 -> 35 | C55: B-01-BIV-01 | D55: Leltárösszesítő | E55: ='B-01-BIV-01'!D5 -> 0 | F55: ='B-01-BIV-01'!B2 -> 0 | G55: ='B-01-BIV-01'!C2 -> 0 | H55: =IF('B-01-BIV-01'!D2=D2,"",'B-01-BIV-01'!D2) -> NINCS FK. ADAT | I55: =IF('B-01-BIV-01'!E2=E2,"",'B-01-BIV-01'!E2)
B56: =COUNT(B$9:$B55)+1 -> 36 | C56: B-01-BIV-02 | D56: Főkönyvi kivonat egyeztetés | E56: ='B-01-BIV-02'!F3 -> 0 | F56: ='B-01-BIV-02'!B2 -> 0 | G56: ='B-01-BIV-02'!C2 -> 0 | H56: =IF('B-01-BIV-02'!D2=D2,"",'B-01-BIV-02'!D2) | I56: =IF('B-01-BIV-02'!E2=E2,"",'B-01-BIV-02'!E2)
B57: =COUNT(B$9:$B56)+1 -> 37 | C57: B-01-BIV-10-01 | D57: Pénzeszközök | E57: ='B-01-BIV-10-01'!G5 -> 0 | F57: ='B-01-BIV-10-01'!B2 -> 0 | G57: ='B-01-BIV-10-01'!C2 -> 0 | H57: =IF('B-01-BIV-10-01'!D2=D2,"",'B-01-BIV-10-01'!D2) | I57: =IF('B-01-BIV-10-01'!E2=E2,"",'B-01-BIV-10-01'!E2)
A58: Aktív időbeli elhatárolások
B59: =COUNT(B$9:$B58)+1 -> 38 | C59: B-01-C-01 | D59: Leltárösszesítő | E59: ='B-01-C-01'!D5 -> 0 | F59: ='B-01-C-01'!B2 -> 0 | G59: ='B-01-C-01'!C2 -> 0 | H59: =IF('B-01-C-01'!D2=D2,"",'B-01-C-01'!D2) -> NINCS FK. ADAT | I59: =IF('B-01-C-01'!E2=E2,"",'B-01-C-01'!E2)
B60: =COUNT(B$9:$B59)+1 -> 39 | C60: B-01-C-02 | D60: Főkönyvi kivonat egyeztetés | E60: ='B-01-C-02'!F3 -> 0 | F60: ='B-01-C-02'!B2 -> 0 | G60: ='B-01-C-02'!C2 -> 0 | H60: =IF('B-01-C-02'!D2=D2,"",'B-01-C-02'!D2) | I60: =IF('B-01-C-02'!E2=E2,"",'B-01-C-02'!E2)
B61: =COUNT(B$9:$B60)+1 -> 40 | C61: B-01-C-10-01 | D61: Aktív időbeli elhatárolások | E61: ='B-01-C-10-01'!G5 -> 0 | F61: ='B-01-C-10-01'!B2 -> 0 | G61: ='B-01-C-10-01'!C2 -> 0 | H61: =IF('B-01-C-10-01'!D2=D2,"",'B-01-C-10-01'!D2) | I61: =IF('B-01-C-10-01'!E2=E2,"",'B-01-C-10-01'!E2)
A62: Saját tőke
B63: =COUNT(B$9:$B62)+1 -> 41 | C63: B-01-D-01 | D63: Leltárösszesítő | E63: ='B-01-D-01'!D5 -> 0 | F63: ='B-01-D-01'!B2 -> 0 | G63: ='B-01-D-01'!C2 -> 0 | H63: =IF('B-01-D-01'!D2=D2,"",'B-01-D-01'!D2) -> NINCS FK. ADAT | I63: =IF('B-01-D-01'!E2=E2,"",'B-01-D-01'!E2)
B64: =COUNT(B$9:$B63)+1 -> 42 | C64: B-01-D-02 | D64: Főkönyvi kivonat egyeztetés | E64: ='B-01-D-02'!F3 -> 0 | F64: ='B-01-D-02'!B2 -> 0 | G64: ='B-01-D-02'!C2 -> 0 | H64: =IF('B-01-D-02'!D2=D2,"",'B-01-D-02'!D2) | I64: =IF('B-01-D-02'!E2=E2,"",'B-01-D-02'!E2)
B65: =COUNT(B$9:$B64)+1 -> 43 | C65: B-01-D-10-01 | D65: Saját tőke | E65: ='B-01-D-10-01'!E5 -> 0 | F65: ='B-01-D-10-01'!B2 -> 0 | G65: ='B-01-D-10-01'!C2 -> 0 | H65: =IF('B-01-D-10-01'!D2=D2,"",'B-01-D-10-01'!D2) | I65: =IF('B-01-D-10-01'!E2=E2,"",'B-01-D-10-01'!E2)
B66: =COUNT(B$9:$B65)+1 -> 44 | C66: B-01-D-10-02 | D66: Fejlesztési tartalék képzés-felhasználás | E66: ='B-01-D-10-02'!E4 -> 0 | F66: ='B-01-D-10-02'!B2 -> 0 | G66: ='B-01-D-10-02'!C2 -> 0 | H66: =IF('B-01-D-10-02'!D2=D2,"",'B-01-D-10-02'!D2) | I66: =IF('B-01-D-10-02'!E2=E2,"",'B-01-D-10-02'!E2)
B67: =COUNT(B$9:$B66)+1 -> 45 | C67: B-01-D-10-03 | D67: Osztalékfizetési korlát | E67: ='B-01-D-10-03'!E4 -> 0 | F67: ='B-01-D-10-03'!B2 -> 0 | G67: ='B-01-D-10-03'!C2 -> 0 | H67: =IF('B-01-D-10-03'!D2=D2,"",'B-01-D-10-03'!D2) | I67: =IF('B-01-D-10-03'!E2=E2,"",'B-01-D-10-03'!E2)
A68: Céltartalékok
B69: =COUNT(B$9:$B68)+1 -> 46 | C69: B-01-E-01 | D69: Leltár összesítő | E69: ='B-01-E-01'!D5 -> 0 | F69: ='B-01-E-01'!B2 -> 0 | G69: ='B-01-E-01'!C2 -> 0 | H69: =IF('B-01-E-01'!D2=D2,"",'B-01-E-01'!D2) -> NINCS FK. ADAT | I69: =IF('B-01-E-01'!E2=E2,"",'B-01-E-01'!E2)
B70: =COUNT(B$9:$B69)+1 -> 47 | C70: B-01-E-02 | D70: Főkönyvi kivonat egyeztetés | E70: ='B-01-E-02'!F3 -> 0 | F70: ='B-01-E-02'!B2 -> 0 | G70: ='B-01-E-02'!C2 -> 0 | H70: =IF('B-01-E-02'!D2=D2,"",'B-01-E-02'!D2) | I70: =IF('B-01-E-02'!E2=E2,"",'B-01-E-02'!E2)
B71: =COUNT(B$9:$B70)+1 -> 48 | C71: B-01-E-10-1 | D71: Céltartalékok részletezése | E71: ='B-01-E-10-1'!E4 -> 0 | F71: ='B-01-E-10-1'!B2 -> 0 | G71: ='B-01-E-10-1'!C2 -> 0 | H71: =IF('B-01-E-10-1'!D2=D2,"",'B-01-E-10-1'!D2) | I71: =IF('B-01-E-10-1'!E2=E2,"",'B-01-E-10-1'!E2)
A72: Hátrasorolt kötelezettségek
B73: =COUNT(B$9:$B72)+1 -> 49 | C73: B-01-FI-01 | D73: Leltárösszesítő | E73: ='B-01-FI-01'!D5 -> 0 | F73: ='B-01-FI-01'!B2 -> 0 | G73: ='B-01-FI-01'!C2 -> 0 | H73: =IF('B-01-FI-01'!D2=D2,"",'B-01-FI-01'!D2) -> NINCS FK. ADAT | I73: =IF('B-01-FI-01'!E2=E2,"",'B-01-FI-01'!E2)
B74: =COUNT(B$9:$B73)+1 -> 50 | C74: B-01-FI-02 | D74: Főkönyvi kivonat egyeztetés | E74: ='B-01-FI-02'!F3 -> 0 | F74: ='B-01-FI-02'!B2 -> 0 | G74: ='B-01-FI-02'!C2 -> 0 | H74: =IF('B-01-FI-02'!D2=D2,"",'B-01-FI-02'!D2) | I74: =IF('B-01-FI-02'!E2=E2,"",'B-01-FI-02'!E2)
B75: =COUNT(B$9:$B74)+1 -> 51 | C75: B-01-FI-10-1 | D75: Állományváltozás | E75: ='B-01-FI-10-1'!E4 -> 0 | F75: ='B-01-FI-10-1'!B2 -> 0 | G75: ='B-01-FI-10-1'!C2 -> 0 | H75: =IF('B-01-FI-10-1'!D2=D2,"",'B-01-FI-10-1'!D2) | I75: =IF('B-01-FI-10-1'!E2=E2,"",'B-01-FI-10-1'!E2)
A76: Hosszú lejáratú kötelezettségek
B77: =COUNT(B$9:$B76)+1 -> 52 | C77: B-01-FII-01 | D77: Leltárösszesítő | E77: ='B-01-FII-01'!D5 -> 0 | F77: ='B-01-FII-01'!B2 -> 0 | G77: ='B-01-FII-01'!C2 -> 0 | H77: =IF('B-01-FII-01'!D2=D2,"",'B-01-FII-01'!D2) -> NINCS FK. ADAT | I77: =IF('B-01-FII-01'!E2=E2,"",'B-01-FII-01'!E2)
B78: =COUNT(B$9:$B77)+1 -> 53 | C78: B-01-FII-02 | D78: Főkönyvi kivonat egyeztetés | E78: ='B-01-FII-02'!F3 -> 0 | F78: ='B-01-FII-02'!B2 -> 0 | G78: ='B-01-FII-02'!C2 -> 0 | H78: =IF('B-01-FII-02'!D2=D2,"",'B-01-FII-02'!D2) | I78: =IF('B-01-FII-02'!E2=E2,"",'B-01-FII-02'!E2)
B79: =COUNT(B$9:$B78)+1 -> 54 | C79: B-01-FII-02-01 | D79: Főkönyvi kivonat egyeztetés | E79: ='B-01-FII-02-01'!F3 -> 0 | F79: ='B-01-FII-02-01'!B2 -> 0 | G79: ='B-01-FII-02-01'!C2 -> 0 | H79: =IF('B-01-FII-02-01'!D2=D2,"",'B-01-FII-02-01'!D2)
B80: =COUNT(B$9:$B79)+1 -> 55 | C80: B-01-FII-10-1 | D80: Állományváltozás | E80: ='B-01-FII-10-1'!E4 -> 0 | F80: ='B-01-FII-10-1'!B2 -> 0 | G80: ='B-01-FII-10-1'!C2 -> 0 | H80: =IF('B-01-FII-10-1'!D2=D2,"",'B-01-FII-10-1'!D2) | I80: =IF('B-01-FII-10-1'!E2=E2,"",'B-01-FII-10-1'!E2)
B81: =COUNT(B$9:$B80)+1 -> 56 | C81: B-01-FII-10-2 | D81: Hosszú lejáratú kötelezettségek (kölcsön,hitel,pü.lízing) bem. | E81: ='B-01-FII-10-2'!F4 -> 0 | F81: ='B-01-FII-10-2'!B2 -> 0 | G81: ='B-01-FII-10-2'!C2 -> 0 | H81: =IF('B-01-FII-10-2'!D2=D2,"",'B-01-FII-10-2'!D2) | I81: =IF('B-01-FII-10-2'!E2=E2,"",'B-01-FII-10-2'!E2)
B82: =COUNT(B$9:$B81)+1 -> 57 | C82: B-01-FII-10-3 | D82: Hosszú lejáratú kötelezettségek (kötvények) bemutatása | E82: ='B-01-FII-10-3'!F4 -> 0 | F82: ='B-01-FII-10-3'!B2 -> 0 | G82: ='B-01-FII-10-3'!C2 -> 0 | H82: =IF('B-01-FII-10-3'!D2=D2,"",'B-01-FII-10-3'!D2) | I82: =IF('B-01-FII-10-3'!E2=E2,"",'B-01-FII-10-3'!E2)
A83: Rövid lejáratú kötelezettségek
B84: =COUNT(B$9:$B83)+1 -> 58 | C84: B-01-FIII-01 | D84: Leltárösszesítő | E84: ='B-01-FIII-01'!D5 -> 0 | F84: ='B-01-FIII-01'!B2 -> 0 | G84: ='B-01-FIII-01'!C2 -> 0 | H84: =IF('B-01-FIII-01'!D2=D2,"",'B-01-FIII-01'!D2) -> NINCS FK. ADAT | I84: =IF('B-01-FIII-01'!E2=E2,"",'B-01-FIII-01'!E2)
B85: =COUNT(B$9:$B84)+1 -> 59 | C85: B-01-FIII-02 | D85: Főkönyvi kivonat egyeztetés | E85: ='B-01-FIII-02'!F3 -> 0 | F85: ='B-01-FIII-02'!B2 -> 0 | G85: ='B-01-FIII-02'!C2 -> 0 | H85: =IF('B-01-FIII-02'!D2=D2,"",'B-01-FIII-02'!D2) | I85: =IF('B-01-FIII-02'!E2=E2,"",'B-01-FIII-02'!E2)
B86: =COUNT(B$9:$B85)+1 -> 60 | C86: B-01-FIII-10-1 | D86: Állományváltozás | E86: ='B-01-FIII-10-1'!E4 -> 0 | F86: ='B-01-FIII-10-1'!B2 -> 0 | G86: ='B-01-FIII-10-1'!C2 -> 0 | H86: =IF('B-01-FIII-10-1'!D2=D2,"",'B-01-FIII-10-1'!D2) | I86: =IF('B-01-FIII-10-1'!E2=E2,"",'B-01-FIII-10-1'!E2)
B87: =COUNT(B$9:$B86)+1 -> 61 | C87: B-01-FIII-10-2 | D87: Kölcsönök,hitelek részletezése | E87: ='B-01-FIII-10-2'!E4 -> 0 | F87: ='B-01-FIII-10-2'!B2 -> 0 | G87: ='B-01-FIII-10-2'!C2 -> 0 | H87: =IF('B-01-FIII-10-2'!D2=D2,"",'B-01-FIII-10-2'!D2) | I87: =IF('B-01-FIII-10-2'!E2=E2,"",'B-01-FIII-10-2'!E2)
B88: =COUNT(B$9:$B87)+1 -> 62 | C88: B-01-FIII-10-3 | D88: Kapott előlegek, váltók részletezése | E88: ='B-01-FIII-10-3'!E4 -> 0 | F88: ='B-01-FIII-10-3'!B2 -> 0 | G88: ='B-01-FIII-10-3'!C2 -> 0 | H88: =IF('B-01-FIII-10-3'!D2=D2,"",'B-01-FIII-10-3'!D2) | I88: =IF('B-01-FIII-10-3'!E2=E2,"",'B-01-FIII-10-3'!E2)
B89: =COUNT(B$9:$B88)+1 -> 63 | C89: B-01-FIII-10-4 | D89: Szállítók részletezése | E89: ='B-01-FIII-10-4'!D4 -> 0 | F89: ='B-01-FIII-10-4'!B2 -> 0 | G89: ='B-01-FIII-10-4'!C2 -> 0 | H89: =IF('B-01-FIII-10-4'!D2=D2,"",'B-01-FIII-10-4'!D2) | I89: =IF('B-01-FIII-10-4'!E2=E2,"",'B-01-FIII-10-4'!E2)
B90: =COUNT(B$9:$B89)+1 -> 64 | C90: B-01-FIII-10-5 | D90: Egyéb rövid lejáratú kötelezettségek részletezése | E90: ='B-01-FIII-10-5'!E4 -> 0 | F90: ='B-01-FIII-10-5'!B2 -> 0 | G90: ='B-01-FIII-10-5'!C2 -> 0 | H90: =IF('B-01-FIII-10-5'!D2=D2,"",'B-01-FIII-10-5'!D2) | I90: =IF('B-01-FIII-10-5'!E2=E2,"",'B-01-FIII-10-5'!E2)
B91: =COUNT(B$9:$B90)+1 -> 65 | C91: B-01-FIII-10-6 | D91: Adók, járulékok, jövedelemelszámolás fordulónapi egyeztetése | E91: ='B-01-FIII-10-6'!F4 -> 0 | F91: ='B-01-FIII-10-6'!B2 -> 0 | G91: ='B-01-FIII-10-6'!C2 -> 0 | H91: =IF('B-01-FIII-10-6'!D2=D2,"",'B-01-FIII-10-6'!D2) | I91: =IF('B-01-FIII-10-6'!E2=E2,"",'B-01-FIII-10-6'!E2)
B92: =COUNT(B$9:$B91)+1 -> 66 | C92: B-01-FIII-10-7 | D92: Kapcsolt ügyletek bemutatása Tao szerint | E92: ='B-01-FIII-10-7'!F4 -> 0 | F92: ='B-01-FIII-10-7'!B2 -> 0 | G92: ='B-01-FIII-10-7'!C2 -> 0 | H92: =IF('B-01-FIII-10-7'!D2=D2,"",'B-01-FIII-10-7'!D2) | I92: =IF('B-01-FIII-10-7'!E2=E2,"",'B-01-FIII-10-7'!E2)
A93: Passzív időbeli elhatárolások
B94: =COUNT(B$9:$B93)+1 -> 67 | C94: B-01-G-01 | D94: Leltárösszesítő | E94: ='B-01-G-01'!D5 -> 0 | F94: ='B-01-G-01'!B2 -> 0 | G94: ='B-01-G-01'!C2 -> 0 | H94: =IF('B-01-G-01'!D2=D2,"",'B-01-G-01'!D2) -> NINCS FK. ADAT | I94: =IF('B-01-G-01'!E2=E2,"",'B-01-G-01'!E2)
B95: =COUNT(B$9:$B94)+1 -> 68 | C95: B-01-G-02 | D95: Főkönyvi kivonat egyeztetés | E95: ='B-01-G-02'!F3 -> 0 | F95: ='B-01-G-02'!B2 -> 0 | G95: ='B-01-G-02'!C2 -> 0 | H95: =IF('B-01-G-02'!D2=D2,"",'B-01-G-02'!D2) | I95: =IF('B-01-G-02'!E2=E2,"",'B-01-G-02'!E2)
B96: =COUNT(B$9:$B95)+1 -> 69 | C96: B-01-G-10-01 | D96: Passzív időbeli elhatárolások | E96: ='B-01-G-10-01'!G5 -> 0 | F96: ='B-01-G-10-01'!B2 -> 0 | G96: ='B-01-G-10-01'!C2 -> 0 | H96: =IF('B-01-G-10-01'!D2=D2,"",'B-01-G-10-01'!D2) | I96: =IF('B-01-G-10-01'!E2=E2,"",'B-01-G-10-01'!E2)
A97: Eredménykimutatás
A98: Üzemi (üzleti) eredmény
B99: =COUNT(B$9:$B98)+1 -> 70 | C99: B-01-EK-ÖK | D99: Üzemi (üzleti) eredmény (összköltség) | E99: ='B-01-EK-ÖK'!G5 -> 0 | F99: =IF(Alapa!C31="Forgalmi költség eljárással","NEM LÉNYEGES",'B-01-EK-ÖK'!B2) -> 0 | G99: ='B-01-EK-ÖK'!C2 -> 0 | H99: =IF('B-01-EK-ÖK'!D2=D2,"",'B-01-EK-ÖK'!D2) -> NINCS FK. ADAT | I99: =IF('B-01-EK-ÖK'!E2=E2,"",'B-01-EK-ÖK'!E2)
B100: =COUNT(B$9:$B99)+1 -> 71 | C100: B-01-EK-ÖK-01 | D100: Főkönyvi kivonat egyeztetés | E100: ='B-01-EK-ÖK-01'!F3 -> 0 | F100: =IF(Alapa!C31="Forgalmi költség eljárással","NEM LÉNYEGES",'B-01-EK-ÖK-01'!B2) -> 0 | G100: ='B-01-EK-ÖK-01'!C2 -> 0 | H100: =IF('B-01-EK-ÖK-01'!D2=D2,"",'B-01-EK-ÖK-01'!D2) | I100: =IF('B-01-EK-ÖK-01'!E2=E2,"",'B-01-EK-ÖK-01'!E2)
B101: =COUNT(B$9:$B100)+1 -> 72 | C101: B-01-EK-FO | D101: Üzemi (üzleti) eredmény (forgalmi) | E101: ='B-01-EK-FO'!G5 -> 0 | F101: =IF(Alapa!C31="Összköltség eljárással","NEM LÉNYEGES",'B-01-EK-FO'!B2) -> 0 | G101: ='B-01-EK-FO'!C2 -> 0 | H101: =IF('B-01-EK-FO'!D2=D2,"",'B-01-EK-FO'!D2) -> NINCS FK. ADAT | I101: =IF('B-01-EK-FO'!E2=E2,"",'B-01-EK-FO'!E2)
B102: =COUNT(B$9:$B101)+1 -> 73 | C102: B-01-EK-FO-01 | D102: Főkönyvi kivonat egyeztetés | E102: ='B-01-EK-FO-01'!F3 -> 0 | F102: =IF(Alapa!C31="Összköltség eljárással","NEM LÉNYEGES",'B-01-EK-FO-01'!B2) -> 0 | G102: ='B-01-EK-FO-01'!C2 -> 0 | H102: =IF('B-01-EK-FO-01'!D2=D2,"",'B-01-EK-FO-01'!D2) | I102: =IF('B-01-EK-FO-01'!E2=E2,"",'B-01-EK-FO-01'!E2)
...

Sheet B-01-DEV
A1: B-01-DEV
D2: =M15 -> NINCS ADAT | E2: =M17 -> Ide írja a következtetés szövegét | L2: ◄◄ NEM SZERKESZTHETŐ SOR !!
E3: DEVIZA-VALUTA ÉRTÉKELÉSE | L3: Tartalom
A5: =Alapa!C17 -> 0 | E5: Dátum: | F5: =Alapa!C15 -> 0
A6: ="Fordulónap: "&Alapa!C12 -> Fordulónap: | E6: Készítette: | F6: =IFERROR(VLOOKUP(M6,Alapa!$K$2:$M$11,3),"") | H6: Ellenőrizte: | I6: =IF(Alapa!$M$2=0," ",Alapa!$M$2) | L6: Készítette: | M6: 2
A8: Deviza-valuta értékelés hatása az eredményre:
A10: B. | B10: Pénzügyi műveletek eredménye | E10: =IF(F10=0," NINCS HATÁS",IF(F10>0,"NYERESÉG:",IF(F10<0,"VESZTESÉG:"," "))) -> NINCS HATÁS | F10: =+SUMIF(C:C,"Összesen:",K:K)-(SUMIF(C:C,"Összesen:",J:J)*-1) -> 0 | G10: =IF(F10>0,"T Eszköz/Forrás",IF(F10<0,"K Eszköz/Forrás"," ")) | I10: =IF(F10>0,"K Pénzügyi műveletek egyéb bevételei",IF(F10<0,"T Pénzügyi műveletek egyéb ráfordításai"," "))
F12: CHF | G12: EUR | H12: GBP | I12: USD
A13: Fordulónapi árfolyamok: | C13: HUF / DEVIZA | E13: =Alapa!C12 -> 0
M14: Eredmény:
A15: Devizás analitika | K15: =IF(SUM(F51+F60)=0,"NINCS ADAT","") -> NINCS ADAT | M15: =K15 -> NINCS ADAT
J16: Adatok Ft-ban | M16: Következtetés:
A17: Főkönyvi szám | B17: Tétel megnevezése | C17: Tételazonosító | D17: Devizanem | E17: Könyv szerinti érték | H17: Mérlegfordulónapi érték | J17: Árfolyam különbözet | M17: Ide írja a következtetés szövegét
E18: Devizaösszeg | F18: Forint | G18: Árfolyam Ft / … | H18: Árfolyam Ft / … | I18: Forint | J18: Nyereség | K18: Veszteség
E19: Követelés "+" Kötelezettség " -"
G20: =IF(E20=0,0,ROUND(F20/E20,2)) -> 0 | H20: =SUMIF($F$12:$I$12,D20,$F$13:$I$13) -> 0 | I20: =H20*E20 -> 0 | J20: =IF(I20-F20>=0,I20-F20,"0") -> 0 | K20: =IF(I20-F20<0,I20-F20,"0") -> 0
G21: =IF(E21=0,0,ROUND(F21/E21,2)) -> 0 | H21: =SUMIF($F$12:$I$12,D21,$F$13:$I$13) -> 0 | I21: =H21*E21 -> 0 | J21: =IF(I21-F21>=0,I21-F21,"0") -> 0 | K21: =IF(I21-F21<0,I21-F21,"0") -> 0
G22: =IF(E22=0,0,ROUND(F22/E22,2)) -> 0 | H22: =SUMIF($F$12:$I$12,D22,$F$13:$I$13) -> 0 | I22: =H22*E22 -> 0 | J22: =IF(I22-F22>=0,I22-F22,"0") -> 0 | K22: =IF(I22-F22<0,I22-F22,"0") -> 0
G23: =IF(E23=0,0,ROUND(F23/E23,2)) -> 0 | H23: =SUMIF($F$12:$I$12,D23,$F$13:$I$13) -> 0 | I23: =H23*E23 -> 0 | J23: =IF(I23-F23>=0,I23-F23,"0") -> 0 | K23: =IF(I23-F23<0,I23-F23,"0") -> 0
G24: =IF(E24=0,0,ROUND(F24/E24,2)) -> 0 | H24: =SUMIF($F$12:$I$12,D24,$F$13:$I$13) -> 0 | I24: =H24*E24 -> 0 | J24: =IF(I24-F24>=0,I24-F24,"0") -> 0 | K24: =IF(I24-F24<0,I24-F24,"0") -> 0
G25: =IF(E25=0,0,ROUND(F25/E25,2)) -> 0 | H25: =SUMIF($F$12:$I$12,D25,$F$13:$I$13) -> 0 | I25: =H25*E25 -> 0 | J25: =IF(I25-F25>=0,I25-F25,"0") -> 0 | K25: =IF(I25-F25<0,I25-F25,"0") -> 0
G26: =IF(E26=0,0,ROUND(F26/E26,2)) -> 0 | H26: =SUMIF($F$12:$I$12,D26,$F$13:$I$13) -> 0 | I26: =H26*E26 -> 0 | J26: =IF(I26-F26>=0,I26-F26,"0") -> 0 | K26: =IF(I26-F26<0,I26-F26,"0") -> 0
G27: =IF(E27=0,0,ROUND(F27/E27,2)) -> 0 | H27: =SUMIF($F$12:$I$12,D27,$F$13:$I$13) -> 0 | I27: =H27*E27 -> 0 | J27: =IF(I27-F27>=0,I27-F27,"0") -> 0 | K27: =IF(I27-F27<0,I27-F27,"0") -> 0
G28: =IF(E28=0,0,ROUND(F28/E28,2)) -> 0 | H28: =SUMIF($F$12:$I$12,D28,$F$13:$I$13) -> 0 | I28: =H28*E28 -> 0 | J28: =IF(I28-F28>=0,I28-F28,"0") -> 0 | K28: =IF(I28-F28<0,I28-F28,"0") -> 0
G29: =IF(E29=0,0,ROUND(F29/E29,2)) -> 0 | H29: =SUMIF($F$12:$I$12,D29,$F$13:$I$13) -> 0 | I29: =H29*E29 -> 0 | J29: =IF(I29-F29>=0,I29-F29,"0") -> 0 | K29: =IF(I29-F29<0,I29-F29,"0") -> 0
G30: =IF(E30=0,0,ROUND(F30/E30,2)) -> 0 | H30: =SUMIF($F$12:$I$12,D30,$F$13:$I$13) -> 0 | I30: =H30*E30 -> 0 | J30: =IF(I30-F30>=0,I30-F30,"0") -> 0 | K30: =IF(I30-F30<0,I30-F30,"0") -> 0
G31: =IF(E31=0,0,ROUND(F31/E31,2)) -> 0 | H31: =SUMIF($F$12:$I$12,D31,$F$13:$I$13) -> 0 | I31: =H31*E31 -> 0 | J31: =IF(I31-F31>=0,I31-F31,"0") -> 0 | K31: =IF(I31-F31<0,I31-F31,"0") -> 0
... G50: =IF(E50=0,0,ROUND(F50/E50,2)) -> 0 | H50: =SUMIF($F$12:$I$12,D50,$F$13:$I$13) -> 0 | I50: =H50*E50 -> 0 | J50: =IF(I50-F50>=0,I50-F50,"0") -> 0 | K50: =IF(I50-F50<0,I50-F50,"0") -> 0
B51: Deviza számlák | C51: Összesen: | E51: =SUM(E19:E50) -> 0 | F51: =SUM(F19:F50) -> 0 | G51: =IF(E51=0,0,ROUND(F51/E51,2)) -> 0 | I51: =SUM(I19:I50) -> 0 | J51: =SUM(J19:J50) -> 0 | K51: =SUM(K19:K50) -> 0
A53: Valutapénztár analitika
A55: Főkönyvi szám | B55: Tétel megnevezése | C55: Tételazonosító | D55: Valutanem | E55: Könyv szerinti érték | H55: Mérleg fordulónapi érték | J55: Árfolyam különbözet
E56: Valutaösszeg | F56: Forint | G56: Árfolyam Ft / … | H56: Árfolyam Ft / … | I56: Forint | J56: Nyereség | K56: Veszteség
G57: =IF(E57=0,0,ROUND(F57/E57,2)) -> 0 | H57: =SUMIF($F$12:$I$12,D57,$F$13:$I$13) -> 0 | I57: =E57*H57 -> 0 | J57: =IF(I57-F57>=0,I57-F57,"0") -> 0 | K57: =IF(I57-F57<0,I57-F57,"0") -> 0
G58: =IF(E58=0,0,ROUND(F58/E58,2)) -> 0 | H58: =SUMIF($F$12:$I$12,D58,$F$13:$I$13) -> 0 | I58: =E58*H58 -> 0 | J58: =IF(I58-F58>=0,I58-F58,"0") -> 0 | K58: =IF(I58-F58<0,I58-F58,"0") -> 0
G59: =IF(E59=0,0,ROUND(F59/E59,2)) -> 0 | H59: =SUMIF($F$12:$I$12,D59,$F$13:$I$13) -> 0 | I59: =E59*H59 -> 0 | J59: =IF(I59-F59>=0,I59-F59,"0") -> 0 | K59: =IF(I59-F59<0,I59-F59,"0") -> 0
B60: Valutapénztár | C60: Összesen: | E60: =SUM(E57:E59) -> 0 | F60: =SUM(F56:F59) -> 0 | I60: =SUM(I57:I59) -> 0 | J60: =SUM(J57:J59) -> 0 | K60: =SUM(K57:K59) -> 0
L92: A tételsor Beszúrást mindig az összesítő sort megelőző sor fölé kell elvégezni.
L93: A tételsor Beszúrás után az új sorba be kell másolni a megelőző sor összefüggéseit.

Sheet B-01-MK
A1: B-01-MK
B2: =F67 -> 0 | D2: =H15 -> NINCS ADAT | E2: =H17 -> Ide írja a következtetés szövegét | G2: ◄◄ NEM SZERKESZTHETŐ SOR !!
C3: LELTÁRÖSSZESÍTŐ | G3: Tartalom
A4: A.0. Mérlegen kívüli tételek ( "0" számlaosztály)
A5: =Alapa!C17 -> 0 | C5: Dátum: | D5: =Alapa!C15 -> 0
A6: ="Fordulónap: "&Alapa!C12 -> Fordulónap: | C6: Készítette: | D6: =IFERROR(VLOOKUP(H6,Alapa!$K$2:$M$11,3),"") | E6: Ellenőrizte: | F6: =IF(Alapa!$M$2=0," ",Alapa!$M$2) | G6: Készítette: | H6: 2
F9: =IF(SUM(F39+F65)=0,"NINCS ADAT",IF(F67=0,"EGYEZIK","NEM EGYEZIK !")) -> NINCS ADAT
A10: Eszközök | F10: Adatok E Ft
A11: Főkönyvi szám | B11: Megnevezés | C11: Megjegyzés | D11: Aktivált érték | E11: Elszámolt ráfordítás | F11: Nyilvántartási érték
A13: A. BEFEKTETETT ESZKÖZÖK | D13: =D14+D17+D20 -> 0 | E13: =E14+E17+E20 -> 0 | F13: =F14+F17+F20 -> 0
A14: I. IMMATERIÁLIS JAVAK | D14: =SUM(D15:D16) -> 0 | E14: =SUM(E15:E16) -> 0 | F14: =SUM(F15:F16) -> 0 | H14: Eredmény:
F15: =D15-E15 -> 0 | H15: =F9 -> NINCS ADAT
F16: =D16-E16 -> 0 | H16: Következtetés:
A17: II. TÁRGYI ESZKÖZÖK | D17: =SUM(D18:D19) -> 0 | E17: =SUM(E18:E19) -> 0 | F17: =SUM(F18:F19) -> 0 | H17: Ide írja a következtetés szövegét
F18: =D18-E18 -> 0
F19: =D19-E19 -> 0
A20: III. BEFEKTETETT PÉNZÜGYI ESZKÖZÖK | D20: =SUM(D21:D22) -> 0 | E20: =SUM(E21:E22) -> 0 | F20: =SUM(F21:F22) -> 0
F21: =D21-E21 -> 0
F22: =D22-E22 -> 0
A23: B. FORGÓESZKÖZÖK | D23: =D24+D27+D30+D33 -> 0 | E23: =E24+E27+E30+E33 -> 0 | F23: =F24+F27+F30+F33 -> 0
A24: I. KÉSZLETEK | D24: =SUM(D25:D26) -> 0 | E24: =SUM(E25:E26) -> 0 | F24: =SUM(F25:F26) -> 0
F25: =D25-E25 -> 0
F26: =D26-E26 -> 0
A27: II. KÖVETELÉSEK | D27: =SUM(D28:D29) -> 0 | E27: =SUM(E28:E29) -> 0 | F27: =SUM(F28:F29) -> 0
F28: =D28-E28 -> 0
F29: =D29-E29 -> 0
A30: III. ÉRTÉKPAPÍROK | D30: =SUM(D31:D32) -> 0 | E30: =SUM(E31:E32) -> 0 | F30: =SUM(F31:F32) -> 0
F31: =D31-E31 -> 0
F32: =D32-E32 -> 0
A33: IV. PÉNZESZKÖZÖK | D33: =SUM(D34:D35) -> 0 | E33: =SUM(E34:E35) -> 0 | F33: =SUM(F34:F35) -> 0
F34: =D34-E34 -> 0
F35: =D35-E35 -> 0
A36: C. AKTÍV IDŐBELI ELHATÁROLÁSOK | D36: =SUM(D37:D38) -> 0 | E36: =SUM(E37:E38) -> 0 | F36: =SUM(F37:F38) -> 0
F37: =D37-E37 -> 0
F38: =D38-E38 -> 0
A39: ESZKÖZÖK ÖSSZESEN | D39: =D36+D23+D13 -> 0 | E39: =E36+E23+E13 -> 0 | F39: =F36+F23+F13 -> 0
A42: Források | F42: Ft
A43: Főkönyvi összesítő | B43: Megnevezés | C43: Megjegyzés | D43: Passzívált érték | E43: Elszámolt bevétel | F43: Nyilvántartási érték
A44: D. SAJÁT TŐKE | D44: =SUM(D45:D46) -> 0 | E44: =SUM(E45:E46) -> 0 | F44: =SUM(F45:F46) -> 0
F45: =D45-E45 -> 0
F46: =D46-E46 -> 0
A47: E. CÉLTARTALÉKOK | D47: =SUM(D48:D49) -> 0 | E47: =SUM(E48:E49) -> 0 | F47: =SUM(F48:F49) -> 0
F48: =D48-E48 -> 0
F49: =D49-E49 -> 0
A50: F. KÖTELEZETTSÉGEK | D50: =SUM(D51:D52) -> 0 | E50: =SUM(E51:E52) -> 0 | F50: =SUM(F51:F52) -> 0
F51: =D51-E51 -> 0
F52: =D52-E52 -> 0
A53: I. HÁTRASOROLT KÖTELEZETTSÉGEK | D53: =SUM(D54:D55) -> 0 | E53: =SUM(E54:E55) -> 0 | F53: =SUM(F54:F55) -> 0
F54: =D54-E54 -> 0
F55: =D55-E55 -> 0
A56: II. HOSSZÚ LEJÁRATÚ KÖTELEZETTSÉGEK | D56: =SUM(D57:D58) -> 0 | E56: =SUM(E57:E58) -> 0 | F56: =SUM(F57:F58) -> 0
F57: =D57-E57 -> 0
F58: =D58-E58 -> 0
A59: III. RÖVID LEJÁRATÚ KÖTELEZETTSÉGEK | D59: =SUM(D60:D61) -> 0 | E59: =SUM(E60:E61) -> 0 | F59: =SUM(F60:F61) -> 0
F60: =D60-E60 -> 0
F61: =D61-E61 -> 0
A62: G. PASSZÍV IDŐBELI ELHATÁROLÁSOK | D62: =SUM(D63:D64) -> 0 | E62: =SUM(E63:E64) -> 0 | F62: =SUM(F63:F64) -> 0
F63: =D63-E63 -> 0
F64: =D64-E64 -> 0
A65: FORRÁSOK ÖSSZESEN | D65: =D62+D50+D47+D44 -> 0 | E65: =E62+E50+E47+E44 -> 0 | F65: =F62+F50+F47+F44 -> 0
E67: Eltérés: | F67: =F65-F39 -> 0
A69: PÉLDÁK:
A70: Immateriális javak:
A71: Üzleti könyveken kívüli állomány:
B72: - 0-ra leírt eszközök bruttó értéke: | D72: ........... E Ft,
B73: - egyéb: | D73: ........... E Ft.
A75: Tárgyi eszközök
A76: Üzleti könyveken kívüli állomány:
B77: - 0-ra leírt eszközök bruttó értéke: | D77: ........... E Ft,
B78: - egyéb: | D78: ........... E Ft.
A80: Befektetett pénzügyi eszközök:
A81: Üzleti könyveken kívüli állomány:
B82: - 0-ra leírt állomány beszerzési értéke: | D82: ........... E Ft,
B83: - egyéb: | D83: ........... E Ft.
A85: Készletek:
A86: Üzleti könyveken kívüli állomány:
B87: - 0-ra leírt és még nyilvántartott készletek: | D87: ........... E Ft,
B88: - bizományosi készletek: | D88: ........... E Ft,
B89: - egyéb: | D89: ........... E Ft.
A91: Követelések:
A92: Üzleti könyveken kívüli állomány:
B93: - be nem folyt késedelmi kamat: | D93: ........... E Ft.
A95: Értékpapírok:
A96: Üzleti könyveken kívüli állomány:
B97: - 0-ra leírt állomány beszerzési értéke: | D97: ........... E Ft,
B98: - egyéb: | D98: ........... E Ft.
A100: Pénzeszközök:
A101: Üzleti könyveken kívüli állomány:
B102: - az állományból idegen pénz: | D102: ........... E Ft.
A104: Saját tőke:
A105: Üzleti könyveken kívüli állomány:
B106: - előkészített tőkeemelés: | D106: ........... E Ft,
B107: - előkészített tőkeleszállítás: | D107: ........... E Ft,
B108: - részvénykibocsátási kötelezettségek (dolgozói, …) | D108: ........... E Ft,
A110: Céltartalékok:
A111: Üzleti könyveken kívüli állomány:
B112: - felmondási időre: | D112: ............ E Ft,
B113: - ki nem vett szabadságra: | D113: ............ E Ft.
A116: Kötelezettségek:
A117: Üzleti könyveken kívüli állomány:
...

Sheet B-01-AI-01
A1: B-01-AI-01
B2: =C22 -> 0 | D2: =G15 -> NINCS FK. ADAT | E2: =G17 -> Ide írja a következtetés szövegét | F2: ◄◄ NEM SZERKESZTHETŐ SOR !!
B3: Leltárösszesítő | F3: Tartalom | G3: Tartalom
F4: B-01-AI-01 | G4: Leltár összesítő
A5: =Alapa!C17 -> 0 | C5: Dátum: | D5: =Alapa!C15 -> 0 | F5: B-01-AI-02 | G5: Főkönyvi kivonat egyeztetés
A6: ="Fordulónap: "&Alapa!C12 -> Fordulónap: | C6: Készítette: | D6: =IFERROR(VLOOKUP(G8,Alapa!$K$2:$M$11,3),"") | F6: B-01-AI-10-01 | G6: Immateriális javak (kivéve előlegek)
C7: Ellenőrizte: | D7: =IF(Alapa!$M$2=0," ",Alapa!$M$2) | F7: B-01-AI-10-02 | G7: Immateriális javakra adott előlegek
F8: Készítette: | G8: 2
A10: A.I. Immateriális javak | C10: =IF(D20=0,"NINCS FK. ADAT",IF(C20=0,"NINCS ANALITIKA",IF(C22=0,"EGYEZIK","NEM EGYEZIK !"))) -> NINCS FK. ADAT
C11: Ft-ban | D11: Ft-ban | E11: E Ft-ban
B12: Megnevezés | C12: Analitika | D12: Főkönyv | E12: Mérleg
A13: 1. | B13: Alapítás-átszervezés aktívált értéke | D13: =Import_M!H5 -> 0 | E13: =Import_M!F5 -> 0
A14: 2. | B14: Kísérleti fejlesztés aktívált értéke | D14: =Import_M!H6 -> 0 | E14: =Import_M!F6 -> 0 | G14: Eredmény:
A15: 3. | B15: Vagyoni értékű jogok | D15: =Import_M!H7 -> 0 | E15: =Import_M!F7 -> 0 | G15: =C10 -> NINCS FK. ADAT
A16: 4. | B16: Szellemi termékek | D16: =Import_M!H8 -> 0 | E16: =Import_M!F8 -> 0 | G16: Következtetés:
A17: 5. | B17: Üzleti vagy cégérték | D17: =Import_M!H9 -> 0 | E17: =Import_M!F9 -> 0 | G17: Ide írja a következtetés szövegét
A18: 6. | B18: Immateriális javakra adott előlegek | D18: =Import_M!H10 -> 0 | E18: =Import_M!F10 -> 0
A19: 7. | B19: Immateriális javak értékhelyesbítése | D19: =Import_M!H11 -> 0 | E19: =Import_M!F11 -> 0
B20: Összesen | C20: =ROUND(SUM(C13:C19),0) -> 0 | D20: =SUM(D13:D19) -> 0 | E20: =SUM(E13:E19) -> 0
B22: Eltérés: | C22: =C20-D20 -> 0
A25: Leltármellékletek:
A26: Főkönyvi egyeztetés
A27: A.I. Immateriális javak (kivéve előlegek)
A28: A.I.6. Immateriális javakra adott előlegek

Sheet B-01-AI-02
A1: B-01-AI-02 | C1: A.I. Immateriális javak
D2: =L15 -> Ide írja az egyeztetés / vizsgálat szöveges értékelését | E2: =L17 -> Ide írja a következtetés szövegét | K2: ◄◄ NEM SZERKESZTHETŐ SOR !!
A3: =Alapa!C17 -> 0 | E3: Dátum: | F3: =Alapa!C15 -> 0 | K3: Tartalom | L3: Tartalom
A4: ="Fordulónap: "&Alapa!C12 -> Fordulónap: | E4: Készítette: | F4: =IFERROR(VLOOKUP(L8,Alapa!$K$2:$M$11,3),"") | K4: B-01-AI-01 | L4: Leltár összesítő
E5: Ellenőrizte: | F5: =IF(Alapa!$M$2=0," ",Alapa!$M$2) | K5: B-01-AI-02 | L5: Főkönyvi kivonat egyeztetés
A6: Főkönyvi kivonat elemzés | G6: Kivételes nagyságú bevétel költség: | H6: =Tartalom!$F$112*Alapa!D33 -> 0 | K6: B-01-AI-10-01 | L6: Immateriális javak (kivéve előlegek)
A7: Mérlegértékek E Ft-ban | D7: =Alapa!C10 -> 0 | E7: =Alapa!C11 -> 0 | F7: Eltérés | G7: =Alapa!C11&"/"&Alapa!C10 -> / | K7: B-01-AI-10-02 | L7: Immateriális javakra adott előlegek
B8: Számlaegyenlegek Ft-ban | D8: E Ft ; Ft | E8: E Ft ; Ft | F8: E Ft ; Ft | G8: % | K8: Készítette: | L8: 2
F9: =IF(E9-D9=0," ",E9-D9) | G9: =IFERROR(E9/D9%," ")
F10: =IF(E10-D10=0," ",E10-D10) | G10: =IFERROR(E10/D10%," ")
F11: =IF(E11-D11=0," ",E11-D11) | G11: =IFERROR(E11/D11%," ")
F12: =IF(E12-D12=0," ",E12-D12) | G12: =IFERROR(E12/D12%," ")
F13: =IF(E13-D13=0," ",E13-D13) | G13: =IFERROR(E13/D13%," ")
F14: =IF(E14-D14=0," ",E14-D14) | G14: =IFERROR(E14/D14%," ") | L14: Eredmény:
F15: =IF(E15-D15=0," ",E15-D15) | G15: =IFERROR(E15/D15%," ") | L15: Ide írja az egyeztetés / vizsgálat szöveges értékelését
F16: =IF(E16-D16=0," ",E16-D16) | G16: =IFERROR(E16/D16%," ") | L16: Következtetés:
F17: =IF(E17-D17=0," ",E17-D17) | G17: =IFERROR(E17/D17%," ") | L17: Ide írja a következtetés szövegét
F18: =IF(E18-D18=0," ",E18-D18) | G18: =IFERROR(E18/D18%," ")
F19: =IF(E19-D19=0," ",E19-D19) | G19: =IFERROR(E19/D19%," ")
F20: =IF(E20-D20=0," ",E20-D20) | G20: =IFERROR(E20/D20%," ")
F21: =IF(E21-D21=0," ",E21-D21) | G21: =IFERROR(E21/D21%," ")
F22: =IF(E22-D22=0," ",E22-D22) | G22: =IFERROR(E22/D22%," ")
F23: =IF(E23-D23=0," ",E23-D23) | G23: =IFERROR(E23/D23%," ")
F24: =IF(E24-D24=0," ",E24-D24) | G24: =IFERROR(E24/D24%," ")
F25: =IF(E25-D25=0," ",E25-D25) | G25: =IFERROR(E25/D25%," ")
F26: =IF(E26-D26=0," ",E26-D26) | G26: =IFERROR(E26/D26%," ")
F27: =IF(E27-D27=0," ",E27-D27) | G27: =IFERROR(E27/D27%," ")
F28: =IF(E28-D28=0," ",E28-D28) | G28: =IFERROR(E28/D28%," ")
F29: =IF(E29-D29=0," ",E29-D29) | G29: =IFERROR(E29/D29%," ")
... F400: =IF(E400-D400=0," ",E400-D400) | G400: =IFERROR(E400/D400%," ")

Sheet B-01-AI-10-01
A1: B-01-AI-10-01
D2: =O15 -> Ide írja az egyeztetés / vizsgálat szöveges értékelését | E2: =O17 -> Ide írja a következtetés szövegét | N2: ◄◄ NEM SZERKESZTHETŐ SOR !!
G3: Leltár | N3: Tartalom | O3: Tartalom
A4: A.I. Immateriális javak (kivéve előlegek) | N4: B-01-AI-01 | O4: Leltár összesítő
A5: =Alapa!C17 -> 0 | H5: Dátum: | I5: =Alapa!C15 -> 0 | N5: B-01-AI-02 | O5: Főkönyvi kivonat egyeztetés
A6: ="Fordulónap: "&Alapa!C12 -> Fordulónap: | H6: Készítette: | I6: =IFERROR(VLOOKUP(O8,Alapa!$K$2:$M$11,3),"") | K6: Ellenőrizte: | L6: =IF(Alapa!$M$2=0," ",Alapa!$M$2) | N6: B-01-AI-10-01 | O6: Immateriális javak (kivéve előlegek)
N7: B-01-AI-10-02 | O7: Immateriális javakra adott előlegek
A8: Leltárfelvét típusa: | C8: EGYEZTETÉS | M8: Adatok Ft-ban | N8: Készítette: | O8: 2
A9: Sorszámszám | B9: Azonosító | C9: Megnevezés | D9: Mennyiség | E9: Aktiválás időpontja | F9: Bekerülési érték | G9: Terv szerinti é.cs. | H9: Terven felüli écs. * | I9: T.f.é.cs. Visszaírás * | J9: Nettó mérleg érték | K9: Értékhelyesbítés**
K10: Értékelés módszere | L10: Piaci érték | M10: Értékhelyesbítés
A11: 1. | J11: =F11-G11-H11+I11 -> 0 | M11: =IF(L11=0,0,L11-J11) -> 0
A12: 2. | J12: =F12-G12-H12+I12 -> 0 | M12: =IF(L12=0,0,L12-J12) -> 0
A13: 3. | J13: =F13-G13-H13+I13 -> 0 | M13: =IF(L13=0,0,L13-J13) -> 0
A14: 4. | J14: =F14-G14-H14+I14 -> 0 | M14: =IF(L14=0,0,L14-J14) -> 0 | O14: Eredmény:
A15: 5. | J15: =F15-G15-H15+I15 -> 0 | M15: =IF(L15=0,0,L15-J15) -> 0 | O15: Ide írja az egyeztetés / vizsgálat szöveges értékelését
A16: 6. | J16: =F16-G16-H16+I16 -> 0 | M16: =IF(L16=0,0,L16-J16) -> 0 | O16: Következtetés:
A17: 7. | J17: =F17-G17-H17+I17 -> 0 | M17: =IF(L17=0,0,L17-J17) -> 0 | O17: Ide írja a következtetés szövegét
A18: 8. | J18: =F18-G18-H18+I18 -> 0 | M18: =IF(L18=0,0,L18-J18) -> 0
A19: 9. | J19: =F19-G19-H19+I19 -> 0 | M19: =IF(L19=0,0,L19-J19) -> 0
A20: 10. | J20: =F20-G20-H20+I20 -> 0 | M20: =IF(L20=0,0,L20-J20) -> 0
A21: 11. | J21: =F21-G21-H21+I21 -> 0 | M21: =IF(L21=0,0,L21-J21) -> 0
A22: 12. | J22: =F22-G22-H22+I22 -> 0 | M22: =IF(L22=0,0,L22-J22) -> 0
A23: 13. | J23: =F23-G23-H23+I23 -> 0 | M23: =IF(L23=0,0,L23-J23) -> 0
A24: 14. | J24: =F24-G24-H24+I24 -> 0 | M24: =IF(L24=0,0,L24-J24) -> 0
A25: 15. | J25: =F25-G25-H25+I25 -> 0 | M25: =IF(L25=0,0,L25-J25) -> 0
A26: 16. | J26: =F26-G26-H26+I26 -> 0 | M26: =IF(L26=0,0,L26-J26) -> 0
A27: 17. | J27: =F27-G27-H27+I27 -> 0 | M27: =IF(L27=0,0,L27-J27) -> 0
A28: 18. | J28: =F28-G28-H28+I28 -> 0 | M28: =IF(L28=0,0,L28-J28) -> 0
A29: 19. | J29: =F29-G29-H29+I29 -> 0 | M29: =IF(L29=0,0,L29-J29) -> 0
A30: 20. | J30: =F30-G30-H30+I30 -> 0 | M30: =IF(L30=0,0,L30-J30) -> 0
A31: Összesen: | F31: =SUM(F11:F30) -> 0 | G31: =SUM(G11:G30) -> 0 | H31: =SUM(H11:H30) -> 0 | I31: =SUM(I11:I30) -> 0 | J31: =SUM(J11:J30) -> 0 | L31: =SUM(L11:L30) -> 0 | M31: =SUM(M11:M30) -> 0
H32: * Kivéve: Alapítás-átszervezés értéke | K32: ** Csak Szellemi termék és Vagyon értékű jog

Sheet B-01-AI-10-02
A1: B-01-AI-10-02
D2: =M15 -> Ide írja az egyeztetés / vizsgálat szöveges értékelését | E2: =M17 -> Ide írja a következtetés szövegét | L2: ◄◄ NEM SZERKESZTHETŐ SOR !!
E3: Leltár | L3: Tartalom | M3: Tartalom
A4: A.I.6. Immateriális javakra adott előlegek | L4: B-01-AI-01 | M4: Leltár összesítő
A5: =Alapa!C17 -> 0 | F5: Dátum: | G5: =Alapa!C15 -> 0 | L5: B-01-AI-02 | M5: Főkönyvi kivonat egyeztetés
A6: ="Fordulónap: "&Alapa!C12 -> Fordulónap: | F6: Készítette: | G6: =IFERROR(VLOOKUP(M8,Alapa!$K$2:$M$11,3),"") | I6: Ellenőrizte: | J6: =IF(Alapa!$M$2=0," ",Alapa!$M$2) | L6: B-01-AI-10-01 | M6: Immateriális javak (kivéve előlegek)
L7: B-01-AI-10-02 | M7: Immateriális javakra adott előlegek
L8: Készítette: | M8: 2
A9: Követelések korosítása
A10: Azonosító / Sorszám | B10: Vevő/Adós neve | C10: <30 nap | D10: 31-90 nap közötti | E10: 91-180 nap közötti | F10: 181-360 nap közötti | G10: >360 | H10: Könyvi érték | I10: Záró értékvesztés | J10: Mérleg érték
A11: 1. | H11: =SUM(C11:G11) -> 0 | J11: =H11-I11 -> 0
A12: 2. | H12: =SUM(C12:G12) -> 0 | J12: =H12-I12 -> 0
A13: 3. | H13: =SUM(C13:G13) -> 0 | J13: =H13-I13 -> 0
A14: 4. | H14: =SUM(C14:G14) -> 0 | J14: =H14-I14 -> 0 | M14: Eredmény:
A15: 5. | H15: =SUM(C15:G15) -> 0 | J15: =H15-I15 -> 0 | M15: Ide írja az egyeztetés / vizsgálat szöveges értékelését
B16: Összesen: | C16: =SUM(C11:C15) -> 0 | D16: =SUM(D11:D15) -> 0 | E16: =SUM(E11:E15) -> 0 | F16: =SUM(F11:F15) -> 0 | G16: =SUM(G11:G15) -> 0 | H16: =SUM(H11:H15) -> 0 | I16: =SUM(I11:I15) -> 0 | J16: =SUM(J11:J15) -> 0 | M16: Következtetés:
M17: Ide írja a következtetés szövegét
A18: Egyenlegközlés-Visszaigazolás egyeztetése
A19: Azonosító / Sorszám | B19: Vevő/Adós neve | C19: Követelés összege | D19: Visszaigazolt | E19: Eltérés | F19: Eltérésből vizsgálatig befolyt | G19: Fennmaradt eltérés | H19: Tisztázott eltérés | I19: Eltérés oka/Intézkedés* | J19: Tisztázatlan egyenleg | K19: Záró értékvesztés
A20: 1. | E20: =+D20-C20 -> 0 | G20: =+E20-F20 -> 0 | J20: =+G20-H20 -> 0
A21: 2. | E21: =+D21-C21 -> 0 | G21: =+E21-F21 -> 0 | J21: =+G21-H21 -> 0
A22: 3. | E22: =+D22-C22 -> 0 | G22: =+E22-F22 -> 0 | J22: =+G22-H22 -> 0
A23: 4. | E23: =+D23-C23 -> 0 | G23: =+E23-F23 -> 0 | J23: =+G23-H23 -> 0
A24: 5. | E24: =+D24-C24 -> 0 | G24: =+E24-F24 -> 0 | J24: =+G24-H24 -> 0
B25: Összesen: | C25: =SUM(C20:C24) -> 0 | D25: =SUM(D20:D24) -> 0 | E25: =SUM(E20:E24) -> 0 | F25: =SUM(F20:F24) -> 0 | G25: =SUM(G20:G24) -> 0 | H25: =SUM(H20:H24) -> 0 | J25: =SUM(J20:J24) -> 0 | K25: =SUM(K20:K24) -> 0
A26: *fizetési felszólítás; nem válaszolt; megszűnt; halasztás; fizetési meghagyás; perelt; jogerősen megítélt; csődvédelem; csődegyezség; végelszámolás; felszámolás; igazoltan megtérülő; egyéb.
A28: Értékvesztés nyilvántartása
A29: Azonosító / Sorszám | B29: Vevő/Adós neve | C29: Fordulónapon fennálló követelés | D29: Mk-ig befolyt | E29: Vitatott / Behajthatatlan | F29: Mk-kor fennálló | G29: Nyitó értékvesztés | H29: Tárgy évi megtérülés, kivezetés | I29: Tárgy évi Értékvesztés "+" Visszaírás"-" | J29: Záró értékvesztés | K29: Értékvesztés/ Mk-kor fennálló %
A30: 1. | F30: =C30-E30-D30 -> 0 | J30: =G30-H30+I30 -> 0 | K30: =IF(F30=0,0,IF(J30=0,0,IF(J30=0,0,J30/F30%))) -> 0
A31: 2. | F31: =C31-E31-D31 -> 0 | J31: =G31-H31+I31 -> 0 | K31: =IF(F31=0,0,IF(J31=0,0,IF(J31=0,0,J31/F31%))) -> 0
A32: 3. | F32: =C32-E32-D32 -> 0 | J32: =G32-H32+I32 -> 0 | K32: =IF(F32=0,0,IF(J32=0,0,IF(J32=0,0,J32/F32%))) -> 0
A33: 4. | F33: =C33-E33-D33 -> 0 | J33: =G33-H33+I33 -> 0 | K33: =IF(F33=0,0,IF(J33=0,0,IF(J33=0,0,J33/F33%))) -> 0
A34: 5. | F34: =C34-E34-D34 -> 0 | J34: =G34-H34+I34 -> 0 | K34: =IF(F34=0,0,IF(J34=0,0,IF(J34=0,0,J34/F34%))) -> 0
B35: Összesen: | C35: =SUM(C30:C34) -> 0 | D35: =SUM(D30:D34) -> 0 | E35: =SUM(E30:E34) -> 0 | F35: =SUM(F30:F34) -> 0 | G35: =SUM(G30:G34) -> 0 | H35: =SUM(H30:H34) -> 0 | I35: =SUM(I30:I34) -> 0 | J35: =SUM(J30:J34) -> 0 | K35: =IF(F35=0,0,IF(J35=0,0,IF(J35=0,0,J35/F35%))) -> 0

Sheet B-01-AII-01
A1: B-01-AII-01
B2: =C22 -> 0 | D2: =G15 -> NINCS FK. ADAT | E2: =G17 -> Ide írja a következtetés szövegét | F2: ◄◄ NEM SZERKESZTHETŐ SOR !!
B3: Leltárösszesítő | F3: Tartalom | G3: Tartalom
F4: B-01-AII-01 | G4: Leltárösszesítő
A5: =Alapa!C17 -> 0 | C5: Dátum: | D5: =Alapa!C15 -> 0 | F5: B-01-AII-02 | G5: Főkönyvi egyeztetés
A6: ="Fordulónap: "&Alapa!C12 -> Fordulónap: | C6: Készítette: | D6: =IFERROR(VLOOKUP(G9,Alapa!$K$2:$M$11,3),"") | F6: B-01-AII-10-01 | G6: Tárgyi eszközök (kivéve beruházások, felújítások, beruházásra adott előlegek)
C7: Ellenőrizte: | D7: =IF(Alapa!$M$2=0," ",Alapa!$M$2) | F7: B-01-AII-10-02 | G7: Beruházásokra adott előlegek
F8: B-01-AII-10-03 | G8: Beruházások, felújítások
F9: Készítette: | G9: 2
A10: A.II.Tárgyi eszközök | C10: =IF(D20=0,"NINCS FK. ADAT",IF(C20=0,"NINCS ANALITIKA",IF(C22=0,"EGYEZIK","NEM EGYEZIK !"))) -> NINCS FK. ADAT
C11: Ft-ban | D11: Ft-ban | E11: E Ft-ban
B12: Megnevezés | C12: Analitika | D12: Főkönyv | E12: Mérleg
A13: 1. | B13: Ingatlanok és a kapcsolódó vagyonértékű jogok | D13: =Import_M!H13 -> 0 | E13: =Import_M!F13 -> 0
A14: 2. | B14: Műszaki berendezések, gépek, járművek | D14: =Import_M!H14 -> 0 | E14: =Import_M!F14 -> 0 | G14: Eredmény:
A15: 3. | B15: Egyéb berendezések, felszerelések, járművek | D15: =Import_M!H15 -> 0 | E15: =Import_M!F15 -> 0 | G15: =C10 -> NINCS FK. ADAT
A16: 4. | B16: Tenyészállatok | D16: =Import_M!H16 -> 0 | E16: =Import_M!F16 -> 0 | G16: Következtetés:
A17: 5. | B17: Beruházások, felújítások | D17: =Import_M!H17 -> 0 | E17: =Import_M!F17 -> 0 | G17: Ide írja a következtetés szövegét
A18: 6. | B18: Beruházásokra adott előleg | D18: =Import_M!H18 -> 0 | E18: =Import_M!F18 -> 0
A19: 7. | B19: Tárgyi eszközök értékhelyesbítése | D19: =Import_M!H19 -> 0 | E19: =Import_M!F19 -> 0
B20: Összesen | C20: =ROUND(SUM(C13:C19),0) -> 0 | D20: =SUM(D13:D19) -> 0 | E20: =SUM(E13:E19) -> 0
B22: Eltérés: | C22: =C20-D20 -> 0
A25: Leltármellékletek:
A26: Főkönyvi egyeztetés
A27: A.II. Tárgyi eszközök (kivéve beruházások, felújítások, beruházásra adott előlegek)
A28: A.II.6. Beruházásokra adott előlegek
A29: A.II.5. Beruházások, felujítások

Sheet B-01-AII-02
A1: B-01-AII-02 | C1: A.II.Tárgyi eszközök
D2: =L15 -> Ide írja az egyeztetés / vizsgálat szöveges értékelését | E2: =L17 -> Ide írja a következtetés szövegét | K2: ◄◄ NEM SZERKESZTHETŐ SOR !!
A3: =Alapa!C17 -> 0 | E3: Dátum: | F3: =Alapa!C15 -> 0 | K3: Tartalom | L3: Tartalom
A4: ="Fordulónap: "&Alapa!C12 -> Fordulónap: | E4: Készítette: | F4: =IFERROR(VLOOKUP(L9,Alapa!$K$2:$M$11,3),"") | K4: B-01-AII-01 | L4: Leltárösszesítő
E5: Ellenőrizte: | F5: =IF(Alapa!$M$2=0," ",Alapa!$M$2) | K5: B-01-AII-02 | L5: Főkönyvi egyeztetés
A6: Főkönyvi kivonat elemzése | G6: Kivételes nagyságú bevétel költség: | H6: =Tartalom!$F$112*Alapa!D33 -> 0 | K6: B-01-AII-10-01 | L6: Tárgyi eszközök (kivéve beruházások, felújítások, beruházásra adott előlegek)
A7: Mérlegértékek E Ft-ban | D7: =Alapa!C10 -> 0 | E7: =Alapa!C11 -> 0 | F7: Eltérés | G7: / | K7: B-01-AII-10-02 | L7: Beruházásokra adott előlegek
B8: Számlaegyenlegek Ft-ban | D8: E Ft ; Ft | E8: E Ft ; Ft | F8: E Ft ; Ft | G8: % | K8: B-01-AII-10-03 | L8: Beruházások, felújítások
F9: =IF(E9-D9=0," ",E9-D9) | G9: =IFERROR(E9/D9%," ") | K9: Készítette: | L9: 2
F10: =IF(E10-D10=0," ",E10-D10) | G10: =IFERROR(E10/D10%," ")
F11: =IF(E11-D11=0," ",E11-D11) | G11: =IFERROR(E11/D11%," ")
F12: =IF(E12-D12=0," ",E12-D12) | G12: =IFERROR(E12/D12%," ")
F13: =IF(E13-D13=0," ",E13-D13) | G13: =IFERROR(E13/D13%," ")
F14: =IF(E14-D14=0," ",E14-D14) | G14: =IFERROR(E14/D14%," ") | L14: Eredmény:
F15: =IF(E15-D15=0," ",E15-D15) | G15: =IFERROR(E15/D15%," ") | L15: Ide írja az egyeztetés / vizsgálat szöveges értékelését
F16: =IF(E16-D16=0," ",E16-D16) | G16: =IFERROR(E16/D16%," ") | L16: Következtetés:
F17: =IF(E17-D17=0," ",E17-D17) | G17: =IFERROR(E17/D17%," ") | L17: Ide írja a következtetés szövegét
F18: =IF(E18-D18=0," ",E18-D18) | G18: =IFERROR(E18/D18%," ")
F19: =IF(E19-D19=0," ",E19-D19) | G19: =IFERROR(E19/D19%," ")
F20: =IF(E20-D20=0," ",E20-D20) | G20: =IFERROR(E20/D20%," ")
F21: =IF(E21-D21=0," ",E21-D21) | G21: =IFERROR(E21/D21%," ")
F22: =IF(E22-D22=0," ",E22-D22) | G22: =IFERROR(E22/D22%," ")
F23: =IF(E23-D23=0," ",E23-D23) | G23: =IFERROR(E23/D23%," ")
F24: =IF(E24-D24=0," ",E24-D24) | G24: =IFERROR(E24/D24%," ")
F25: =IF(E25-D25=0," ",E25-D25) | G25: =IFERROR(E25/D25%," ")
F26: =IF(E26-D26=0," ",E26-D26) | G26: =IFERROR(E26/D26%," ")
F27: =IF(E27-D27=0," ",E27-D27) | G27: =IFERROR(E27/D27%," ")
F28: =IF(E28-D28=0," ",E28-D28) | G28: =IFERROR(E28/D28%," ")
F29: =IF(E29-D29=0," ",E29-D29) | G29: =IFERROR(E29/D29%," ")
... F400: =IF(E400-D400=0," ",E400-D400) | G400: =IFERROR(E400/D400%," ")

Sheet B-01-AII-10-01
A1: B-01-AII-10-01
D2: =O15 -> Ide írja az egyeztetés / vizsgálat szöveges értékelését | E2: =O17 -> Ide írja a következtetés szövegét | N2: ◄◄ NEM SZERKESZTHETŐ SOR !!
G3: Leltár | N3: Tartalom | O3: Tartalom
A4: A.II. Tárgyi eszközök (kivéve beruházások, felújítások, beruházásra adott előlegek) | N4: B-01-AII-01 | O4: Leltárösszesítő
A5: =Alapa!C17 -> 0 | H5: Dátum: | I5: =Alapa!C15 -> 0 | N5: B-01-AII-02 | O5: Főkönyvi egyeztetés
A6: ="Fordulónap: "&Alapa!C12 -> Fordulónap: | H6: Készítette: | I6: =IFERROR(VLOOKUP(O9,Alapa!$K$2:$M$11,3),"") | K6: Ellenőrizte: | L6: =IF(Alapa!$M$2=0," ",Alapa!$M$2) | N6: B-01-AII-10-01 | O6: Tárgyi eszközök (kivéve beruházások, felújítások, beruházásra adott előlegek)
N7: B-01-AII-10-02 | O7: Beruházásokra adott előlegek
A8: Leltárfelvét típusa: | C8: EGYEZTETÉS / MENNYISÉGI FELVÉTEL (három évente kötelező) | M8: Adatok Ft-ban | N8: B-01-AII-10-03 | O8: Beruházások, felújítások
A9: Sorszámszám | B9: Azonosító | C9: Megnevezés | D9: Mennyiség | E9: Aktiválás időpontja | F9: Bekerülési érték | G9: Terv szerinti é.cs. | H9: Terven felüli écs. | I9: T.f.é.cs. visszaírás | J9: Nettó mérleg érték | K9: Értékhelyesbítés | N9: Készítette: | O9: 2
K10: Értékelés módszere | L10: Piaci érték | M10: Értékhelyesbítés
A11: 1. | J11: =F11-G11-H11+I11 -> 0 | M11: =IF(L11=0,0,L11-J11) -> 0
A12: 2. | J12: =F12-G12-H12+I12 -> 0 | M12: =IF(L12=0,0,L12-J12) -> 0
A13: 3. | J13: =F13-G13-H13+I13 -> 0 | M13: =IF(L13=0,0,L13-J13) -> 0
A14: 4. | J14: =F14-G14-H14+I14 -> 0 | M14: =IF(L14=0,0,L14-J14) -> 0 | O14: Eredmény:
A15: 5. | J15: =F15-G15-H15+I15 -> 0 | M15: =IF(L15=0,0,L15-J15) -> 0 | O15: Ide írja az egyeztetés / vizsgálat szöveges értékelését
A16: 6. | J16: =F16-G16-H16+I16 -> 0 | M16: =IF(L16=0,0,L16-J16) -> 0 | O16: Következtetés:
A17: 7. | J17: =F17-G17-H17+I17 -> 0 | M17: =IF(L17=0,0,L17-J17) -> 0 | O17: Ide írja a következtetés szövegét
A18: 8. | J18: =F18-G18-H18+I18 -> 0 | M18: =IF(L18=0,0,L18-J18) -> 0
A19: 9. | J19: =F19-G19-H19+I19 -> 0 | M19: =IF(L19=0,0,L19-J19) -> 0
A20: 10. | J20: =F20-G20-H20+I20 -> 0 | M20: =IF(L20=0,0,L20-J20) -> 0
A21: 11. | J21: =F21-G21-H21+I21 -> 0 | M21: =IF(L21=0,0,L21-J21) -> 0
A22: 12. | J22: =F22-G22-H22+I22 -> 0 | M22: =IF(L22=0,0,L22-J22) -> 0
A23: 13. | J23: =F23-G23-H23+I23 -> 0 | M23: =IF(L23=0,0,L23-J23) -> 0
A24: 14. | J24: =F24-G24-H24+I24 -> 0 | M24: =IF(L24=0,0,L24-J24) -> 0
A25: 15. | J25: =F25-G25-H25+I25 -> 0 | M25: =IF(L25=0,0,L25-J25) -> 0
A26: 16. | J26: =F26-G26-H26+I26 -> 0 | M26: =IF(L26=0,0,L26-J26) -> 0
A27: 17. | J27: =F27-G27-H27+I27 -> 0 | M27: =IF(L27=0,0,L27-J27) -> 0
A28: 18. | J28: =F28-G28-H28+I28 -> 0 | M28: =IF(L28=0,0,L28-J28) -> 0
A29: 19. | J29: =F29-G29-H29+I29 -> 0 | M29: =IF(L29=0,0,L29-J29) -> 0
A30: 20. | J30: =F30-G30-H30+I30 -> 0 | M30: =IF(L30=0,0,L30-J30) -> 0
A31: Összesen: | F31: =SUM(F11:F30) -> 0 | G31: =SUM(G11:G30) -> 0 | H31: =SUM(H11:H30) -> 0 | I31: =SUM(I11:I30) -> 0 | J31: =SUM(J11:J30) -> 0 | L31: =SUM(L11:L30) -> 0 | M31: =SUM(M11:M30) -> 0

Sheet B-01-AII-10-02
A1: B-01-AII-10-02
D2: =M15 -> Ide írja az egyeztetés / vizsgálat szöveges értékelését | E2: =M17 -> Ide írja a következtetés szövegét | L2: ◄◄ NEM SZERKESZTHETŐ SOR !!
E3: Leltár | L3: Tartalom | M3: Tartalom
A4: A.II.6. Beruházásokra adott előlegek | L4: B-01-AII-01 | M4: Leltárösszesítő
A5: =Alapa!C17 -> 0 | F5: Dátum: | G5: =Alapa!C15 -> 0 | L5: B-01-AII-02 | M5: Főkönyvi egyeztetés
A6: ="Fordulónap: "&Alapa!C12 -> Fordulónap: | F6: Készítette: | G6: =IFERROR(VLOOKUP(M9,Alapa!$K$2:$M$11,3),"") | I6: Ellenőrizte: | J6: =IF(Alapa!$M$2=0," ",Alapa!$M$2) | L6: B-01-AII-10-01 | M6: Tárgyi eszközök (kivéve beruházások, felújítások, beruházásra adott előlegek)
L7: B-01-AII-10-02 | M7: Beruházásokra adott előlegek
A8: Követelések korosítása | L8: B-01-AII-10-03 | M8: Beruházások, felújítások
A9: Azonosító / Sorszám | B9: Vevő/Adós neve | C9: <30 nap | D9: 31-90 nap közötti | E9: 91-180 nap közötti | F9: 181-360 nap közötti | G9: >360 | H9: Könyvi érték | I9: Záró értékvesztés | J9: Mérleg érték | L9: Készítette: | M9: 2
A10: 1. | H10: =SUM(C10:G10) -> 0 | J10: =H10-I10 -> 0
A11: 2. | H11: =SUM(C11:G11) -> 0 | J11: =H11-I11 -> 0
A12: 3. | H12: =SUM(C12:G12) -> 0 | J12: =H12-I12 -> 0
A13: 4. | H13: =SUM(C13:G13) -> 0 | J13: =H13-I13 -> 0
A14: 5. | H14: =SUM(C14:G14) -> 0 | J14: =H14-I14 -> 0 | M14: Eredmény:
B15: Összesen: | C15: =SUM(C10:C14) -> 0 | D15: =SUM(D10:D14) -> 0 | E15: =SUM(E10:E14) -> 0 | F15: =SUM(F10:F14) -> 0 | G15: =SUM(G10:G14) -> 0 | H15: =SUM(H10:H14) -> 0 | I15: =SUM(I10:I14) -> 0 | J15: =SUM(J10:J14) -> 0 | M15: Ide írja az egyeztetés / vizsgálat szöveges értékelését
M16: Következtetés:
A17: Egyenlegközlés-Visszaigazolás egyeztetése | M17: Ide írja a következtetés szövegét
A18: Azonosító / Sorszám | B18: Vevő/Adós neve | C18: Követelés összege | D18: Visszaigazolt | E18: Eltérés | F18: Eltérésből vizsgálatig befolyt | G18: Fennmaradt eltérés | H18: Tisztázott eltérés | I18: Eltérés oka/Intézkedés* | J18: Tisztázatlan egyenleg | K18: Záró értékvesztés
A19: 1. | E19: =+D19-C19 -> 0 | G19: =+E19-F19 -> 0 | J19: =+G19-H19 -> 0
A20: 2. | E20: =+D20-C20 -> 0 | G20: =+E20-F20 -> 0 | J20: =+G20-H20 -> 0
A21: 3. | E21: =+D21-C21 -> 0 | G21: =+E21-F21 -> 0 | J21: =+G21-H21 -> 0
A22: 4. | E22: =+D22-C22 -> 0 | G22: =+E22-F22 -> 0 | J22: =+G22-H22 -> 0
A23: 5. | E23: =+D23-C23 -> 0 | G23: =+E23-F23 -> 0 | J23: =+G23-H23 -> 0
B24: Összesen: | C24: =SUM(C19:C23) -> 0 | D24: =SUM(D19:D23) -> 0 | E24: =SUM(E19:E23) -> 0 | F24: =SUM(F19:F23) -> 0 | G24: =SUM(G19:G23) -> 0 | H24: =SUM(H19:H23) -> 0 | J24: =SUM(J19:J23) -> 0 | K24: =SUM(K19:K23) -> 0
A25: *fizetési felszólítás; nem válaszolt; megszűnt; haladék; fizetési meghagyás; perelt; jogerősen megítélt; csődvédelem; csődegyezség; végelszámolás; felszámolás; igazoltan megtérülő; egyéb.
A26: Értékvesztés nyilvántartása
A27: Azonosító / Sorszám | B27: Vevő/Adós neve | C27: Fordulónapon fennálló követelés | D27: Mk-ig befolyt | E27: Vitatott / Behajthatatlan | F27: Mk-kor fennálló | G27: Nyitó értékvesztés | H27: Tárgy évi megtérülés, kivezetés | I27: Tárgy évi Értékvesztés "+" Visszaírás"-" | J27: Záró értékvesztés | K27: Értékvesztés/ Mk-kor fennálló %
A28: 1. | F28: =C28-E28-D28 -> 0 | J28: =G28-H28+I28 -> 0 | K28: =IF(F28=0,0,IF(J28=0,0,IF(J28=0,0,J28/F28%))) -> 0
A29: 2. | F29: =C29-E29-D29 -> 0 | J29: =G29-H29+I29 -> 0 | K29: =IF(F29=0,0,IF(J29=0,0,IF(J29=0,0,J29/F29%))) -> 0
A30: 3. | F30: =C30-E30-D30 -> 0 | J30: =G30-H30+I30 -> 0 | K30: =IF(F30=0,0,IF(J30=0,0,IF(J30=0,0,J30/F30%))) -> 0
A31: 4. | F31: =C31-E31-D31 -> 0 | J31: =G31-H31+I31 -> 0 | K31: =IF(F31=0,0,IF(J31=0,0,IF(J31=0,0,J31/F31%))) -> 0
A32: 5. | F32: =C32-E32-D32 -> 0 | J32: =G32-H32+I32 -> 0 | K32: =IF(F32=0,0,IF(J32=0,0,IF(J32=0,0,J32/F32%))) -> 0
B33: Összesen: | C33: =SUM(C28:C32) -> 0 | D33: =SUM(D28:D32) -> 0 | E33: =SUM(E28:E32) -> 0 | F33: =SUM(F28:F32) -> 0 | G33: =SUM(G28:G32) -> 0 | H33: =SUM(H28:H32) -> 0 | I33: =SUM(I28:I32) -> 0 | J33: =SUM(J28:J32) -> 0 | K33: =IF(F33=0,0,IF(J33=0,0,IF(J33=0,0,J33/F33%))) -> 0

Sheet B-01-AII-10-03
A1: B-01-AII-10-03
D2: =H15 -> Ide írja az egyeztetés / vizsgálat szöveges értékelését | E2: =H17 -> Ide írja a következtetés szövegét | G2: ◄◄ NEM SZERKESZTHETŐ SOR !!
C3: Leltár | G3: Tartalom | H3: Tartalom
A4: A.II.5. Beruházások, felújítások | G4: B-01-AII-01 | H4: Leltárösszesítő
A5: =Alapa!C17 -> 0 | D5: Dátum: | E5: =Alapa!C15 -> 0 | G5: B-01-AII-02 | H5: Főkönyvi egyeztetés
A6: ="Fordulónap: "&Alapa!C12 -> Fordulónap: | D6: Készítette: | E6: =IFERROR(VLOOKUP(H9,Alapa!$K$2:$M$11,3),"") | G6: B-01-AII-10-01 | H6: Tárgyi eszközök (kivéve beruházások, felújítások, beruházásra adott előlegek)
D7: Ellenőrizte: | E7: =IF(Alapa!$M$2=0," ",Alapa!$M$2) | G7: B-01-AII-10-02 | H7: Beruházásokra adott előlegek
G8: B-01-AII-10-03 | H8: Beruházások, felújítások
A9: Leltározás módja: | C9: EGYEZTETÉS | F9: Adatok Ft-ban | G9: Készítette: | H9: 2
A10: Főkönyvi szám | B10: Szállító neve | C10: Termék / Szolgáltatás | D10: Bizonylat száma | E10: Termék / Szolgáltatás | F10: Vételár (le nem vonható ÁFA-val)
H14: Eredmény:
H15: Ide írja az egyeztetés / vizsgálat szöveges értékelését
H16: Következtetés:
H17: Ide írja a következtetés szövegét
A31: Összesen | F31: =SUM(F11:F30) -> 0

Sheet B-01-AIII-01
A1: B-01-AIII-01
B2: =C25 -> 0 | D2: =G15 -> NINCS FK. ADAT | E2: =G17 -> Ide írja a következtetés szövegét | F2: ◄◄ NEM SZERKESZTHETŐ SOR !!
B3: Leltárösszesítő | F3: Tartalom | G3: Tartalom
F4: B-01-AIII-01 | G4: Leltárösszesítő
A5: =Alapa!C17 -> 0 | C5: Dátum: | D5: =Alapa!C15 -> 0 | F5: B-01-AIII-02 | G5: Főkönyvi kivonat egyeztetés
A6: ="Fordulónap: "&Alapa!C12 -> Fordulónap: | C6: Készítette: | D6: =IFERROR(VLOOKUP(G9,Alapa!$K$2:$M$11,3),"") | F6: B-01-AIII-10-01 | G6: Befektetett pénzügyi eszközök, Tartós részesedések
C7: Ellenőrizte: | D7: =IF(Alapa!$M$2=0," ",Alapa!$M$2) | F7: B-01-AIII-10-02 | G7: Tartósan adott kölcsönök
F8: B-01-AIII-10-03 | G8: Tartós hitelviszonyt megtestesítő értékpapír
F9: Készítette: | G9: 2
A10: A.III.Befektetett pénzügyi eszközök | C10: =IF(D23=0,"NINCS FK. ADAT",IF(C23=0,"NINCS ANALITIKA",IF(C25=0,"EGYEZIK","NEM EGYEZIK !"))) -> NINCS FK. ADAT
C11: Ft-ban | D11: Ft-ban | E11: E Ft-ban
B12: Megnevezés | C12: Analitika | D12: Főkönyv | E12: Mérleg
A13: 1. | B13: Tartós részesedés kapcsolt vállalkozásban | D13: =Import_M!H21 -> 0 | E13: =Import_M!F21 -> 0
A14: 2. | B14: Tartósan adott kölcsön kapcsolt vállalkozásban | D14: =Import_M!H22 -> 0 | E14: =Import_M!F22 -> 0 | G14: Eredmény:
A15: 3. | B15: Tartós jelentős tulajdoni részesedés | D15: =Import_M!H23 -> 0 | E15: =Import_M!F23 -> 0 | G15: =C10 -> NINCS FK. ADAT
A16: 4. | B16: Tartósan adott kölcsön jel. tul. rész. visz. álló vállalkozásban | D16: =Import_M!H24 -> 0 | E16: =Import_M!F24 -> 0 | G16: Következtetés:
A17: 5. | B17: Egyéb tartós részesedés | D17: =Import_M!H25 -> 0 | E17: =Import_M!F25 -> 0 | G17: Ide írja a következtetés szövegét
A18: 6. | B18: Tartósan adott kölcsön egyéb rész. visz. álló vállalkozásban | D18: =Import_M!H26 -> 0 | E18: =Import_M!F26 -> 0
A19: 7. | B19: Egyéb tartósan adott kölcsön | D19: =Import_M!H27 -> 0 | E19: =Import_M!F27 -> 0
A20: 8. | B20: Tartós hitelviszonyt megtestesítő értékpapír | D20: =Import_M!H28 -> 0 | E20: =Import_M!F28 -> 0
A21: 9. | B21: Befektetett pénzügyi eszközök értékhelyesbítése | D21: =Import_M!H29 -> 0 | E21: =Import_M!F29 -> 0
A22: 10. | B22: Befektetett pénzügyi eszközök értékelési különbözete | D22: =Import_M!H30 -> 0 | E22: =Import_M!F30 -> 0
B23: Összesen | C23: =ROUND(SUM(C13:C22),0) -> 0 | D23: =SUM(D13:D22) -> 0 | E23: =SUM(E13:E22) -> 0
B25: Eltérés: | C25: =C23-D23 -> 0
A28: Leltármellékletek:
A29: Főkönyvi egyeztetés
A30: A.III.1.,3. Tartós részesedések
A31: A.III. 2.,4.,5. Tartósan adott kölcsönök
A32: A.III.6. Tartós hitelviszonyt megtestesítő értékpapír

Sheet B-01-AIII-02
A1: B-01-AIII-02 | C1: A.III.Befektetett pénzügyi eszközök
D2: =L15 -> Ide írja az egyeztetés / vizsgálat szöveges értékelését | E2: =L17 -> Ide írja a következtetés szövegét | K2: ◄◄ NEM SZERKESZTHETŐ SOR !!
A3: =Alapa!C17 -> 0 | E3: Dátum: | F3: =Alapa!C15 -> 0 | K3: Tartalom | L3: Tartalom
A4: ="Fordulónap: "&Alapa!C12 -> Fordulónap: | E4: Készítette: | F4: =IFERROR(VLOOKUP(L9,Alapa!$K$2:$M$11,3),"") | K4: B-01-AIII-01 | L4: Leltárösszesítő
E5: Ellenőrizte: | F5: =IF(Alapa!$M$2=0," ",Alapa!$M$2) | K5: B-01-AIII-02 | L5: Főkönyvi kivonat egyeztetés
A6: Főkönyvi kivonat elemzés | G6: Kivételes nagyságú bevétel költség: | H6: =Tartalom!$F$112*Alapa!D33 -> 0 | K6: B-01-AIII-10-01 | L6: Befektetett pénzügyi eszközök, Tartós részesedések
A7: Mérlegértékek E Ft-ban | D7: =Alapa!C10 -> 0 | E7: =Alapa!C11 -> 0 | F7: Eltérés | G7: =Alapa!C11&"/"&Alapa!C10 -> / | K7: B-01-AIII-10-02 | L7: Tartósan adott kölcsönök
B8: Számlaegyenlegek Ft-ban | D8: E Ft ; Ft | E8: E Ft ; Ft | F8: E Ft ; Ft | G8: % | K8: B-01-AIII-10-03 | L8: Tartós hitelviszonyt megtestesítő értékpapír
F9: =IF(E9-D9=0," ",E9-D9) | G9: =IFERROR(E9/D9%," ") | K9: Készítette: | L9: 2
F10: =IF(E10-D10=0," ",E10-D10) | G10: =IFERROR(E10/D10%," ")
F11: =IF(E11-D11=0," ",E11-D11) | G11: =IFERROR(E11/D11%," ")
F12: =IF(E12-D12=0," ",E12-D12) | G12: =IFERROR(E12/D12%," ")
F13: =IF(E13-D13=0," ",E13-D13) | G13: =IFERROR(E13/D13%," ")
F14: =IF(E14-D14=0," ",E14-D14) | G14: =IFERROR(E14/D14%," ") | L14: Eredmény:
F15: =IF(E15-D15=0," ",E15-D15) | G15: =IFERROR(E15/D15%," ") | L15: Ide írja az egyeztetés / vizsgálat szöveges értékelését
F16: =IF(E16-D16=0," ",E16-D16) | G16: =IFERROR(E16/D16%," ") | L16: Következtetés:
F17: =IF(E17-D17=0," ",E17-D17) | G17: =IFERROR(E17/D17%," ") | L17: Ide írja a következtetés szövegét
F18: =IF(E18-D18=0," ",E18-D18) | G18: =IFERROR(E18/D18%," ")
F19: =IF(E19-D19=0," ",E19-D19) | G19: =IFERROR(E19/D19%," ")
F20: =IF(E20-D20=0," ",E20-D20) | G20: =IFERROR(E20/D20%," ")
F21: =IF(E21-D21=0," ",E21-D21) | G21: =IFERROR(E21/D21%," ")
F22: =IF(E22-D22=0," ",E22-D22) | G22: =IFERROR(E22/D22%," ")
F23: =IF(E23-D23=0," ",E23-D23) | G23: =IFERROR(E23/D23%," ")
F24: =IF(E24-D24=0," ",E24-D24) | G24: =IFERROR(E24/D24%," ")
F25: =IF(E25-D25=0," ",E25-D25) | G25: =IFERROR(E25/D25%," ")
F26: =IF(E26-D26=0," ",E26-D26) | G26: =IFERROR(E26/D26%," ")
F27: =IF(E27-D27=0," ",E27-D27) | G27: =IFERROR(E27/D27%," ")
F28: =IF(E28-D28=0," ",E28-D28) | G28: =IFERROR(E28/D28%," ")
F29: =IF(E29-D29=0," ",E29-D29) | G29: =IFERROR(E29/D29%," ")
... F400: =IF(E400-D400=0," ",E400-D400) | G400: =IFERROR(E400/D400%," ")

Sheet B-01-AIII-10-01
A1: B-01-AIII-10-01
D2: =O15 -> Ide írja az egyeztetés / vizsgálat szöveges értékelését | E2: =O17 -> Ide írja a következtetés szövegét | N2: ◄◄ NEM SZERKESZTHETŐ SOR !!
F3: Leltár | N3: Tartalom | O3: Tartalom
A4: A.III.1.,3.,5. Befektetett pénzügyi eszközök/Tartós részesedések | N4: B-01-AIII-01 | O4: Leltárösszesítő
A5: =Alapa!C17 -> 0 | G5: Dátum: | H5: =Alapa!C15 -> 0 | N5: B-01-AIII-02 | O5: Főkönyvi kivonat egyeztetés
A6: ="Fordulónap: "&Alapa!C12 -> Fordulónap: | G6: Készítette: | H6: =IFERROR(VLOOKUP(O9,Alapa!$K$2:$M$11,3),"") | J6: Ellenőrizte: | K6: =IF(Alapa!$M$2=0," ",Alapa!$M$2) | N6: B-01-AIII-10-01 | O6: Befektetett pénzügyi eszközök, Tartós részesedések
N7: B-01-AIII-10-02 | O7: Tartósan adott kölcsönök
A8: A.III.1. Tartós részesedések kapcsolt vállalkozásban | N8: B-01-AIII-10-03 | O8: Tartós hitelviszonyt megtestesítő értékpapír
A9: Leltárfelvét típusa: | C9: EGYEZTETÉS/SZÁMBAVÉTEL | N9: Készítette: | O9: 2
A10: Azonosító / Sorszám | B10: Cég/Kibocsátó | C10: Vásárlás időpontja | D10: Bekerülési érték | E10: Tulajdoni hányad % | F10: Üzletrész | H10: Értékpapír
F11: Névérték | G11: Ft/Névérték | H11: -tól | I11: -ig | J11: Darabszám | K11: Névérték / Darab | L11: Névérték | M11: Ft/Névérték
A12: 1. | J12: =IF(I12-H12=0,0,I12-H12+1) -> 0 | L12: =K12*J12 -> 0 | M12: =IF(L12=0," ",D12/L12)
A13: 2. | J13: =IF(I13-H13=0,0,I13-H13+1) -> 0 | L13: =K13*J13 -> 0 | M13: =IF(L13=0," ",D13/L13)
A14: 3. | J14: =IF(I14-H14=0,0,I14-H14+1) -> 0 | L14: =K14*J14 -> 0 | M14: =IF(L14=0," ",D14/L14) | O14: Eredmény:
A15: 4. | J15: =IF(I15-H15=0,0,I15-H15+1) -> 0 | L15: =K15*J15 -> 0 | M15: =IF(L15=0," ",D15/L15) | O15: Ide írja az egyeztetés / vizsgálat szöveges értékelését
A16: 5. | J16: =IF(I16-H16=0,0,I16-H16+1) -> 0 | L16: =K16*J16 -> 0 | M16: =IF(L16=0," ",D16/L16) | O16: Következtetés:
A17: Összesen: | D17: =SUM(D12:D16) -> 0 | F17: =SUM(F12:F16) -> 0 | J17: =SUM(J12:J16) -> 0 | L17: =SUM(L12:L16) -> 0 | M17: =SUM(M12:M16) -> 0 | O17: Ide írja a következtetés szövegét
A18: Értékelés
A19: Azonosító / Sorszám | B19: Megnevezés | C19: Bekerülési érték | D19: Jegyzett tőke | E19: Saját tőke | F19: Befektetésre jutó saját tőke rész | G19: A társaság tartós piaci megítélése tendenciája | H19: Megszűnő társaságnál megtérülő összeg | I19: Piaci érték | J19: Veszteség Tartós és Jelentős Igen / Nem | K19: Nyitó értékvesztés | L19: Tárgy évi Értékvesztés/ Visszaírás "-" | M19: Mérleg szerinti érték
A20: 1. | M20: =C20-K20-L20 -> 0
A21: 2. | M21: =C21-K21-L21 -> 0
A22: 3. | M22: =C22-K22-L22 -> 0
A23: 4. | M23: =C23-K23-L23 -> 0
A24: 5. | M24: =C24-K24-L24 -> 0
A25: Összesen: | C25: =SUM(C20:C24) -> 0 | D25: =SUM(D20:D24) -> 0 | E25: =SUM(E20:E24) -> 0 | F25: =SUM(F20:F24) -> 0 | H25: =SUM(H20:H24) -> 0 | I25: =SUM(I20:I24) -> 0 | K25: =SUM(K20:K24) -> 0 | L25: =SUM(L20:L24) -> 0 | M25: =SUM(M20:M24) -> 0
A27: A.III.3. Tartós jelentős tulajdoni részesedés
A28: Azonosító / Sorszám | B28: Cég/Kibocsátó | C28: Vásárlás időpontja | D28: Bekerülési érték | E28: Tulajdoni hányad % | F28: Üzletrész | H28: Értékpapír
F29: Névérték | G29: Ft/Névérték | H29: -tól | I29: -ig | J29: Darabszám | K29: Névérték / Darab | L29: Névérték | M29: Ft/Névérték
A30: 1. | J30: =IF(I30-H30=0,0,I30-H30+1) -> 0 | L30: =K30*J30 -> 0 | M30: =IF(L30=0," ",D30/L30)
A31: 2. | J31: =IF(I31-H31=0,0,I31-H31+1) -> 0 | L31: =K31*J31 -> 0 | M31: =IF(L31=0," ",D31/L31)
A32: 3. | J32: =IF(I32-H32=0,0,I32-H32+1) -> 0 | L32: =K32*J32 -> 0 | M32: =IF(L32=0," ",D32/L32)
A33: 4. | J33: =IF(I33-H33=0,0,I33-H33+1) -> 0 | L33: =K33*J33 -> 0 | M33: =IF(L33=0," ",D33/L33)
A34: 5. | J34: =IF(I34-H34=0,0,I34-H34+1) -> 0 | L34: =K34*J34 -> 0 | M34: =IF(L34=0," ",D34/L34)
A35: Összesen: | D35: =SUM(D30:D34) -> 0 | F35: =SUM(F30:F34) -> 0 | J35: =SUM(J30:J34) -> 0 | L35: =SUM(L30:L34) -> 0 | M35: =SUM(M30:M34) -> 0
A36: Értékelés
A37: Azonosító / Sorszám | B37: Megnevezés | C37: Bekerülési érték | D37: Jegyzett tőke | E37: Saját tőke | F37: Befektetésre jutó saját tőke rész | G37: A társaság tartós piaci megítélése tendenciája | H37: Megszűnő társaságnál megtérülő összeg | I37: Piaci érték | J37: Veszteség Tartós és Jelentős Igen / Nem | K37: Nyitó értékvesztés | L37: Tárgy évi Értékvesztés/ Visszaírás "-" | M37: Mérleg szerinti érték
A38: 1. | M38: =C38-K38-L38 -> 0
A39: 2. | M39: =C39-K39-L39 -> 0
A40: 3. | M40: =C40-K40-L40 -> 0
A41: 4. | M41: =C41-K41-L41 -> 0
A42: 5. | M42: =C42-K42-L42 -> 0
A43: Összesen: | C43: =SUM(C38:C42) -> 0 | D43: =SUM(D38:D42) -> 0 | E43: =SUM(E38:E42) -> 0 | F43: =SUM(F38:F42) -> 0 | H43: =SUM(H38:H42) -> 0 | I43: =SUM(I38:I42) -> 0 | K43: =SUM(K38:K42) -> 0 | L43: =SUM(L38:L42) -> 0 | M43: =SUM(M38:M42) -> 0
A45: A.III.5. Egyéb tartós részesedések
A46: Azonosító / Sorszám | B46: Cég/Kibocsátó | C46: Vásárlás időpontja | D46: Bekerülési érték | E46: Tulajdoni hányad % | F46: Üzletrész | H46: Értékpapír
F47: Névérték | G47: Ft/Névérték | H47: -tól | I47: -ig | J47: Darabszám | K47: Névérték / Darab | L47: Névérték | M47: Ft/Névérték
A48: 1. | J48: =IF(I48-H48=0,0,I48-H48+1) -> 0 | L48: =K48*J48 -> 0 | M48: =IF(L48=0," ",D48/L48)
A49: 2. | J49: =IF(I49-H49=0,0,I49-H49+1) -> 0 | L49: =K49*J49 -> 0 | M49: =IF(L49=0," ",D49/L49)
A50: 3. | J50: =IF(I50-H50=0,0,I50-H50+1) -> 0 | L50: =K50*J50 -> 0 | M50: =IF(L50=0," ",D50/L50)
A51: 4. | J51: =IF(I51-H51=0,0,I51-H51+1) -> 0 | L51: =K51*J51 -> 0 | M51: =IF(L51=0," ",D51/L51)
A52: 5. | J52: =IF(I52-H52=0,0,I52-H52+1) -> 0 | L52: =K52*J52 -> 0 | M52: =IF(L52=0," ",D52/L52)
A53: Összesen: | D53: =SUM(D48:D52) -> 0 | F53: =SUM(F48:F52) -> 0 | J53: =SUM(J48:J52) -> 0 | L53: =SUM(L48:L52) -> 0 | M53: =SUM(M48:M52) -> 0
A54: Értékelés
A55: Azonosító / Sorszám | B55: Megnevezés | C55: Bekerülési érték | D55: Jegyzett tőke | E55: Saját tőke | F55: Befektetésre jutó saját tőke rész | G55: A társaság tartós piaci megítélése tendenciája | H55: Megszűnő társaságnál megtérülő összeg | I55: Piaci érték | J55: Veszteség Tartós és Jelentős Igen / Nem | K55: Nyitó értékvesztés | L55: Tárgy évi Értékvesztés/ Visszaírás "-" | M55: Mérleg szerinti érték
A56: 1. | M56: =C56-K56-L56 -> 0
A57: 2. | M57: =C57-K57-L57 -> 0
A58: 3. | M58: =C58-K58-L58 -> 0
A59: 4. | M59: =C59-K59-L59 -> 0
A60: 5. | M60: =C60-K60-L60 -> 0
A61: Összesen: | C61: =SUM(C56:C60) -> 0 | D61: =SUM(D56:D60) -> 0 | E61: =SUM(E56:E60) -> 0 | F61: =SUM(F56:F60) -> 0 | H61: =SUM(H56:H60) -> 0 | I61: =SUM(I56:I60) -> 0 | K61: =SUM(K56:K60) -> 0 | L61: =SUM(L56:L60) -> 0 | M61: =SUM(M56:M60) -> 0

Sheet B-01-AIII-10-02
A1: B-01-AIII-10-02
D2: =N15 -> Ide írja az egyeztetés / vizsgálat szöveges értékelését | E2: =N17 -> Ide írja a következtetés szövegét | M2: ◄◄ NEM SZERKESZTHETŐ SOR !!
F3: Leltár | M3: Tartalom | N3: Tartalom
A4: A.III. 2.,4.,6.,7. Befektetett pénzügyi eszközök/ Tartósan adott kölcsönök | M4: B-01-AIII-01 | N4: Leltárösszesítő
A5: =Alapa!C17 -> 0 | F5: Dátum: | G5: =Alapa!C15 -> 0 | M5: B-01-AIII-02 | N5: Főkönyvi kivonat egyeztetés
A6: ="Fordulónap: "&Alapa!C12 -> Fordulónap: | F6: Készítette: | G6: =IFERROR(VLOOKUP(N9,Alapa!$K$2:$M$11,3),"") | I6: Ellenőrizte: | J6: =IF(Alapa!$M$2=0," ",Alapa!$M$2) | M6: B-01-AIII-10-01 | N6: Befektetett pénzügyi eszközök, Tartós részesedések
M7: B-01-AIII-10-02 | N7: Tartósan adott kölcsönök
A8: A.III.2. Tartósan adott kölcsön kapcsolt vállalkozásban | M8: B-01-AIII-10-03 | N8: Tartós hitelviszonyt megtestesítő értékpapír
A9: Leltározás módja | C9: EGYENLEGKÖZLÉS / VISSZAIGAZOLÁS / EGYEZTETÉS | L9: Adatok Ft-ban | M9: Készítette: | N9: 2
A10: Azonosító / Sorszám | B10: Vevő/Adós neve | C10: Követelés összege | D10: Visszaigazolt | E10: Eltérés | F10: Eltérésből vizsgálatig befolyt | G10: Fennmaradt eltérés | H10: Tisztázott eltérés | I10: Tisztázatlan egyenleg | J10: Eltérés oka/Intézkedés* | K10: Éven belül esedékes | L10: Záró értékvesztés
A11: 1. | E11: =+D11-C11 -> 0 | G11: =+E11-F11 -> 0 | I11: =+G11-H11 -> 0
A12: 2. | E12: =+D12-C12 -> 0 | G12: =+E12-F12 -> 0 | I12: =+G12-H12 -> 0
A13: 3. | E13: =+D13-C13 -> 0 | G13: =+E13-F13 -> 0 | I13: =+G13-H13 -> 0
A14: 4. | E14: =+D14-C14 -> 0 | G14: =+E14-F14 -> 0 | I14: =+G14-H14 -> 0 | N14: Eredmény:
A15: 5. | E15: =+D15-C15 -> 0 | G15: =+E15-F15 -> 0 | I15: =+G15-H15 -> 0 | N15: Ide írja az egyeztetés / vizsgálat szöveges értékelését
B16: Összesen: | C16: =SUM(C11:C15) -> 0 | D16: =SUM(D11:D15) -> 0 | E16: =SUM(E11:E15) -> 0 | F16: =SUM(F11:F15) -> 0 | G16: =SUM(G11:G15) -> 0 | H16: =SUM(H11:H15) -> 0 | I16: =SUM(I11:I15) -> 0 | K16: =SUM(K11:K15) -> 0 | L16: =SUM(L11:L15) -> 0 | N16: Következtetés:
A17: *fizetési felszólítás; nem válaszolt; megszűnt; haladékot kapott; fizetési meghagyás; perelt; jogerősen megítélt; csődvédelem; csődegyezség; végelszámolás; felszámolás; igazoltan megtérülő; egyéb. | N17: Ide írja a következtetés szövegét
A19: A.III.4. Tartósan adott kölcsön jel. tul. rész. viszonyban álló váll-ban
A20: Leltározás módja | C20: EGYENLEGKÖZLÉS / VISSZAIGAZOLÁS / EGYEZTETÉS | L20: Adatok Ft-ban
A21: Azonosító / Sorszám | B21: Vevő/Adós neve | C21: Követelés összege | D21: Visszaigazolt | E21: Eltérés | F21: Eltérésből vizsgálatig befolyt | G21: Fennmaradt eltérés | H21: Tisztázott eltérés | I21: Tisztázatlan egyenleg | J21: Eltérés oka/Intézkedés* | K21: Éven belül esedékes | L21: Záró értékvesztés
A22: 1. | E22: =+D22-C22 -> 0 | G22: =+E22-F22 -> 0 | I22: =+G22-H22 -> 0
A23: 2. | E23: =+D23-C23 -> 0 | G23: =+E23-F23 -> 0 | I23: =+G23-H23 -> 0
A24: 3. | E24: =+D24-C24 -> 0 | G24: =+E24-F24 -> 0 | I24: =+G24-H24 -> 0
A25: 4. | E25: =+D25-C25 -> 0 | G25: =+E25-F25 -> 0 | I25: =+G25-H25 -> 0
A26: 5. | E26: =+D26-C26 -> 0 | G26: =+E26-F26 -> 0 | I26: =+G26-H26 -> 0
B27: Összesen: | C27: =SUM(C22:C26) -> 0 | D27: =SUM(D22:D26) -> 0 | E27: =SUM(E22:E26) -> 0 | F27: =SUM(F22:F26) -> 0 | G27: =SUM(G22:G26) -> 0 | H27: =SUM(H22:H26) -> 0 | I27: =SUM(I22:I26) -> 0 | K27: =SUM(K22:K26) -> 0 | L27: =SUM(L22:L26) -> 0
A28: *fizetési felszólítás; nem válaszolt; megszűnt; haladékot kapott; fizetési meghagyás; perelt; jogerősen megítélt; csődvédelem; csődegyezség; végelszámolás; felszámolás; igazoltan megtérülő; egyéb.
A30: A.III.6. Tartósan adott kölcsön egyéb rész. viszonyban álló váll-ban
A31: Leltározás módja | C31: EGYENLEGKÖZLÉS / VISSZAIGAZOLÁS / EGYEZTETÉS | L31: Adatok Ft-ban
A32: Azonosító / Sorszám | B32: Vevő/Adós neve | C32: Követelés összege | D32: Visszaigazolt | E32: Eltérés | F32: Eltérésből vizsgálatig befolyt | G32: Fennmaradt eltérés | H32: Tisztázott eltérés | I32: Tisztázatlan egyenleg | J32: Eltérés oka/Intézkedés* | K32: Éven belül esedékes | L32: Záró értékvesztés
A33: 1. | E33: =+D33-C33 -> 0 | G33: =+E33-F33 -> 0 | I33: =+G33-H33 -> 0
A34: 2. | E34: =+D34-C34 -> 0 | G34: =+E34-F34 -> 0 | I34: =+G34-H34 -> 0
A35: 3. | E35: =+D35-C35 -> 0 | G35: =+E35-F35 -> 0 | I35: =+G35-H35 -> 0
A36: 4. | E36: =+D36-C36 -> 0 | G36: =+E36-F36 -> 0 | I36: =+G36-H36 -> 0
A37: 5. | E37: =+D37-C37 -> 0 | G37: =+E37-F37 -> 0 | I37: =+G37-H37 -> 0
B38: Összesen: | C38: =SUM(C33:C37) -> 0 | D38: =SUM(D33:D37) -> 0 | E38: =SUM(E33:E37) -> 0 | F38: =SUM(F33:F37) -> 0 | G38: =SUM(G33:G37) -> 0 | H38: =SUM(H33:H37) -> 0 | I38: =SUM(I33:I37) -> 0 | K38: =SUM(K33:K37) -> 0 | L38: =SUM(L33:L37) -> 0
A39: *fizetési felszólítás; nem válaszolt; megszűnt; haladékot kapott; fizetési meghagyás; perelt; jogerősen megítélt; csődvédelem; csődegyezség; végelszámolás; felszámolás; igazoltan megtérülő; egyéb.
A41: A.III.7. Egyéb tartósan adott kölcsön
A42: Leltározás módja | C42: EGYENLEGKÖZLÉS / VISSZAIGAZOLÁS / EGYEZTETÉS | L42: Adatok Ft-ban
A43: Azonosító / Sorszám | B43: Vevő/Adós neve | C43: Követelés összege | D43: Visszaigazolt | E43: Eltérés | F43: Eltérésből vizsgálatig befolyt | G43: Fennmaradt eltérés | H43: Tisztázott eltérés | I43: Tisztázatlan egyenleg | J43: Eltérés oka/Intézkedés* | K43: Éven belül esedékes | L43: Záró értékvesztés
A44: 1. | E44: =+D44-C44 -> 0 | G44: =+E44-F44 -> 0 | I44: =+G44-H44 -> 0
A45: 2. | E45: =+D45-C45 -> 0 | G45: =+E45-F45 -> 0 | I45: =+G45-H45 -> 0
A46: 3. | E46: =+D46-C46 -> 0 | G46: =+E46-F46 -> 0 | I46: =+G46-H46 -> 0
A47: 4. | E47: =+D47-C47 -> 0 | G47: =+E47-F47 -> 0 | I47: =+G47-H47 -> 0
A48: 5. | E48: =+D48-C48 -> 0 | G48: =+E48-F48 -> 0 | I48: =+G48-H48 -> 0
B49: Összesen: | C49: =SUM(C44:C48) -> 0 | D49: =SUM(D44:D48) -> 0 | E49: =SUM(E44:E48) -> 0 | F49: =SUM(F44:F48) -> 0 | G49: =SUM(G44:G48) -> 0 | H49: =SUM(H44:H48) -> 0 | I49: =SUM(I44:I48) -> 0 | K49: =SUM(K44:K48) -> 0 | L49: =SUM(L44:L48) -> 0
A50: *fizetési felszólítás; nem válaszolt; megszűnt; haladékot kapott; fizetési meghagyás; perelt; jogerősen megítélt; csődvédelem; csődegyezség; végelszámolás; felszámolás; igazoltan megtérülő; egyéb.
A52: Értékvesztés nyilvántartása
A53: Azonosító / Sorszám | B53: Vevő/Adós neve | C53: Fordulónapon fennálló követelés | D53: Mk-ig befolyt | E53: Vitatott / Behajthatatlan | F53: Mk-kor fennálló | G53: Nyitó értékvesztés | H53: Tárgy évi megtérülés, kivezetés | I53: Tárgy évi Értékvesztés "+" Visszaírás"-" | J53: Értékvesztés Visszaírás indoka | K53: Záró értékvesztés | L53: Értékvesztés/ Mk-kor fennálló %
A54: 1. | F54: =C54-E54-D54 -> 0 | K54: =G54-H54+I54 -> 0 | L54: =IF(F54=0,0,IF(K54=0,0,IF(K54=0,0,K54/F54%))) -> 0
A55: 2. | F55: =C55-E55-D55 -> 0 | K55: =G55-H55+I55 -> 0 | L55: =IF(F55=0,0,IF(K55=0,0,IF(K55=0,0,K55/F55%))) -> 0
A56: 3. | F56: =C56-E56-D56 -> 0 | K56: =G56-H56+I56 -> 0 | L56: =IF(F56=0,0,IF(K56=0,0,IF(K56=0,0,K56/F56%))) -> 0
A57: 4. | F57: =C57-E57-D57 -> 0 | K57: =G57-H57+I57 -> 0 | L57: =IF(F57=0,0,IF(K57=0,0,IF(K57=0,0,K57/F57%))) -> 0
A58: 5. | F58: =C58-E58-D58 -> 0 | K58: =G58-H58+I58 -> 0 | L58: =IF(F58=0,0,IF(K58=0,0,IF(K58=0,0,K58/F58%))) -> 0
B59: Összesen: | C59: =SUM(C54:C58) -> 0 | D59: =SUM(D54:D58) -> 0 | E59: =SUM(E54:E58) -> 0 | F59: =SUM(F54:F58) -> 0 | G59: =SUM(G54:G58) -> 0 | H59: =SUM(H54:H58) -> 0 | I59: =SUM(I54:I58) -> 0 | K59: =SUM(K54:K58) -> 0 | L59: =IF(F59=0,0,IF(K59=0,0,IF(K59=0,0,K59/F59%))) -> 0

Sheet B-01-AIII-10-03
A1: B-1-AIII-10-3
D2: =M15 -> Ide írja az egyeztetés / vizsgálat szöveges értékelését | E2: =M17 -> Ide írja a következtetés szövegét | L2: ◄◄ NEM SZERKESZTHETŐ SOR !!
E3: Leltár | L3: Tartalom | M3: Tartalom
A4: A.III.8. Tartós hitelviszonyt megtestesítő értékpapír | L4: B-01-AIII-01 | M4: Leltárösszesítő
A5: =Alapa!C17 -> 0 | F5: Dátum: | G5: =Alapa!C15 -> 0 | L5: B-01-AIII-02 | M5: Főkönyvi kivonat egyeztetés
A6: ="Fordulónap: "&Alapa!C12 -> Fordulónap: | F6: Készítette: | G6: =IFERROR(VLOOKUP(M9,Alapa!$K$2:$M$11,3),"") | I6: Ellenőrizte: | J6: =IF(Alapa!$M$2=0," ",Alapa!$M$2) | L6: B-01-AIII-10-01 | M6: Befektetett pénzügyi eszközök, Tartós részesedések
L7: B-01-AIII-10-02 | M7: Tartósan adott kölcsönök
L8: B-01-AIII-10-03 | M8: Tartós hitelviszonyt megtestesítő értékpapír
A9: Leltárfelvét típusa: | C9: EGYEZTETÉS/SZÁMBAVÉTEL | L9: Készítette: | M9: 2
A10: Azonosító / Sorszám | B10: Cég/Kibocsátó | C10: Vásárlás időpontja | D10: Bekerülési érték | E10: Hozam % | F10: Értékpapír
F11: Sorszám: -tól, -ig | H11: Darabszám | I11: Névérték / Darab | J11: Névérték | K11: Ft/Névérték
A12: 1. | H12: =IF(G12-F12=0,0,G12-F12+1) -> 0 | J12: =I12*H12 -> 0 | K12: =IF(J12=0," ",D12/J12)
A13: 2. | H13: =IF(G13-F13=0,0,G13-F13+1) -> 0 | J13: =I13*H13 -> 0 | K13: =IF(J13=0," ",D13/J13)
A14: 3. | H14: =IF(G14-F14=0,0,G14-F14+1) -> 0 | J14: =I14*H14 -> 0 | K14: =IF(J14=0," ",D14/J14) | M14: Eredmény:
A15: 4. | H15: =IF(G15-F15=0,0,G15-F15+1) -> 0 | J15: =I15*H15 -> 0 | K15: =IF(J15=0," ",D15/J15) | M15: Ide írja az egyeztetés / vizsgálat szöveges értékelését
A16: 5. | H16: =IF(G16-F16=0,0,G16-F16+1) -> 0 | J16: =I16*H16 -> 0 | K16: =IF(J16=0," ",D16/J16) | M16: Következtetés:
A17: Összesen: | D17: =SUM(D12:D16) -> 0 | H17: =SUM(H12:H16) -> 0 | J17: =SUM(J12:J16) -> 0 | K17: =SUM(K12:K16) -> 0 | M17: Ide írja a következtetés szövegét
A19: Értékvesztés nyilvántartása
A20: Azonosító / Sorszám | B20: Vevő/Adós neve | C20: Fordulónapon fennálló követelés | D20: Mk-ig befolyt | E20: Vitatott / Behajthatatlan | F20: Mk-kor fennálló | G20: Nyitó értékvesztés | H20: Tárgy évi megtérülés, kivezetés | I20: Tárgy évi Értékvesztés "+" Visszaírás"-" | J20: Záró értékvesztés | K20: Értékvesztés/ Mk-kor fennálló %
A21: 1. | F21: =C21-E21-D21 -> 0 | J21: =G21-H21+I21 -> 0 | K21: =IF(F21=0,0,IF(J21=0,0,IF(J21=0,0,J21/F21%))) -> 0
A22: 2. | F22: =C22-E22-D22 -> 0 | J22: =G22-H22+I22 -> 0 | K22: =IF(F22=0,0,IF(J22=0,0,IF(J22=0,0,J22/F22%))) -> 0
A23: 3. | F23: =C23-E23-D23 -> 0 | J23: =G23-H23+I23 -> 0 | K23: =IF(F23=0,0,IF(J23=0,0,IF(J23=0,0,J23/F23%))) -> 0
A24: 4. | F24: =C24-E24-D24 -> 0 | J24: =G24-H24+I24 -> 0 | K24: =IF(F24=0,0,IF(J24=0,0,IF(J24=0,0,J24/F24%))) -> 0
A25: 5. | F25: =C25-E25-D25 -> 0 | J25: =G25-H25+I25 -> 0 | K25: =IF(F25=0,0,IF(J25=0,0,IF(J25=0,0,J25/F25%))) -> 0
B26: Összesen: | C26: =SUM(C21:C25) -> 0 | D26: =SUM(D21:D25) -> 0 | E26: =SUM(E21:E25) -> 0 | F26: =SUM(F21:F25) -> 0 | G26: =SUM(G21:G25) -> 0 | H26: =SUM(H21:H25) -> 0 | I26: =SUM(I21:I25) -> 0 | J26: =SUM(J21:J25) -> 0 | K26: =IF(F26=0,0,IF(J26=0,0,IF(J26=0,0,J26/F26%))) -> 0

Sheet B-01-AIII-10-04
A1: B-01-AIII-10-04
D2: =K15 -> Ide írja az egyeztetés / vizsgálat szöveges értékelését | E2: =K17 -> Ide írja a következtetés szövegét | J2: ◄◄ NEM SZERKESZTHETŐ SOR !!
G3: Leltár | J3: Tartalom | K3: Tartalom
A4: A.III.9. Befektetett pénzügyi eszközök értékhelyesbítése | J4: B-01-AIII-01 | K4: Leltárösszesítő
A5: =Alapa!C17 -> 0 | D5: Dátum: | E5: =Alapa!C15 -> 0 | J5: B-01-AIII-02 | K5: Főkönyvi kivonat egyeztetés
A6: ="Fordulónap: "&Alapa!C12 -> Fordulónap: | D6: Készítette: | E6: =IFERROR(VLOOKUP(K10,Alapa!$K$2:$M$11,3),"") | G6: Ellenőrizte: | H6: =IF(Alapa!$M$2=0," ",Alapa!$M$2) | J6: B-01-AIII-10-01 | K6: Befektetett pénzügyi eszközök, Tartós részesedések
J7: B-01-AIII-10-02 | K7: Tartósan adott kölcsönök
A8: Leltárfelvét típusa: | C8: EGYEZTETÉS / MENNYISÉGI FELVÉTEL (három évente kötelező) | J8: B-01-AIII-10-03 | K8: Tartós hitelviszonyt megtestesítő értékpapír
A9: Sorszámszám | B9: Azonosító | C9: Megnevezés | D9: Mennyiség | E9: Aktiválás időpontja | F9: Bekerülési érték | G9: Értékhelyesbítés | J9: B-01-AIII-10-04 | K9: Befektetett pénzügyi eszközök értékhelyesbítése
G10: Értékelés módszere | H10: Piaci érték | I10: Értékhelyesbítés | J10: Készítette: | K10: 2
A11: =COUNT(A$9:$A10)+1 -> 1 | I11: =IF(H11=0,0,IF(H11-F11>0,H11-F11,0)) -> 0
A12: =COUNT(A$9:$A11)+1 -> 2 | I12: =IF(H12=0,0,IF(H12-F12>0,H12-F12,0)) -> 0
A13: =COUNT(A$9:$A12)+1 -> 3 | I13: =IF(H13=0,0,IF(H13-F13>0,H13-F13,0)) -> 0
A14: =COUNT(A$9:$A13)+1 -> 4 | I14: =IF(H14=0,0,IF(H14-F14>0,H14-F14,0)) -> 0 | K14: Eredmény:
A15: =COUNT(A$9:$A14)+1 -> 5 | I15: =IF(H15=0,0,IF(H15-F15>0,H15-F15,0)) -> 0 | K15: Ide írja az egyeztetés / vizsgálat szöveges értékelését
A16: =COUNT(A$9:$A15)+1 -> 6 | I16: =IF(H16=0,0,IF(H16-F16>0,H16-F16,0)) -> 0 | K16: Következtetés:
A17: =COUNT(A$9:$A16)+1 -> 7 | I17: =IF(H17=0,0,IF(H17-F17>0,H17-F17,0)) -> 0 | K17: Ide írja a következtetés szövegét
A18: =COUNT(A$9:$A17)+1 -> 8 | I18: =IF(H18=0,0,IF(H18-F18>0,H18-F18,0)) -> 0
A19: =COUNT(A$9:$A18)+1 -> 9 | I19: =IF(H19=0,0,IF(H19-F19>0,H19-F19,0)) -> 0
A20: =COUNT(A$9:$A19)+1 -> 10 | I20: =IF(H20=0,0,IF(H20-F20>0,H20-F20,0)) -> 0
A21: =COUNT(A$9:$A20)+1 -> 11 | I21: =IF(H21=0,0,IF(H21-F21>0,H21-F21,0)) -> 0
A22: =COUNT(A$9:$A21)+1 -> 12 | I22: =IF(H22=0,0,IF(H22-F22>0,H22-F22,0)) -> 0
A23: =COUNT(A$9:$A22)+1 -> 13 | I23: =IF(H23=0,0,IF(H23-F23>0,H23-F23,0)) -> 0
A24: =COUNT(A$9:$A23)+1 -> 14 | I24: =IF(H24=0,0,IF(H24-F24>0,H24-F24,0)) -> 0
A25: =COUNT(A$9:$A24)+1 -> 15 | I25: =IF(H25=0,0,IF(H25-F25>0,H25-F25,0)) -> 0
A26: =COUNT(A$9:$A25)+1 -> 16 | I26: =IF(H26=0,0,IF(H26-F26>0,H26-F26,0)) -> 0
A27: =COUNT(A$9:$A26)+1 -> 17 | I27: =IF(H27=0,0,IF(H27-F27>0,H27-F27,0)) -> 0
A28: =COUNT(A$9:$A27)+1 -> 18 | I28: =IF(H28=0,0,IF(H28-F28>0,H28-F28,0)) -> 0
A29: =COUNT(A$9:$A28)+1 -> 19 | I29: =IF(H29=0,0,IF(H29-F29>0,H29-F29,0)) -> 0
A30: =COUNT(A$9:$A29)+1 -> 20 | I30: =IF(H30=0,0,IF(H30-F30>0,H30-F30,0)) -> 0
A31: Összesen: | F31: =SUM(F11:F30) -> 0 | H31: =SUM(H11:H30) -> 0 | I31: =SUM(I11:I30) -> 0

Sheet B-01-AIV-01
A1: B-01-AIV-01
B2: =C16 -> 0 | D2: =G15 -> NINCS FK. ADAT | E2: =G17 -> Ide írja a következtetés szövegét | F2: ◄◄ NEM SZERKESZTHETŐ SOR !!
B3: Leltárösszesítő | F3: Tartalom | G3: Tartalom
F4: B-01-AIV-01 | G4: Leltárösszesítő
A5: =Alapa!C17 -> 0 | C5: Dátum: | D5: =Alapa!C15 -> 0 | F5: B-01-AIV-02 | G5: Főkönyvi kivonat egyeztetés
A6: ="Fordulónap: "&Alapa!C12 -> Fordulónap: | C6: Készítette: | D6: =IFERROR(VLOOKUP(G9,Alapa!$K$2:$M$11,3),"")
C7: Ellenőrizte: | D7: =IF(Alapa!$M$2=0," ",Alapa!$M$2)
F9: Készítette: | G9: 2
A10: A.IV. Halasztott adókövetelés | C10: =IF(D14=0,"NINCS FK. ADAT",IF(C14=0,"NINCS ANALITIKA",IF(C16=0,"EGYEZIK","NEM EGYEZIK !"))) -> NINCS FK. ADAT
C11: Ft-ban | D11: Ft-ban | E11: E Ft-ban
B12: Megnevezés | C12: Analitika | D12: Főkönyv | E12: Mérleg
B13: Halasztott adókövetelés | D13: =Import_M!H31 -> 0 | E13: =Import_M!F31 -> 0
B14: Összesen | C14: =ROUND(SUM(C13:C13),0) -> 0 | D14: =SUM(D13:D13) -> 0 | E14: =SUM(E13:E13) -> 0 | G14: Eredmény:
G15: =C10 -> NINCS FK. ADAT
B16: Eltérés: | C16: =C14-D14 -> 0 | G16: Következtetés:
G17: Ide írja a következtetés szövegét
A19: Leltármellékletek:
A20: Főkönyvi egyeztetés

Sheet B-01-AIV-02
A1: B-01-AIV-02 | C1: A.IV. Halasztott adókövetelés
D2: =L15 -> Ide írja az egyeztetés / vizsgálat szöveges értékelését | E2: =L17 -> Ide írja a következtetés szövegét | K2: ◄◄ NEM SZERKESZTHETŐ SOR !!
A3: =Alapa!C17 -> 0 | E3: Dátum: | F3: =Alapa!C15 -> 0 | K3: Tartalom | L3: Tartalom
A4: ="Fordulónap: "&Alapa!C12 -> Fordulónap: | E4: Készítette: | F4: =IFERROR(VLOOKUP(L9,Alapa!$K$2:$M$11,3),"") | K4: B-01-AIV-01 | L4: Leltárösszesítő
E5: Ellenőrizte: | F5: =IF(Alapa!$M$2=0," ",Alapa!$M$2) | K5: B-01-AIV-02 | L5: Főkönyvi kivonat egyeztetés
A6: Főkönyvi kivonat elemzés | G6: Kivételes nagyságú bevétel költség: | H6: =Tartalom!$F$112*Alapa!D33 -> 0
A7: Mérlegértékek E Ft-ban | D7: =Alapa!C10 -> 0 | E7: =Alapa!C11 -> 0 | F7: Eltérés | G7: =Alapa!C11&"/"&Alapa!C10 -> /
B8: Számlaegyenlegek Ft-ban | D8: E Ft ; Ft | E8: E Ft ; Ft | F8: E Ft ; Ft | G8: %
F9: =IF(E9-D9=0," ",E9-D9) | G9: =IFERROR(E9/D9%," ") | K9: Készítette: | L9: 2
F10: =IF(E10-D10=0," ",E10-D10) | G10: =IFERROR(E10/D10%," ")
F11: =IF(E11-D11=0," ",E11-D11) | G11: =IFERROR(E11/D11%," ")
F12: =IF(E12-D12=0," ",E12-D12) | G12: =IFERROR(E12/D12%," ")
F13: =IF(E13-D13=0," ",E13-D13) | G13: =IFERROR(E13/D13%," ")
F14: =IF(E14-D14=0," ",E14-D14) | G14: =IFERROR(E14/D14%," ") | L14: Eredmény:
F15: =IF(E15-D15=0," ",E15-D15) | G15: =IFERROR(E15/D15%," ") | L15: Ide írja az egyeztetés / vizsgálat szöveges értékelését
F16: =IF(E16-D16=0," ",E16-D16) | G16: =IFERROR(E16/D16%," ") | L16: Következtetés:
F17: =IF(E17-D17=0," ",E17-D17) | G17: =IFERROR(E17/D17%," ") | L17: Ide írja a következtetés szövegét
F18: =IF(E18-D18=0," ",E18-D18) | G18: =IFERROR(E18/D18%," ")
F19: =IF(E19-D19=0," ",E19-D19) | G19: =IFERROR(E19/D19%," ")
F20: =IF(E20-D20=0," ",E20-D20) | G20: =IFERROR(E20/D20%," ")
F21: =IF(E21-D21=0," ",E21-D21) | G21: =IFERROR(E21/D21%," ")
F22: =IF(E22-D22=0," ",E22-D22) | G22: =IFERROR(E22/D22%," ")
F23: =IF(E23-D23=0," ",E23-D23) | G23: =IFERROR(E23/D23%," ")
F24: =IF(E24-D24=0," ",E24-D24) | G24: =IFERROR(E24/D24%," ")
F25: =IF(E25-D25=0," ",E25-D25) | G25: =IFERROR(E25/D25%," ")
F26: =IF(E26-D26=0," ",E26-D26) | G26: =IFERROR(E26/D26%," ")
F27: =IF(E27-D27=0," ",E27-D27) | G27: =IFERROR(E27/D27%," ")
F28: =IF(E28-D28=0," ",E28-D28) | G28: =IFERROR(E28/D28%," ")
F29: =IF(E29-D29=0," ",E29-D29) | G29: =IFERROR(E29/D29%," ")
... F400: =IF(E400-D400=0," ",E400-D400) | G400: =IFERROR(E400/D400%," ")

Sheet B-01-BI-01
A1: B-01-BI-01
B2: =C21 -> 0 | D2: =G15 -> NINCS FK. ADAT | E2: =G17 -> Ide írja a következtetés szövegét | F2: ◄◄ NEM SZERKESZTHETŐ SOR !!
B3: Leltárösszesítő | F3: Tartalom | G3: Tartalom
F4: B-01-BI-01 | G4: Leltárösszesítő
A5: =Alapa!C17 -> 0 | C5: Dátum: | D5: =Alapa!C15 -> 0 | F5: B-01-BI-02 | G5: Főkönyvi egyeztetés
A6: ="Fordulónap: "&Alapa!C12 -> Fordulónap: | C6: Készítette: | D6: =IFERROR(VLOOKUP(G11,Alapa!$K$2:$M$11,3),"") | F6: B-01-BI-10-01 | G6: Készletek leltráfelvételi íve (mennyiségi nyilvántartás hiányában)
C7: Ellenőrizte: | D7: =IF(Alapa!$M$2=0," ",Alapa!$M$2) | F7: B-01-BI-10-02 | G7: Készletek leltráfelvételi íve (mennyiségi nyilvántartás mellett)
F8: B-01-BI-10-03 | G8: Vásárolt készletek (anyag áru) értékelése
F9: B-01-BI-10-04 | G9: Saját termelésű készletek értékelése
A10: B.I. Készletek | C10: =IF(D19=0,"NINCS FK. ADAT",IF(C19=0,"NINCS ANALITIKA",IF(C21=0,"EGYEZIK","NEM EGYEZIK !"))) -> NINCS FK. ADAT | F10: B-01-BI-10-05 | G10: Készletre adott előlegek
C11: Ft-ban | D11: Ft-ban | E11: E Ft-ban | F11: Készítette: | G11: 2
B12: Megnevezés | C12: Analitika | D12: Főkönyv | E12: Mérleg
A13: 1. | B13: Anyagok | D13: =Import_M!H34 -> 0 | E13: =Import_M!F34 -> 0
A14: 2. | B14: Befejezetlen termelés és félkész termék | D14: =Import_M!H35 -> 0 | E14: =Import_M!F35 -> 0 | G14: Eredmény:
A15: 3. | B15: Növendék-, hízó- és egyéb állatok | D15: =Import_M!H36 -> 0 | E15: =Import_M!F36 -> 0 | G15: =C10 -> NINCS FK. ADAT
A16: 4. | B16: Késztermékek | D16: =Import_M!H37 -> 0 | E16: =Import_M!F37 -> 0 | G16: Következtetés:
A17: 5. | B17: Áruk | D17: =Import_M!H38 -> 0 | E17: =Import_M!F38 -> 0 | G17: Ide írja a következtetés szövegét
A18: 6. | B18: Készletre adott előlegek | D18: =Import_M!H39 -> 0 | E18: =Import_M!F39 -> 0
B19: Összesen | C19: =ROUND(SUM(C13:C18),0) -> 0 | D19: =SUM(D13:D18) -> 0 | E19: =SUM(E13:E18) -> 0
B21: Eltérés: | C21: =C19-D19 -> 0
A24: Leltármellékletek:
A25: Főkönyvi egyeztetés
A26: Készletek leltráfelvételi íve (mennyiségi nyilvántartás hiányában)
A27: Készletek leltráfelvételi íve (mennyiségi nyilvántartás mellett)
A28: Vásárolt készletek (anyag áru) értékelése
A29: Saját termelésű készletek értékelése
A30: Készletre adott előlegek

Sheet B-01-BI-02
A1: B-01-BI-02 | C1: B.I. Készletek
D2: =L15 -> Ide írja az egyeztetés / vizsgálat szöveges értékelését | E2: =L17 -> Ide írja a következtetés szövegét | K2: ◄◄ NEM SZERKESZTHETŐ SOR !!
A3: =Alapa!C17 -> 0 | E3: Dátum: | F3: =Alapa!C15 -> 0 | K3: Tartalom | L3: Tartalom
A4: ="Fordulónap: "&Alapa!C12 -> Fordulónap: | E4: Készítette: | F4: =IFERROR(VLOOKUP(L11,Alapa!$K$2:$M$11,3),"") | K4: B-01-BI-01 | L4: Leltárösszesítő
E5: Ellenőrizte: | F5: =IF(Alapa!$M$2=0," ",Alapa!$M$2) | K5: B-01-BI-02 | L5: Főkönyvi egyeztetés
A6: Főkönyvi kivonat elemzése | G6: Kivételes nagyságú bevétel költség: | H6: =Tartalom!$F$112*Alapa!D33 -> 0 | K6: B-01-BI-10-01 | L6: Készletek leltráfelvételi íve (mennyiségi nyilvántartás hiányában)
A7: Mérlegértékek E Ft-ban | D7: =Alapa!C10 -> 0 | E7: =Alapa!C11 -> 0 | F7: Eltérés | G7: =Alapa!C11&"/"&Alapa!C10 -> / | K7: B-01-BI-10-02 | L7: Készletek leltráfelvételi íve (mennyiségi nyilvántartás mellett)
B8: Számlaegyenlegek Ft-ban | D8: E Ft ; Ft | E8: E Ft ; Ft | F8: E Ft ; Ft | G8: % | K8: B-01-BI-10-03 | L8: Vásárolt készletek (anyag áru) értékelése
F9: =IF(E9-D9=0," ",E9-D9) | G9: =IFERROR(E9/D9%," ") | K9: B-01-BI-10-04 | L9: Saját termelésű készletek értékelése
F10: =IF(E10-D10=0," ",E10-D10) | G10: =IFERROR(E10/D10%," ") | K10: B-01-BI-10-05 | L10: Készletre adott előlegek
F11: =IF(E11-D11=0," ",E11-D11) | G11: =IFERROR(E11/D11%," ") | K11: Készítette: | L11: 2
F12: =IF(E12-D12=0," ",E12-D12) | G12: =IFERROR(E12/D12%," ")
F13: =IF(E13-D13=0," ",E13-D13) | G13: =IFERROR(E13/D13%," ")
F14: =IF(E14-D14=0," ",E14-D14) | G14: =IFERROR(E14/D14%," ") | L14: Eredmény:
F15: =IF(E15-D15=0," ",E15-D15) | G15: =IFERROR(E15/D15%," ") | L15: Ide írja az egyeztetés / vizsgálat szöveges értékelését
F16: =IF(E16-D16=0," ",E16-D16) | G16: =IFERROR(E16/D16%," ") | L16: Következtetés:
F17: =IF(E17-D17=0," ",E17-D17) | G17: =IFERROR(E17/D17%," ") | L17: Ide írja a következtetés szövegét
F18: =IF(E18-D18=0," ",E18-D18) | G18: =IFERROR(E18/D18%," ")
F19: =IF(E19-D19=0," ",E19-D19) | G19: =IFERROR(E19/D19%," ")
F20: =IF(E20-D20=0," ",E20-D20) | G20: =IFERROR(E20/D20%," ")
F21: =IF(E21-D21=0," ",E21-D21) | G21: =IFERROR(E21/D21%," ")
F22: =IF(E22-D22=0," ",E22-D22) | G22: =IFERROR(E22/D22%," ")
F23: =IF(E23-D23=0," ",E23-D23) | G23: =IFERROR(E23/D23%," ")
F24: =IF(E24-D24=0," ",E24-D24) | G24: =IFERROR(E24/D24%," ")
F25: =IF(E25-D25=0," ",E25-D25) | G25: =IFERROR(E25/D25%," ")
F26: =IF(E26-D26=0," ",E26-D26) | G26: =IFERROR(E26/D26%," ")
F27: =IF(E27-D27=0," ",E27-D27) | G27: =IFERROR(E27/D27%," ")
F28: =IF(E28-D28=0," ",E28-D28) | G28: =IFERROR(E28/D28%," ")
F29: =IF(E29-D29=0," ",E29-D29) | G29: =IFERROR(E29/D29%," ")
... F400: =IF(E400-D400=0," ",E400-D400) | G400: =IFERROR(E400/D400%," ")

Sheet B-01-BI-10-01
A1: B-01-BI-10-01
D2: =M15 -> Ide írja az egyeztetés / vizsgálat szöveges értékelését | E2: =M17 -> Ide írja a következtetés szövegét | L2: ◄◄ NEM SZERKESZTHETŐ SOR !!
G3: Leltár | L3: Tartalom | M3: Tartalom
A4: B.I. 1-5. Készletek (kivéve készletre adott előlegek) | L4: B-01-BI-01 | M4: Leltárösszesítő
A5: =Alapa!C17 -> 0 | F5: Dátum: | G5: =Alapa!C15 -> 0 | L5: B-01-BI-02 | M5: Főkönyvi egyeztetés
A6: ="Fordulónap: "&Alapa!C12 -> Fordulónap: | F6: Készítette: | G6: =IFERROR(VLOOKUP(M11,Alapa!$K$2:$M$11,3),"") | I6: Ellenőrizte: | J6: =IF(Alapa!$M$2=0," ",Alapa!$M$2) | L6: B-01-BI-10-01 | M6: Készletek leltráfelvételi íve (mennyiségi nyilvántartás hiányában)
L7: B-01-BI-10-02 | M7: Készletek leltráfelvételi íve (mennyiségi nyilvántartás mellett)
A8: KÉSZLETEK LELTÁRFELVÉTELI ÍVE (mennyiségi nyilvántartás hiányában) | L8: B-01-BI-10-03 | M8: Vásárolt készletek (anyag áru) értékelése
L9: B-01-BI-10-04 | M9: Saját termelésű készletek értékelése
A10: Készeletcsoport neve: | K10: Adatok Ft-ban | L10: B-01-BI-10-05 | M10: Készletre adott előlegek
D11: Leltárfelvét típusa: | E11: TÉTELES SZÁMBAVÉTEL | J11: Áthozat: | L11: Készítette: | M11: 2
A12: Sorszám | B12: Raktár | C12: Fk.szám | D12: Nyilvántartási szám | E12: Megnevezés | F12: Mennyiségi egység | G12: Leltározott mennyiség | H12: Időközi változás +;- | I12: Fordulónapi készlet | J12: Nyilvántartási ár | K12: Leltár szerinti készletérték
A14: =COUNT(A$12:$A13)+1 -> 1 | I14: =G14+H14+H14 -> 0 | K14: =I14*J14 -> 0 | M14: Eredmény:
A15: =COUNT(A$12:$A14)+1 -> 2 | I15: =G15+H15+H15 -> 0 | K15: =I15*J15 -> 0 | M15: Ide írja az egyeztetés / vizsgálat szöveges értékelését
A16: =COUNT(A$12:$A15)+1 -> 3 | I16: =G16+H16+H16 -> 0 | K16: =I16*J16 -> 0 | M16: Következtetés:
A17: =COUNT(A$12:$A16)+1 -> 4 | I17: =G17+H17+H17 -> 0 | K17: =I17*J17 -> 0 | M17: Ide írja a következtetés szövegét
A18: =COUNT(A$12:$A17)+1 -> 5 | I18: =G18+H18+H18 -> 0 | K18: =I18*J18 -> 0
A19: =COUNT(A$12:$A18)+1 -> 6 | I19: =G19+H19+H19 -> 0 | K19: =I19*J19 -> 0
A20: =COUNT(A$12:$A19)+1 -> 7 | I20: =G20+H20+H20 -> 0 | K20: =I20*J20 -> 0
A21: =COUNT(A$12:$A20)+1 -> 8 | I21: =G21+H21+H21 -> 0 | K21: =I21*J21 -> 0
A22: =COUNT(A$12:$A21)+1 -> 9 | I22: =G22+H22+H22 -> 0 | K22: =I22*J22 -> 0
A23: =COUNT(A$12:$A22)+1 -> 10 | I23: =G23+H23+H23 -> 0 | K23: =I23*J23 -> 0
A24: =COUNT(A$12:$A23)+1 -> 11 | I24: =G24+H24+H24 -> 0 | K24: =I24*J24 -> 0
A25: =COUNT(A$12:$A24)+1 -> 12 | I25: =G25+H25+H25 -> 0 | K25: =I25*J25 -> 0
A26: =COUNT(A$12:$A25)+1 -> 13 | I26: =G26+H26+H26 -> 0 | K26: =I26*J26 -> 0
A27: =COUNT(A$12:$A26)+1 -> 14 | I27: =G27+H27+H27 -> 0 | K27: =I27*J27 -> 0
A28: =COUNT(A$12:$A27)+1 -> 15 | I28: =G28+H28+H28 -> 0 | K28: =I28*J28 -> 0
A29: =COUNT(A$12:$A28)+1 -> 16 | I29: =G29+H29+H29 -> 0 | K29: =I29*J29 -> 0
... A43: =COUNT(A$12:$A42)+1 -> 30 | I43: =G43+H43+H43 -> 0 | K43: =I43*J43 -> 0
A44: Összesen | F44: =SUM(F14:F43) -> 0 | G44: =SUM(G14:G43) -> 0 | H44: =SUM(H14:H43) -> 0 | I44: =SUM(I14:I43) -> 0 | J44: Átvitel: | K44: =SUM(K14:K43) -> 0

Sheet B-01-BI-10-02
A1: B-01-BI-10-02
D2: =R15 -> Ide írja az egyeztetés / vizsgálat szöveges értékelését | E2: =R17 -> Ide írja a következtetés szövegét | Q2: ◄◄ NEM SZERKESZTHETŐ SOR !!
H3: Leltár | Q3: Tartalom | R3: Tartalom | W3: Adminisztratív | X3: Valós
A4: B.I. 1-5. Készletek (kivéve készletre adott előlegek) | Q4: B-01-BI-01 | R4: Leltárösszesítő
A5: =Alapa!C17 -> 0 | I5: Dátum: | J5: =Alapa!C15 -> 0 | Q5: B-01-BI-02 | R5: Főkönyvi egyeztetés
A6: ="Fordulónap: "&Alapa!C12 -> Fordulónap: | I6: Készítette: | J6: =IFERROR(VLOOKUP(R11,Alapa!$K$2:$M$11,3),"") | N6: Ellenőrizte: | O6: =IF(Alapa!$M$2=0," ",Alapa!$M$2) | Q6: B-01-BI-10-01 | R6: Készletek leltráfelvételi íve (mennyiségi nyilvántartás hiányában)
Q7: B-01-BI-10-02 | R7: Készletek leltráfelvételi íve (mennyiségi nyilvántartás mellett)
A8: KÉSZLETEK LELTÁRFELVÉTELI ÍVE (mennyiségi nyilvántartás mellett) | Q8: B-01-BI-10-03 | R8: Vásárolt készletek (anyag áru) értékelése
A9: Készletcsoport neve: | Q9: B-01-BI-10-04 | R9: Saját termelésű készletek értékelése
B10: Leltárfelvét típusa: | C10: TÉTELES SZÁMBAVÉTEL | M10: Áthozat: | P10: Adatok Ft-ban | Q10: B-01-BI-10-05 | R10: Készletre adott előlegek
A11: Sorszám | B11: Raktár | C11: Főkönyv | D11: Nyilvántartási szám | E11: Megnevezés | F11: Mennyiségi egység | G11: Leltározott mennyiség | H11: Időközi változás +;- | I11: Fordulónapi készlet | J11: Könyv szerinti készlet | K11: Hiány - Többlet + | L11: Hiány/Többlet oka? | M11: Nyilvántartási egységár | N11: Leltározott | O11: Könyv szerinti | P11: Hiány - Többlet + | Q11: Készítette: | R11: 2
K12: mennyisége | N12: készlet értéke | O12: készlet értéke | P12: értéke
A13: =COUNT(A$11:$A12)+1 -> 1 | I13: =F13+G13+H13 -> 0 | J13: 0 | K13: =J13-I13 -> 0 | N13: =M13*I13 -> 0 | O13: =M13*J13 -> 0 | P13: =K13*M13 -> 0
A14: =COUNT(A$11:$A13)+1 -> 2 | I14: =F14+G14+H14 -> 0 | K14: =J14-I14 -> 0 | N14: =M14*I14 -> 0 | O14: =M14*J14 -> 0 | P14: =K14*M14 -> 0 | R14: Eredmény:
A15: =COUNT(A$11:$A14)+1 -> 3 | I15: =F15+G15+H15 -> 0 | K15: =J15-I15 -> 0 | N15: =M15*I15 -> 0 | O15: =M15*J15 -> 0 | P15: =K15*M15 -> 0 | R15: Ide írja az egyeztetés / vizsgálat szöveges értékelését
A16: =COUNT(A$11:$A15)+1 -> 4 | I16: =F16+G16+H16 -> 0 | K16: =J16-I16 -> 0 | N16: =M16*I16 -> 0 | O16: =M16*J16 -> 0 | P16: =K16*M16 -> 0 | R16: Következtetés:
A17: =COUNT(A$11:$A16)+1 -> 5 | I17: =F17+G17+H17 -> 0 | K17: =J17-I17 -> 0 | N17: =M17*I17 -> 0 | O17: =M17*J17 -> 0 | P17: =K17*M17 -> 0 | R17: Ide írja a következtetés szövegét
A18: =COUNT(A$11:$A17)+1 -> 6 | I18: =F18+G18+H18 -> 0 | K18: =J18-I18 -> 0 | N18: =M18*I18 -> 0 | O18: =M18*J18 -> 0 | P18: =K18*M18 -> 0
A19: =COUNT(A$11:$A18)+1 -> 7 | I19: =F19+G19+H19 -> 0 | K19: =J19-I19 -> 0 | N19: =M19*I19 -> 0 | O19: =M19*J19 -> 0 | P19: =K19*M19 -> 0
A20: =COUNT(A$11:$A19)+1 -> 8 | I20: =F20+G20+H20 -> 0 | K20: =J20-I20 -> 0 | N20: =M20*I20 -> 0 | O20: =M20*J20 -> 0 | P20: =K20*M20 -> 0
A21: =COUNT(A$11:$A20)+1 -> 9 | I21: =F21+G21+H21 -> 0 | K21: =J21-I21 -> 0 | N21: =M21*I21 -> 0 | O21: =M21*J21 -> 0 | P21: =K21*M21 -> 0
A22: =COUNT(A$11:$A21)+1 -> 10 | I22: =F22+G22+H22 -> 0 | K22: =J22-I22 -> 0 | N22: =M22*I22 -> 0 | O22: =M22*J22 -> 0 | P22: =K22*M22 -> 0
A23: =COUNT(A$11:$A22)+1 -> 11 | I23: =F23+G23+H23 -> 0 | K23: =J23-I23 -> 0 | N23: =M23*I23 -> 0 | O23: =M23*J23 -> 0 | P23: =K23*M23 -> 0
A24: =COUNT(A$11:$A23)+1 -> 12 | I24: =F24+G24+H24 -> 0 | K24: =J24-I24 -> 0 | N24: =M24*I24 -> 0 | O24: =M24*J24 -> 0 | P24: =K24*M24 -> 0
A25: =COUNT(A$11:$A24)+1 -> 13 | I25: =F25+G25+H25 -> 0 | K25: =J25-I25 -> 0 | N25: =M25*I25 -> 0 | O25: =M25*J25 -> 0 | P25: =K25*M25 -> 0
A26: =COUNT(A$11:$A25)+1 -> 14 | I26: =F26+G26+H26 -> 0 | K26: =J26-I26 -> 0 | N26: =M26*I26 -> 0 | O26: =M26*J26 -> 0 | P26: =K26*M26 -> 0
A27: =COUNT(A$11:$A26)+1 -> 15 | I27: =F27+G27+H27 -> 0 | K27: =J27-I27 -> 0 | N27: =M27*I27 -> 0 | O27: =M27*J27 -> 0 | P27: =K27*M27 -> 0
A28: =COUNT(A$11:$A27)+1 -> 16 | I28: =F28+G28+H28 -> 0 | K28: =J28-I28 -> 0 | N28: =M28*I28 -> 0 | O28: =M28*J28 -> 0 | P28: =K28*M28 -> 0
A29: =COUNT(A$11:$A28)+1 -> 17 | I29: =F29+G29+H29 -> 0 | K29: =J29-I29 -> 0 | N29: =M29*I29 -> 0 | O29: =M29*J29 -> 0 | P29: =K29*M29 -> 0
... A32: =COUNT(A$11:$A31)+1 -> 20 | I32: =F32+G32+H32 -> 0 | K32: =J32-I32 -> 0 | N32: =M32*I32 -> 0 | O32: =M32*J32 -> 0 | P32: =K32*M32 -> 0
A33: Összesen | F33: =SUM(F13:F32) -> 0 | G33: =SUM(G13:G32) -> 0 | H33: =SUM(H13:H32) -> 0 | I33: =SUM(I13:I32) -> 0 | J33: =SUM(J13:J32) -> 0 | K33: =IF(I33<J33,J33-I33,0) -> 0 | M33: Átvitel | N33: =SUM(N13:N32) -> 0 | O33: =SUM(O13:O32) -> 0 | P33: =SUM(P13:P32) -> 0

Sheet B-01-BI-10-03
A1: B-01-BI-10-03
D2: =R15 -> Ide írja az egyeztetés / vizsgálat szöveges értékelését | E2: =R17 -> Ide írja a következtetés szövegét | Q2: ◄◄ NEM SZERKESZTHETŐ SOR !!
G3: Értékelés | Q3: Tartalom | R3: Tartalom
A4: B.I. 1-5. Készletek (kivéve készletre adott előlegek) | Q4: B-01-BI-01 | R4: Leltárösszesítő
A5: =Alapa!C17 -> 0 | G5: Dátum: | H5: =Alapa!C15 -> 0 | Q5: B-01-BI-02 | R5: Főkönyvi egyeztetés
A6: ="Fordulónap: "&Alapa!C12 -> Fordulónap: | G6: Készítette: | H6: =IFERROR(VLOOKUP(R11,Alapa!$K$2:$M$11,3),"") | K6: Ellenőrizte: | L6: =IF(Alapa!$M$2=0," ",Alapa!$M$2) | Q6: B-01-BI-10-01 | R6: Készletek leltráfelvételi íve (mennyiségi nyilvántartás hiányában)
Q7: B-01-BI-10-02 | R7: Készletek leltráfelvételi íve (mennyiségi nyilvántartás mellett)
A8: VÁSÁROLT KÉSZLETEK (anyag áru) | H8: Mérleg készítés napja: | Q8: B-01-BI-10-03 | R8: Vásárolt készletek (anyag áru) értékelése
H9: Tartós (napokban) | Q9: B-01-BI-10-04 | R9: Saját termelésű készletek értékelése
A10: Készeletcsoport neve: | E10: ANYAG / ÁRU | H10: Jelentős a nyilvántartási egységár %-ban | P10: Adatok Ft-ban | Q10: B-01-BI-10-05 | R10: Készletre adott előlegek
O11: Áthozat: | Q11: Készítette: | R11: 2
A12: Sorszám | B12: Raktár | C12: Főkönyv | D12: Nyilvántartási szám | E12: Megnevezés | F12: Bekerülési érték | G12: Utolsó értékelés dátuma | H12: Nyilv. egységár | I12: F.napi készlet | J12: Könyv szerinti érték | K12: Piaci ár M-kor | L12: Piaci érték M-kor | M12: Nyitó értékvesztés | N12: Értékvesztés visszaírása | O12: Záró értékvesztés | P12: Mérleg szerinti érték
A13: =COUNT(A$12:$A12)+1 -> 1 | J13: =H13*I13 -> 0 | L13: =K13*I13 -> 0 | M13: =(H13-F13)*I13 -> 0 | N13: =IF(M13<0,IF((K13-H13)*I13>$K$10*H13,IF($K$8-G13>$K$9,IF(K13*I13<=I13*F13,L13-J13,0),0),0),0) -> 0 | O13: =IF((H13-K13)*I13>$K$10,IF($K$8-G13>$K$9,(K13-H13)*I13,M13),M13) -> 0 | P13: =J13-M13+N13+O13 -> 0
A14: =COUNT(A$12:$A13)+1 -> 2 | J14: =H14*I14 -> 0 | L14: =K14*I14 -> 0 | M14: =(H14-F14)*I14 -> 0 | N14: =IF(M14<0,IF((K14-H14)*I14>$K$10,IF($K$8-G14>$K$9,IF(K14*I14<=I14*F14,L14-J14,0),0),0),0) -> 0 | O14: =IF((H14-K14)*I14>$K$10,IF($K$8-G14>$K$9,(K14-H14)*I14,M14),M14) -> 0 | P14: =J14-M14+N14+O14 -> 0 | R14: Eredmény:
A15: =COUNT(A$12:$A14)+1 -> 3 | J15: =H15*I15 -> 0 | L15: =K15*I15 -> 0 | M15: =(H15-F15)*I15 -> 0 | N15: =IF(M15<0,IF((K15-H15)*I15>$K$10,IF($K$8-G15>$K$9,IF(K15*I15<=I15*F15,L15-J15,0),0),0),0) -> 0 | O15: =IF((H15-K15)*I15>$K$10,IF($K$8-G15>$K$9,(K15-H15)*I15,M15),M15) -> 0 | P15: =J15-M15+N15+O15 -> 0 | R15: Ide írja az egyeztetés / vizsgálat szöveges értékelését
A16: =COUNT(A$12:$A15)+1 -> 4 | J16: =H16*I16 -> 0 | L16: =K16*I16 -> 0 | M16: =(H16-F16)*I16 -> 0 | N16: =IF(M16<0,IF((K16-H16)*I16>$K$10,IF($K$8-G16>$K$9,IF(K16*I16<=I16*F16,L16-J16,0),0),0),0) -> 0 | O16: =IF((H16-K16)*I16>$K$10,IF($K$8-G16>$K$9,(K16-H16)*I16,M16),M16) -> 0 | P16: =J16-M16+N16+O16 -> 0 | R16: Következtetés:
A17: =COUNT(A$12:$A16)+1 -> 5 | J17: =H17*I17 -> 0 | L17: =K17*I17 -> 0 | M17: =(H17-F17)*I17 -> 0 | N17: =IF(M17<0,IF((K17-H17)*I17>$K$10,IF($K$8-G17>$K$9,IF(K17*I17<=I17*F17,L17-J17,0),0),0),0) -> 0 | O17: =IF((H17-K17)*I17>$K$10,IF($K$8-G17>$K$9,(K17-H17)*I17,M17),M17) -> 0 | P17: =J17-M17+N17+O17 -> 0 | R17: Ide írja a következtetés szövegét
A18: =COUNT(A$12:$A17)+1 -> 6 | J18: =H18*I18 -> 0 | L18: =K18*I18 -> 0 | M18: =(H18-F18)*I18 -> 0 | N18: =IF(M18<0,IF((K18-H18)*I18>$K$10,IF($K$8-G18>$K$9,IF(K18*I18<=I18*F18,L18-J18,0),0),0),0) -> 0 | O18: =IF((H18-K18)*I18>$K$10,IF($K$8-G18>$K$9,(K18-H18)*I18,M18),M18) -> 0 | P18: =J18-M18+N18+O18 -> 0
A19: =COUNT(A$12:$A18)+1 -> 7 | J19: =H19*I19 -> 0 | L19: =K19*I19 -> 0 | M19: =(H19-F19)*I19 -> 0 | N19: =IF(M19<0,IF((K19-H19)*I19>$K$10,IF($K$8-G19>$K$9,IF(K19*I19<=I19*F19,L19-J19,0),0),0),0) -> 0 | O19: =IF((H19-K19)*I19>$K$10,IF($K$8-G19>$K$9,(K19-H19)*I19,M19),M19) -> 0 | P19: =J19-M19+N19+O19 -> 0
A20: =COUNT(A$12:$A19)+1 -> 8 | J20: =H20*I20 -> 0 | L20: =K20*I20 -> 0 | M20: =(H20-F20)*I20 -> 0 | N20: =IF(M20<0,IF((K20-H20)*I20>$K$10,IF($K$8-G20>$K$9,IF(K20*I20<=I20*F20,L20-J20,0),0),0),0) -> 0 | O20: =IF((H20-K20)*I20>$K$10,IF($K$8-G20>$K$9,(K20-H20)*I20,M20),M20) -> 0 | P20: =J20-M20+N20+O20 -> 0
A21: =COUNT(A$12:$A20)+1 -> 9 | J21: =H21*I21 -> 0 | L21: =K21*I21 -> 0 | M21: =(H21-F21)*I21 -> 0 | N21: =IF(M21<0,IF((K21-H21)*I21>$K$10,IF($K$8-G21>$K$9,IF(K21*I21<=I21*F21,L21-J21,0),0),0),0) -> 0 | O21: =IF((H21-K21)*I21>$K$10,IF($K$8-G21>$K$9,(K21-H21)*I21,M21),M21) -> 0 | P21: =J21-M21+N21+O21 -> 0
A22: =COUNT(A$12:$A21)+1 -> 10 | J22: =H22*I22 -> 0 | L22: =K22*I22 -> 0 | M22: =(H22-F22)*I22 -> 0 | N22: =IF(M22<0,IF((K22-H22)*I22>$K$10,IF($K$8-G22>$K$9,IF(K22*I22<=I22*F22,L22-J22,0),0),0),0) -> 0 | O22: =IF((H22-K22)*I22>$K$10,IF($K$8-G22>$K$9,(K22-H22)*I22,M22),M22) -> 0 | P22: =J22-M22+N22+O22 -> 0
A23: =COUNT(A$12:$A22)+1 -> 11 | J23: =H23*I23 -> 0 | L23: =K23*I23 -> 0 | M23: =(H23-F23)*I23 -> 0 | N23: =IF(M23<0,IF((K23-H23)*I23>$K$10,IF($K$8-G23>$K$9,IF(K23*I23<=I23*F23,L23-J23,0),0),0),0) -> 0 | O23: =IF((H23-K23)*I23>$K$10,IF($K$8-G23>$K$9,(K23-H23)*I23,M23),M23) -> 0 | P23: =J23-M23+N23+O23 -> 0
A24: =COUNT(A$12:$A23)+1 -> 12 | J24: =H24*I24 -> 0 | L24: =K24*I24 -> 0 | M24: =(H24-F24)*I24 -> 0 | N24: =IF(M24<0,IF((K24-H24)*I24>$K$10,IF($K$8-G24>$K$9,IF(K24*I24<=I24*F24,L24-J24,0),0),0),0) -> 0 | O24: =IF((H24-K24)*I24>$K$10,IF($K$8-G24>$K$9,(K24-H24)*I24,M24),M24) -> 0 | P24: =J24-M24+N24+O24 -> 0
A25: =COUNT(A$12:$A24)+1 -> 13 | J25: =H25*I25 -> 0 | L25: =K25*I25 -> 0 | M25: =(H25-F25)*I25 -> 0 | N25: =IF(M25<0,IF((K25-H25)*I25>$K$10,IF($K$8-G25>$K$9,IF(K25*I25<=I25*F25,L25-J25,0),0),0),0) -> 0 | O25: =IF((H25-K25)*I25>$K$10,IF($K$8-G25>$K$9,(K25-H25)*I25,M25),M25) -> 0 | P25: =J25-M25+N25+O25 -> 0
A26: =COUNT(A$12:$A25)+1 -> 14 | J26: =H26*I26 -> 0 | L26: =K26*I26 -> 0 | M26: =(H26-F26)*I26 -> 0 | N26: =IF(M26<0,IF((K26-H26)*I26>$K$10,IF($K$8-G26>$K$9,IF(K26*I26<=I26*F26,L26-J26,0),0),0),0) -> 0 | O26: =IF((H26-K26)*I26>$K$10,IF($K$8-G26>$K$9,(K26-H26)*I26,M26),M26) -> 0 | P26: =J26-M26+N26+O26 -> 0
A27: =COUNT(A$12:$A26)+1 -> 15 | J27: =H27*I27 -> 0 | L27: =K27*I27 -> 0 | M27: =(H27-F27)*I27 -> 0 | N27: =IF(M27<0,IF((K27-H27)*I27>$K$10,IF($K$8-G27>$K$9,IF(K27*I27<=I27*F27,L27-J27,0),0),0),0) -> 0 | O27: =IF((H27-K27)*I27>$K$10,IF($K$8-G27>$K$9,(K27-H27)*I27,M27),M27) -> 0 | P27: =J27-M27+N27+O27 -> 0
A28: =COUNT(A$12:$A27)+1 -> 16 | J28: =H28*I28 -> 0 | L28: =K28*I28 -> 0 | M28: =(H28-F28)*I28 -> 0 | N28: =IF(M28<0,IF((K28-H28)*I28>$K$10,IF($K$8-G28>$K$9,IF(K28*I28<=I28*F28,L28-J28,0),0),0),0) -> 0 | O28: =IF((H28-K28)*I28>$K$10,IF($K$8-G28>$K$9,(K28-H28)*I28,M28),M28) -> 0 | P28: =J28-M28+N28+O28 -> 0
A29: =COUNT(A$12:$A28)+1 -> 17 | J29: =H29*I29 -> 0 | L29: =K29*I29 -> 0 | M29: =(H29-F29)*I29 -> 0 | N29: =IF(M29<0,IF((K29-H29)*I29>$K$10,IF($K$8-G29>$K$9,IF(K29*I29<=I29*F29,L29-J29,0),0),0),0) -> 0 | O29: =IF((H29-K29)*I29>$K$10,IF($K$8-G29>$K$9,(K29-H29)*I29,M29),M29) -> 0 | P29: =J29-M29+N29+O29 -> 0
... A32: =COUNT(A$12:$A31)+1 -> 20 | J32: =H32*I32 -> 0 | L32: =K32*I32 -> 0 | M32: =(H32-F32)*I32 -> 0 | N32: =IF(M32<0,IF((K32-H32)*I32>$K$10,IF($K$8-G32>$K$9,IF(K32*I32<=I32*F32,L32-J32,0),0),0),0) -> 0 | O32: =IF((H32-K32)*I32>$K$10,IF($K$8-G32>$K$9,(K32-H32)*I32,M32),M32) -> 0 | P32: =J32-M32+N32+O32 -> 0
A33: Összesen | I33: Átvitel: | J33: =SUM(J13:J32) -> 0 | K33: =SUM(K13:K32) -> 0 | L33: =SUM(L13:L32) -> 0 | M33: =SUM(M13:M32) -> 0 | N33: =SUM(N13:N32) -> 0 | O33: =SUM(O13:O32) -> 0 | P33: =SUM(P13:P32)+P11 -> 0

Sheet B-01-BI-10-04
A1: B-01-BI-10-04
D2: =R15 -> Ide írja az egyeztetés / vizsgálat szöveges értékelését | E2: =R17 -> Ide írja a következtetés szövegét | Q2: ◄◄ NEM SZERKESZTHETŐ SOR !!
H3: Értékelés | Q3: Tartalom | R3: Tartalom
A4: B.I. 1-5. Készletek (kivéve készletre adott előlegek) | Q4: B-01-BI-01 | R4: Leltárösszesítő
A5: =Alapa!C17 -> 0 | I5: Dátum: | J5: =Alapa!C15 -> 0 | Q5: B-01-BI-02 | R5: Főkönyvi egyeztetés
A6: ="Fordulónap: "&Alapa!C12 -> Fordulónap: | I6: Készítette: | J6: =IFERROR(VLOOKUP(R11,Alapa!$K$2:$M$11,3),"") | M6: Ellenőrizte: | N6: =IF(Alapa!$M$2=0," ",Alapa!$M$2) | Q6: B-01-BI-10-01 | R6: Készletek leltráfelvételi íve (mennyiségi nyilvántartás hiányában)
Q7: B-01-BI-10-02 | R7: Készletek leltráfelvételi íve (mennyiségi nyilvántartás mellett)
A8: Készeletcsoport neve: | C8: Befejezelen termelés, félkésztermék, késztermék | K8: Mérleg készítés napja: | Q8: B-01-BI-10-03 | R8: Vásárolt készletek (anyag áru) értékelése
K9: Tartós (napokban) | P9: Adatok Ft-ban | Q9: B-01-BI-10-04 | R9: Saját termelésű készletek értékelése
K10: Jelentős a nyilvántartási egységár %-ban | O10: Áthozat: | Q10: B-01-BI-10-05 | R10: Készletre adott előlegek
A11: Sorszám | B11: Nyilvántartási szám | C11: Megnevezés | D11: Bekerülési érték | E11: Utolsó értékelés dátuma | F11: Nyilv. egységár | G11: F.napi készlet | H11: Leltár szerinti érték | I11: Felmerülő költségek | J11: Várható támogatások | K11: Piaci ár M-kor | L11: Piaci érték M-kor | M11: Nyitó értékvesztés | N11: É.vesztés visszaírása | O11: Záró értékvesztés | P11: Mérleg szerinti érték | Q11: Készítette: | R11: 2
A12: =COUNT(A$11:$A11)+1 -> 1 | H12: =F12*G12 -> 0 | L12: =K12*G12 -> 0 | M12: =(F12-D12)*G12 -> 0 | N12: =IF(M12<0,IF((K12-F12)*G12>$N$10*F12,IF($N$8-E12>$N$9,IF(K12*G12>=G12*D12,(K12-F12)*G12,0),0),0),0) -> 0 | O12: =IF((F12-K12)*G12>$N$10,IF($N$8-E12>$N$9,(H12+((K12-I12+J12)*-1*G12+N12))*-1,M12+N12),M12+N12) -> 0 | P12: =D12*G12+O12 -> 0
A13: =COUNT(A$11:$A12)+1 -> 2 | H13: =F13*G13 -> 0 | L13: =K13*G13 -> 0 | M13: =(F13-D13)*G13 -> 0 | N13: =IF(M13<0,IF((K13-F13)*G13>$N$10,IF($N$8-E13>$N$9,IF(K13*G13>=G13*D13,(K13-F13)*G13,0),0),0),0) -> 0 | O13: =IF((F13-K13)*G13>$N$10,IF($N$8-E13>$N$9,(F13-K13-I13+J13)*-1*G13+N13,M13+N13),M13+N13) -> 0 | P13: =D13*G13+O13 -> 0
A14: =COUNT(A$11:$A13)+1 -> 3 | H14: =F14*G14 -> 0 | L14: =K14*G14 -> 0 | M14: =(F14-D14)*G14 -> 0 | N14: =IF(M14<0,IF((K14-F14)*G14>$N$10,IF($N$8-E14>$N$9,IF(K14*G14>=G14*D14,(K14-F14)*G14,0),0),0),0) -> 0 | O14: =IF((F14-K14)*G14>$N$10,IF($N$8-E14>$N$9,(F14-K14-I14+J14)*-1*G14+N14,M14+N14),M14+N14) -> 0 | P14: =D14*G14+O14 -> 0 | R14: Eredmény:
A15: =COUNT(A$11:$A14)+1 -> 4 | H15: =F15*G15 -> 0 | L15: =K15*G15 -> 0 | M15: =(F15-D15)*G15 -> 0 | N15: =IF(M15<0,IF((K15-F15)*G15>$N$10,IF($N$8-E15>$N$9,IF(K15*G15>=G15*D15,(K15-F15)*G15,0),0),0),0) -> 0 | O15: =IF((F15-K15)*G15>$N$10,IF($N$8-E15>$N$9,(F15-K15-I15+J15)*-1*G15+N15,M15+N15),M15+N15) -> 0 | P15: =D15*G15+O15 -> 0 | R15: Ide írja az egyeztetés / vizsgálat szöveges értékelését
A16: =COUNT(A$11:$A15)+1 -> 5 | H16: =F16*G16 -> 0 | L16: =K16*G16 -> 0 | M16: =(F16-D16)*G16 -> 0 | N16: =IF(M16<0,IF((K16-F16)*G16>$N$10,IF($N$8-E16>$N$9,IF(K16*G16>=G16*D16,(K16-F16)*G16,0),0),0),0) -> 0 | O16: =IF((F16-K16)*G16>$N$10,IF($N$8-E16>$N$9,(F16-K16-I16+J16)*-1*G16+N16,M16+N16),M16+N16) -> 0 | P16: =D16*G16+O16 -> 0 | R16: Következtetés:
A17: =COUNT(A$11:$A16)+1 -> 6 | H17: =F17*G17 -> 0 | L17: =K17*G17 -> 0 | M17: =(F17-D17)*G17 -> 0 | N17: =IF(M17<0,IF((K17-F17)*G17>$N$10,IF($N$8-E17>$N$9,IF(K17*G17>=G17*D17,(K17-F17)*G17,0),0),0),0) -> 0 | O17: =IF((F17-K17)*G17>$N$10,IF($N$8-E17>$N$9,(F17-K17-I17+J17)*-1*G17+N17,M17+N17),M17+N17) -> 0 | P17: =D17*G17+O17 -> 0 | R17: Ide írja a következtetés szövegét
A18: =COUNT(A$11:$A17)+1 -> 7 | H18: =F18*G18 -> 0 | L18: =K18*G18 -> 0 | M18: =(F18-D18)*G18 -> 0 | N18: =IF(M18<0,IF((K18-F18)*G18>$N$10,IF($N$8-E18>$N$9,IF(K18*G18>=G18*D18,(K18-F18)*G18,0),0),0),0) -> 0 | O18: =IF((F18-K18)*G18>$N$10,IF($N$8-E18>$N$9,(F18-K18-I18+J18)*-1*G18+N18,M18+N18),M18+N18) -> 0 | P18: =D18*G18+O18 -> 0
A19: =COUNT(A$11:$A18)+1 -> 8 | H19: =F19*G19 -> 0 | L19: =K19*G19 -> 0 | M19: =(F19-D19)*G19 -> 0 | N19: =IF(M19<0,IF((K19-F19)*G19>$N$10,IF($N$8-E19>$N$9,IF(K19*G19>=G19*D19,(K19-F19)*G19,0),0),0),0) -> 0 | O19: =IF((F19-K19)*G19>$N$10,IF($N$8-E19>$N$9,(F19-K19-I19+J19)*-1*G19+N19,M19+N19),M19+N19) -> 0 | P19: =D19*G19+O19 -> 0
A20: =COUNT(A$11:$A19)+1 -> 9 | H20: =F20*G20 -> 0 | L20: =K20*G20 -> 0 | M20: =(F20-D20)*G20 -> 0 | N20: =IF(M20<0,IF((K20-F20)*G20>$N$10,IF($N$8-E20>$N$9,IF(K20*G20>=G20*D20,(K20-F20)*G20,0),0),0),0) -> 0 | O20: =IF((F20-K20)*G20>$N$10,IF($N$8-E20>$N$9,(F20-K20-I20+J20)*-1*G20+N20,M20+N20),M20+N20) -> 0 | P20: =D20*G20+O20 -> 0
A21: =COUNT(A$11:$A20)+1 -> 10 | H21: =F21*G21 -> 0 | L21: =K21*G21 -> 0 | M21: =(F21-D21)*G21 -> 0 | N21: =IF(M21<0,IF((K21-F21)*G21>$N$10,IF($N$8-E21>$N$9,IF(K21*G21>=G21*D21,(K21-F21)*G21,0),0),0),0) -> 0 | O21: =IF((F21-K21)*G21>$N$10,IF($N$8-E21>$N$9,(F21-K21-I21+J21)*-1*G21+N21,M21+N21),M21+N21) -> 0 | P21: =D21*G21+O21 -> 0
A22: =COUNT(A$11:$A21)+1 -> 11 | H22: =F22*G22 -> 0 | L22: =K22*G22 -> 0 | M22: =(F22-D22)*G22 -> 0 | N22: =IF(M22<0,IF((K22-F22)*G22>$N$10,IF($N$8-E22>$N$9,IF(K22*G22>=G22*D22,(K22-F22)*G22,0),0),0),0) -> 0 | O22: =IF((F22-K22)*G22>$N$10,IF($N$8-E22>$N$9,(F22-K22-I22+J22)*-1*G22+N22,M22+N22),M22+N22) -> 0 | P22: =D22*G22+O22 -> 0
A23: =COUNT(A$11:$A22)+1 -> 12 | H23: =F23*G23 -> 0 | L23: =K23*G23 -> 0 | M23: =(F23-D23)*G23 -> 0 | N23: =IF(M23<0,IF((K23-F23)*G23>$N$10,IF($N$8-E23>$N$9,IF(K23*G23>=G23*D23,(K23-F23)*G23,0),0),0),0) -> 0 | O23: =IF((F23-K23)*G23>$N$10,IF($N$8-E23>$N$9,(F23-K23-I23+J23)*-1*G23+N23,M23+N23),M23+N23) -> 0 | P23: =D23*G23+O23 -> 0
A24: =COUNT(A$11:$A23)+1 -> 13 | H24: =F24*G24 -> 0 | L24: =K24*G24 -> 0 | M24: =(F24-D24)*G24 -> 0 | N24: =IF(M24<0,IF((K24-F24)*G24>$N$10,IF($N$8-E24>$N$9,IF(K24*G24>=G24*D24,(K24-F24)*G24,0),0),0),0) -> 0 | O24: =IF((F24-K24)*G24>$N$10,IF($N$8-E24>$N$9,(F24-K24-I24+J24)*-1*G24+N24,M24+N24),M24+N24) -> 0 | P24: =D24*G24+O24 -> 0
A25: =COUNT(A$11:$A24)+1 -> 14 | H25: =F25*G25 -> 0 | L25: =K25*G25 -> 0 | M25: =(F25-D25)*G25 -> 0 | N25: =IF(M25<0,IF((K25-F25)*G25>$N$10,IF($N$8-E25>$N$9,IF(K25*G25>=G25*D25,(K25-F25)*G25,0),0),0),0) -> 0 | O25: =IF((F25-K25)*G25>$N$10,IF($N$8-E25>$N$9,(F25-K25-I25+J25)*-1*G25+N25,M25+N25),M25+N25) -> 0 | P25: =D25*G25+O25 -> 0
A26: =COUNT(A$11:$A25)+1 -> 15 | H26: =F26*G26 -> 0 | L26: =K26*G26 -> 0 | M26: =(F26-D26)*G26 -> 0 | N26: =IF(M26<0,IF((K26-F26)*G26>$N$10,IF($N$8-E26>$N$9,IF(K26*G26>=G26*D26,(K26-F26)*G26,0),0),0),0) -> 0 | O26: =IF((F26-K26)*G26>$N$10,IF($N$8-E26>$N$9,(F26-K26-I26+J26)*-1*G26+N26,M26+N26),M26+N26) -> 0 | P26: =D26*G26+O26 -> 0
A27: =COUNT(A$11:$A26)+1 -> 16 | H27: =F27*G27 -> 0 | L27: =K27*G27 -> 0 | M27: =(F27-D27)*G27 -> 0 | N27: =IF(M27<0,IF((K27-F27)*G27>$N$10,IF($N$8-E27>$N$9,IF(K27*G27>=G27*D27,(K27-F27)*G27,0),0),0),0) -> 0 | O27: =IF((F27-K27)*G27>$N$10,IF($N$8-E27>$N$9,(F27-K27-I27+J27)*-1*G27+N27,M27+N27),M27+N27) -> 0 | P27: =D27*G27+O27 -> 0
A28: =COUNT(A$11:$A27)+1 -> 17 | H28: =F28*G28 -> 0 | L28: =K28*G28 -> 0 | M28: =(F28-D28)*G28 -> 0 | N28: =IF(M28<0,IF((K28-F28)*G28>$N$10,IF($N$8-E28>$N$9,IF(K28*G28>=G28*D28,(K28-F28)*G28,0),0),0),0) -> 0 | O28: =IF((F28-K28)*G28>$N$10,IF($N$8-E28>$N$9,(F28-K28-I28+J28)*-1*G28+N28,M28+N28),M28+N28) -> 0 | P28: =D28*G28+O28 -> 0
A29: =COUNT(A$11:$A28)+1 -> 18 | H29: =F29*G29 -> 0 | L29: =K29*G29 -> 0 | M29: =(F29-D29)*G29 -> 0 | N29: =IF(M29<0,IF((K29-F29)*G29>$N$10,IF($N$8-E29>$N$9,IF(K29*G29>=G29*D29,(K29-F29)*G29,0),0),0),0) -> 0 | O29: =IF((F29-K29)*G29>$N$10,IF($N$8-E29>$N$9,(F29-K29-I29+J29)*-1*G29+N29,M29+N29),M29+N29) -> 0 | P29: =D29*G29+O29 -> 0
... A36: =COUNT(A$11:$A35)+1 -> 25 | H36: =F36*G36 -> 0 | L36: =K36*G36 -> 0 | M36: =(F36-D36)*G36 -> 0 | N36: =IF(M36<0,IF((K36-F36)*G36>$N$10,IF($N$8-E36>$N$9,IF(K36*G36>=G36*D36,(K36-F36)*G36,0),0),0),0) -> 0 | O36: =IF((F36-K36)*G36>$N$10,IF($N$8-E36>$N$9,(F36-K36-I36+J36)*-1*G36+N36,M36+N36),M36+N36) -> 0 | P36: =D36*G36+O36 -> 0
A37: Összesen | G37: Átvitel: | H37: =SUM(H12:H36) -> 0 | I37: =SUM(I12:I36) -> 0 | J37: =SUM(J12:J36) -> 0 | K37: =SUM(K12:K36) -> 0 | L37: =SUM(L12:L36) -> 0 | M37: =SUM(M12:M36) -> 0 | N37: =SUM(N12:N36) -> 0 | O37: =SUM(O12:O36) -> 0 | P37: =SUM(P12:P36)+P10 -> 0

Sheet B-01-BI-10-05
A1: B-01-BI-10-05
D2: =M15 -> Ide írja az egyeztetés / vizsgálat szöveges értékelését | E2: =M17 -> Ide írja a következtetés szövegét | L2: ◄◄ NEM SZERKESZTHETŐ SOR !!
F3: Leltár | L3: Tartalom | M3: Tartalom
A4: B.I.6. Készletre adott előlegek | L4: B-01-BI-01 | M4: Leltárösszesítő
A5: =Alapa!C17 -> 0 | F5: Dátum: | G5: =Alapa!C15 -> 0 | L5: B-01-BI-02 | M5: Főkönyvi egyeztetés
A6: ="Fordulónap: "&Alapa!C12 -> Fordulónap: | F6: Készítette: | G6: =IFERROR(VLOOKUP(M11,Alapa!$K$2:$M$11,3),"") | I6: Ellenőrizte: | J6: =IF(Alapa!$M$2=0," ",Alapa!$M$2) | L6: B-01-BI-10-01 | M6: Készletek leltráfelvételi íve (mennyiségi nyilvántartás hiányában)
L7: B-01-BI-10-02 | M7: Készletek leltráfelvételi íve (mennyiségi nyilvántartás mellett)
A8: Követelések korosítása | L8: B-01-BI-10-03 | M8: Vásárolt készletek (anyag áru) értékelése
A9: Azonosító / Sorszám | B9: Vevő/Adós neve | C9: <30 nap | D9: 31-90 nap közötti | E9: 91-180 nap közötti | F9: 181-360 nap közötti | G9: >360 | H9: Könyvi érték | I9: Záró értékvesztés | J9: Mérleg érték | L9: B-01-BI-10-04 | M9: Saját termelésű készletek értékelése
A10: =COUNT(A$9:$A9)+1 -> 1 | H10: =SUM(C10:G10) -> 0 | J10: =H10-I10 -> 0 | L10: B-01-BI-10-05 | M10: Készletre adott előlegek
A11: =COUNT(A$9:$A10)+1 -> 2 | H11: =SUM(C11:G11) -> 0 | J11: =H11-I11 -> 0 | L11: Készítette: | M11: 2
A12: =COUNT(A$9:$A11)+1 -> 3 | H12: =SUM(C12:G12) -> 0 | J12: =H12-I12 -> 0
A13: =COUNT(A$9:$A12)+1 -> 4 | H13: =SUM(C13:G13) -> 0 | J13: =H13-I13 -> 0
A14: =COUNT(A$9:$A13)+1 -> 5 | H14: =SUM(C14:G14) -> 0 | J14: =H14-I14 -> 0 | M14: Eredmény:
B15: Összesen: | C15: =SUM(C10:C14) -> 0 | D15: =SUM(D10:D14) -> 0 | E15: =SUM(E10:E14) -> 0 | F15: =SUM(F10:F14) -> 0 | G15: =SUM(G10:G14) -> 0 | H15: =SUM(H10:H14) -> 0 | I15: =SUM(I10:I14) -> 0 | J15: =SUM(J10:J14) -> 0 | M15: Ide írja az egyeztetés / vizsgálat szöveges értékelését
M16: Következtetés:
A17: Egyenlegközlés-Visszaigazolás egyeztetése | M17: Ide írja a következtetés szövegét
A18: Azonosító / Sorszám | B18: Vevő/Adós neve | C18: Követelés összege | D18: Visszaigazolt | E18: Eltérés | F18: Eltérésből vizsgálatig befolyt | G18: Fennmaradt eltérés | H18: Tisztázott eltérés | I18: Eltérés oka/Intézkedés* | J18: Tisztázatlan egyenleg | K18: Záró értékvesztés
A19: =COUNT(A$18:$A18)+1 -> 1 | E19: =+D19-C19 -> 0 | G19: =+E19-F19 -> 0 | J19: =+G19-H19 -> 0
A20: =COUNT(A$18:$A19)+1 -> 2 | E20: =+D20-C20 -> 0 | G20: =+E20-F20 -> 0 | J20: =+G20-H20 -> 0
A21: =COUNT(A$18:$A20)+1 -> 3 | E21: =+D21-C21 -> 0 | G21: =+E21-F21 -> 0 | J21: =+G21-H21 -> 0
A22: =COUNT(A$18:$A21)+1 -> 4 | E22: =+D22-C22 -> 0 | G22: =+E22-F22 -> 0 | J22: =+G22-H22 -> 0
A23: =COUNT(A$18:$A22)+1 -> 5 | E23: =+D23-C23 -> 0 | G23: =+E23-F23 -> 0 | J23: =+G23-H23 -> 0
B24: Összesen: | C24: =SUM(C19:C23) -> 0 | D24: =SUM(D19:D23) -> 0 | E24: =SUM(E19:E23) -> 0 | F24: =SUM(F19:F23) -> 0 | G24: =SUM(G19:G23) -> 0 | H24: =SUM(H19:H23) -> 0 | J24: =SUM(J19:J23) -> 0 | K24: =SUM(K19:K23) -> 0
A25: *fizetési felszólítás; nem válaszolt; megszűnt; haladék; fizetési meghagyás; perelt; jogerősen megítélt; csődvédelem; csődegyezség; végelszámolás; felszámolás; igazoltan megtérülő; egyéb.
A26: Értékvesztés nyilvántartása
A27: Azonosító / Sorszám | B27: Vevő/Adós neve | C27: Fordulónapon fennálló követelés | D27: Mk-ig befolyt | E27: Vitatott / Behajthatatlan | F27: Mk-kor fennálló | G27: Nyitó értékvesztés | H27: Tárgy évi megtérülés, kivezetés | I27: Tárgy évi Értékvesztés "+" Visszaírás"-" | J27: Záró értékvesztés | K27: Értékvesztés/ Mk-kor fennálló %
A28: =COUNT(A$27:$A27)+1 -> 1 | F28: =C28-E28-D28 -> 0 | J28: =G28-H28+I28 -> 0 | K28: =IF(F28=0,0,IF(J28=0,0,IF(J28=0,0,J28/F28%))) -> 0
A29: =COUNT(A$27:$A28)+1 -> 2 | F29: =C29-E29-D29 -> 0 | J29: =G29-H29+I29 -> 0 | K29: =IF(F29=0,0,IF(J29=0,0,IF(J29=0,0,J29/F29%))) -> 0
A30: =COUNT(A$27:$A29)+1 -> 3 | F30: =C30-E30-D30 -> 0 | J30: =G30-H30+I30 -> 0 | K30: =IF(F30=0,0,IF(J30=0,0,IF(J30=0,0,J30/F30%))) -> 0
A31: =COUNT(A$27:$A30)+1 -> 4 | F31: =C31-E31-D31 -> 0 | J31: =G31-H31+I31 -> 0 | K31: =IF(F31=0,0,IF(J31=0,0,IF(J31=0,0,J31/F31%))) -> 0
A32: =COUNT(A$27:$A31)+1 -> 5 | F32: =C32-E32-D32 -> 0 | J32: =G32-H32+I32 -> 0 | K32: =IF(F32=0,0,IF(J32=0,0,IF(J32=0,0,J32/F32%))) -> 0
B33: Összesen: | C33: =SUM(C28:C32) -> 0 | D33: =SUM(D28:D32) -> 0 | E33: =SUM(E28:E32) -> 0 | F33: =SUM(F28:F32) -> 0 | G33: =SUM(G28:G32) -> 0 | H33: =SUM(H28:H32) -> 0 | I33: =SUM(I28:I32) -> 0 | J33: =SUM(J28:J32) -> 0 | K33: =IF(F33=0,0,IF(J33=0,0,IF(J33=0,0,J33/F33%))) -> 0

Sheet B-01-BII-01
A1: B-01-BII-01
B2: =C23 -> 0 | D2: =G15 -> NINCS FK. ADAT | E2: =G17 -> Ide írja a következtetés szövegét | F2: ◄◄ NEM SZERKESZTHETŐ SOR !!
B3: Leltárösszesítő | F3: Tartalom | G3: Tartalom
F4: B-01-BII-01 | G4: Leltárösszesítő
A5: =Alapa!C17 -> 0 | C5: Dátum: | D5: =Alapa!C15 -> 0 | F5: B-01-BII-02 | G5: Főkönyvi kivonat egyeztetés
A6: ="Fordulónap: "&Alapa!C12 -> Fordulónap: | C6: Készítette: | D6: =IFERROR(VLOOKUP(G8,Alapa!$K$2:$M$11,3),"") | F6: B-01-BII-10-01 | G6: Követelések
C7: Ellenőrizte: | D7: =IF(Alapa!$M$2=0," ",Alapa!$M$2) | F7: B-01-BII-10-02 | G7: Egyéb követelések
F8: Készítette: | G8: 2
A10: B.II. Követelések | C10: =IF(D21=0,"NINCS FK. ADAT",IF(C21=0,"NINCS ANALITIKA",IF(C23=0,"EGYEZIK","NEM EGYEZIK !"))) -> NINCS FK. ADAT
C11: Ft-ban | D11: Ft-ban | E11: E Ft-ban
B12: Megnevezés | C12: Analitika | D12: Főkönyv | E12: Mérleg
A13: 1. | B13: Követelések áruszállításból és szolgáltatásból (vevők) | D13: =Import_M!H41 -> 0 | E13: =Import_M!F41 -> 0
A14: 2. | B14: Követelések kapcsolt vállalkozással szemben | D14: =Import_M!H42 -> 0 | E14: =Import_M!F42 -> 0 | G14: Eredmény:
A15: 3. | B15: Követelések jel. tul. rész. visz. lévő vállalkozással szemben | D15: =Import_M!H43 -> 0 | E15: =Import_M!F43 -> 0 | G15: =C10 -> NINCS FK. ADAT
A16: 4. | B16: Követelések egyéb rész. visz. lévő vállalkozással szemben | D16: =Import_M!H44 -> 0 | E16: =Import_M!F44 -> 0 | G16: Következtetés:
A17: 5. | B17: Váltókövetelések | D17: =Import_M!H45 -> 0 | E17: =Import_M!F45 -> 0 | G17: Ide írja a következtetés szövegét
A18: 6. | B18: Egyéb követelések | D18: =Import_M!H46 -> 0 | E18: =Import_M!F46 -> 0
A19: 7. | B19: Követelések értékelési különbözete | D19: =Import_M!H47 -> 0 | E19: =Import_M!F47 -> 0
A20: 8. | B20: Származékos ügyletek pozitív értékelési különbözete | D20: =Import_M!H48 -> 0 | E20: =Import_M!F48 -> 0
B21: Összesen | C21: =ROUND(SUM(C13:C20),0) -> 0 | D21: =SUM(D13:D20) -> 0 | E21: =SUM(E13:E20) -> 0
B23: Eltérés: | C23: =C21-D21 -> 0
A26: Leltármellékletek:
A27: Főkönyvi kivonat egyeztetés
A28: B.II.1.,2.,3.,4., Követelések
A29: B.II.5. Egyéb követelések

Sheet B-01-BII-02
A1: B-01-BII-02 | C1: B.II. Követelések
D2: =L15 -> Ide írja az egyeztetés / vizsgálat szöveges értékelését | E2: =L17 -> Ide írja a következtetés szövegét | K2: ◄◄ NEM SZERKESZTHETŐ SOR !!
A3: =Alapa!C17 -> 0 | E3: Dátum: | F3: =Alapa!C15 -> 0 | K3: Tartalom | L3: Tartalom
A4: ="Fordulónap: "&Alapa!C12 -> Fordulónap: | E4: Készítette: | F4: =IFERROR(VLOOKUP(L8,Alapa!$K$2:$M$11,3),"") | K4: B-01-BII-01 | L4: Leltárösszesítő
E5: Ellenőrizte: | F5: =IF(Alapa!$M$2=0," ",Alapa!$M$2) | K5: B-01-BII-02 | L5: Főkönyvi kivonat egyeztetés
A6: Főkönyvi kivonat elemzése | G6: Kivételes nagyságú bevétel költség: | H6: =Tartalom!$F$112*Alapa!D33 -> 0 | K6: B-01-BII-10-01 | L6: Követelések
A7: Mérlegértékek E Ft-ban | D7: =Alapa!C10 -> 0 | E7: =Alapa!C11 -> 0 | F7: Eltérés | G7: =Alapa!C11&"/"&Alapa!C10 -> / | J7: Előző évben | K7: B-01-BII-10-02 | L7: Egyéb követelések
B8: Számlaegyenlegek Ft-ban | D8: E Ft ; Ft | E8: E Ft ; Ft | F8: E Ft ; Ft | G8: % | J8: kötelezettség | K8: Készítette: | L8: 2
F9: =IF(E9-D9=0," ",E9-D9) | G9: =IFERROR(E9/D9%," ")
F10: =IF(E10-D10=0," ",E10-D10) | G10: =IFERROR(E10/D10%," ")
F11: =IF(E11-D11=0," ",E11-D11) | G11: =IFERROR(E11/D11%," ")
F12: =IF(E12-D12=0," ",E12-D12) | G12: =IFERROR(E12/D12%," ")
F13: =IF(E13-D13=0," ",E13-D13) | G13: =IFERROR(E13/D13%," ")
F14: =IF(E14-D14=0," ",E14-D14) | G14: =IFERROR(E14/D14%," ") | L14: Eredmény:
F15: =IF(E15-D15=0," ",E15-D15) | G15: =IFERROR(E15/D15%," ") | L15: Ide írja az egyeztetés / vizsgálat szöveges értékelését
F16: =IF(E16-D16=0," ",E16-D16) | G16: =IFERROR(E16/D16%," ") | L16: Következtetés:
F17: =IF(E17-D17=0," ",E17-D17) | G17: =IFERROR(E17/D17%," ") | L17: Ide írja a következtetés szövegét
F18: =IF(E18-D18=0," ",E18-D18) | G18: =IFERROR(E18/D18%," ")
F19: =IF(E19-D19=0," ",E19-D19) | G19: =IFERROR(E19/D19%," ")
F20: =IF(E20-D20=0," ",E20-D20) | G20: =IFERROR(E20/D20%," ")
F21: =IF(E21-D21=0," ",E21-D21) | G21: =IFERROR(E21/D21%," ")
F22: =IF(E22-D22=0," ",E22-D22) | G22: =IFERROR(E22/D22%," ")
F23: =IF(E23-D23=0," ",E23-D23) | G23: =IFERROR(E23/D23%," ")
F24: =IF(E24-D24=0," ",E24-D24) | G24: =IFERROR(E24/D24%," ")
F25: =IF(E25-D25=0," ",E25-D25) | G25: =IFERROR(E25/D25%," ")
F26: =IF(E26-D26=0," ",E26-D26) | G26: =IFERROR(E26/D26%," ")
F27: =IF(E27-D27=0," ",E27-D27) | G27: =IFERROR(E27/D27%," ")
F28: =IF(E28-D28=0," ",E28-D28) | G28: =IFERROR(E28/D28%," ")
F29: =IF(E29-D29=0," ",E29-D29) | G29: =IFERROR(E29/D29%," ")
... F400: =IF(E400-D400=0," ",E400-D400) | G400: =IFERROR(E400/D400%," ")

Sheet B-01-BII-10-01
A1: B-01-BII-10-01
D2: =N15 -> Ide írja az egyeztetés / vizsgálat szöveges értékelését | E2: =N17 -> Ide írja a következtetés szövegét | M2: ◄◄ NEM SZERKESZTHETŐ SOR !!
E3: Leltár | M3: Tartalom | N3: Tartalom
A4: B.II.1.,2.,3.,4., Követelések | M4: B-01-BII-01 | N4: Leltárösszesítő
A5: =Alapa!C17 -> 0 | F5: Dátum: | G5: =Alapa!C15 -> 0 | M5: B-01-BII-02 | N5: Főkönyvi kivonat egyeztetés
A6: ="Fordulónap: "&Alapa!C12 -> Fordulónap: | F6: Készítette: | G6: =IFERROR(VLOOKUP(N8,Alapa!$K$2:$M$11,3),"") | I6: Ellenőrizte: | J6: =IF(Alapa!$M$2=0," ",Alapa!$M$2) | M6: B-01-BII-10-01 | N6: Követelések
M7: B-01-BII-10-02 | N7: Egyéb követelések
A8: Követelések korosítása | M8: Készítette: | N8: 2
A9: Azonosító / Sorszám | B9: Vevő/Adós neve | C9: Azonosító | D9: Főkönyvi szám | E9: <30 nap | F9: 31-90 nap közötti | G9: 91-180 nap közötti | H9: 181-360 nap közötti | I9: >360 | J9: Könyvi érték | K9: Záró értékvesztés | L9: Mérleg érték
A10: =COUNT(A$9:$A9)+1 -> 1 | J10: =SUM(E10:I10) -> 0 | L10: =J10-K10 -> 0
A11: =COUNT(A$9:$A10)+1 -> 2 | J11: =SUM(E11:I11) -> 0 | L11: =J11-K11 -> 0
A12: =COUNT(A$9:$A11)+1 -> 3 | J12: =SUM(E12:I12) -> 0 | L12: =J12-K12 -> 0
A13: =COUNT(A$9:$A12)+1 -> 4 | J13: =SUM(E13:I13) -> 0 | L13: =J13-K13 -> 0
A14: =COUNT(A$9:$A13)+1 -> 5 | J14: =SUM(E14:I14) -> 0 | L14: =J14-K14 -> 0 | N14: Eredmény:
A15: =COUNT(A$9:$A14)+1 -> 6 | J15: =SUM(E15:I15) -> 0 | L15: =J15-K15 -> 0 | N15: Ide írja az egyeztetés / vizsgálat szöveges értékelését
A16: =COUNT(A$9:$A15)+1 -> 7 | J16: =SUM(E16:I16) -> 0 | L16: =J16-K16 -> 0 | N16: Következtetés:
A17: =COUNT(A$9:$A16)+1 -> 8 | J17: =SUM(E17:I17) -> 0 | L17: =J17-K17 -> 0 | N17: Ide írja a következtetés szövegét
A18: =COUNT(A$9:$A17)+1 -> 9 | J18: =SUM(E18:I18) -> 0 | L18: =J18-K18 -> 0
A19: =COUNT(A$9:$A18)+1 -> 10 | J19: =SUM(E19:I19) -> 0 | L19: =J19-K19 -> 0
A20: =COUNT(A$9:$A19)+1 -> 11 | J20: =SUM(E20:I20) -> 0 | L20: =J20-K20 -> 0
A21: =COUNT(A$9:$A20)+1 -> 12 | J21: =SUM(E21:I21) -> 0 | L21: =J21-K21 -> 0
A22: =COUNT(A$9:$A21)+1 -> 13 | J22: =SUM(E22:I22) -> 0 | L22: =J22-K22 -> 0
A23: =COUNT(A$9:$A22)+1 -> 14 | J23: =SUM(E23:I23) -> 0 | L23: =J23-K23 -> 0
A24: =COUNT(A$9:$A23)+1 -> 15 | J24: =SUM(E24:I24) -> 0 | L24: =J24-K24 -> 0
A25: =COUNT(A$9:$A24)+1 -> 16 | J25: =SUM(E25:I25) -> 0 | L25: =J25-K25 -> 0
A26: =COUNT(A$9:$A25)+1 -> 17 | J26: =SUM(E26:I26) -> 0 | L26: =J26-K26 -> 0
A27: =COUNT(A$9:$A26)+1 -> 18 | J27: =SUM(E27:I27) -> 0 | L27: =J27-K27 -> 0
A28: =COUNT(A$9:$A27)+1 -> 19 | J28: =SUM(E28:I28) -> 0 | L28: =J28-K28 -> 0
A29: =COUNT(A$9:$A28)+1 -> 20 | J29: =SUM(E29:I29) -> 0 | L29: =J29-K29 -> 0
B30: Összesen: | E30: =SUM(E10:E29) -> 0 | F30: =SUM(F10:F29) -> 0 | G30: =SUM(G10:G29) -> 0 | H30: =SUM(H10:H29) -> 0 | I30: =SUM(I10:I29) -> 0 | J30: =SUM(J10:J29) -> 0 | K30: =SUM(K10:K29) -> 0 | L30: =SUM(L10:L29) -> 0
A32: Egyenlegközlés-Visszaigazolás egyeztetése
A33: Azonosító / Sorszám | B33: Adós neve | C33: Azonosító | D33: Követelés összege | E33: Visszaigazolt | F33: Eltérés | G33: Eltérésből vizsgálatig befolyt | H33: Fennmaradt eltérés | I33: Tisztázott eltérés | J33: Eltérés oka/Intézkedés** | K33: Tisztázatlan egyenleg | L33: Záró értékvesztés
A34: =COUNT(A$33:$A33)+1 -> 1 | F34: =+E34-D34 -> 0 | H34: =+F34-G34 -> 0 | K34: =+H34-I34 -> 0
A35: =COUNT(A$33:$A34)+1 -> 2 | F35: =+E35-D35 -> 0 | H35: =+F35-G35 -> 0 | K35: =+H35-I35 -> 0
A36: =COUNT(A$33:$A35)+1 -> 3 | F36: =+E36-D36 -> 0 | H36: =+F36-G36 -> 0 | K36: =+H36-I36 -> 0
A37: =COUNT(A$33:$A36)+1 -> 4 | F37: =+E37-D37 -> 0 | H37: =+F37-G37 -> 0 | K37: =+H37-I37 -> 0
A38: =COUNT(A$33:$A37)+1 -> 5 | F38: =+E38-D38 -> 0 | H38: =+F38-G38 -> 0 | K38: =+H38-I38 -> 0
A39: =COUNT(A$33:$A38)+1 -> 6 | F39: =+E39-D39 -> 0 | H39: =+F39-G39 -> 0 | K39: =+H39-I39 -> 0
A40: =COUNT(A$33:$A39)+1 -> 7 | F40: =+E40-D40 -> 0 | H40: =+F40-G40 -> 0 | K40: =+H40-I40 -> 0
A41: =COUNT(A$33:$A40)+1 -> 8 | F41: =+E41-D41 -> 0 | H41: =+F41-G41 -> 0 | K41: =+H41-I41 -> 0
A42: =COUNT(A$33:$A41)+1 -> 9 | F42: =+E42-D42 -> 0 | H42: =+F42-G42 -> 0 | K42: =+H42-I42 -> 0
A43: =COUNT(A$33:$A42)+1 -> 10 | F43: =+E43-D43 -> 0 | H43: =+F43-G43 -> 0 | K43: =+H43-I43 -> 0
B44: Összesen: | D44: =SUM(D34:D43) -> 0 | E44: =SUM(E34:E43) -> 0 | F44: =SUM(F34:F43) -> 0 | G44: =SUM(G34:G43) -> 0 | H44: =SUM(H34:H43) -> 0 | I44: =SUM(I34:I43) -> 0 | K44: =SUM(K34:K43) -> 0 | L44: =SUM(L34:L43) -> 0
A45: **fizetési felszólítás; nem válaszolt; megszűnt; haladék; fizetési meghagyás; perelt; jogerősen megítélt; csődvédelem; csődegyezség; végelszámolás; felszámolás; igazoltan megtérülő; egyéb.
A46: Értékvesztés nyilvántartása
A47: Azonosító / Sorszám | B47: Vevő/Adós neve | C47: Azonosító | D47: Fordulónapon fennálló követelés | E47: Mk-ig befolyt | F47: Vitatott / Behajthatatlan | G47: Mk-kor fennálló | H47: Nyitó értékvesztés | I47: Tárgy évi megtérülés, kivezetés | J47: Tárgy évi Értékvesztés "+" Visszaírás"-" | K47: Záró értékvesztés | L47: Értékvesztés/ Mk-kor fennálló %
A48: =COUNT(A$47:$A47)+1 -> 1 | G48: =D48-F48-E48 -> 0 | K48: =H48-I48+J48 -> 0 | L48: =IF(G48=0,0,IF(K48=0,0,IF(K48=0,0,K48/G48%))) -> 0
A49: =COUNT(A$47:$A48)+1 -> 2 | G49: =D49-F49-E49 -> 0 | K49: =H49-I49+J49 -> 0 | L49: =IF(G49=0,0,IF(K49=0,0,IF(K49=0,0,K49/G49%))) -> 0
A50: =COUNT(A$47:$A49)+1 -> 3 | G50: =D50-F50-E50 -> 0 | K50: =H50-I50+J50 -> 0 | L50: =IF(G50=0,0,IF(K50=0,0,IF(K50=0,0,K50/G50%))) -> 0
A51: =COUNT(A$47:$A50)+1 -> 4 | G51: =D51-F51-E51 -> 0 | K51: =H51-I51+J51 -> 0 | L51: =IF(G51=0,0,IF(K51=0,0,IF(K51=0,0,K51/G51%))) -> 0
A52: =COUNT(A$47:$A51)+1 -> 5 | G52: =D52-F52-E52 -> 0 | K52: =H52-I52+J52 -> 0 | L52: =IF(G52=0,0,IF(K52=0,0,IF(K52=0,0,K52/G52%))) -> 0
B53: Összesen: | D53: =SUM(D48:D52) -> 0 | E53: =SUM(E48:E52) -> 0 | F53: =SUM(F48:F52) -> 0 | G53: =SUM(G48:G52) -> 0 | H53: =SUM(H48:H52) -> 0 | I53: =SUM(I48:I52) -> 0 | J53: =SUM(J48:J52) -> 0 | K53: =SUM(K48:K52) -> 0 | L53: =IF(G53=0,0,IF(K53=0,0,IF(K53=0,0,K53/G53%))) -> 0

Sheet B-01-BII-10-02
A1: B-01-BII-10-02
D2: =M15 -> Ide írja az egyeztetés / vizsgálat szöveges értékelését | E2: =M17 -> Ide írja a következtetés szövegét | L2: ◄◄ NEM SZERKESZTHETŐ SOR !!
E3: Leltár | L3: Tartalom | M3: Tartalom
A4: B.II.5. Egyéb követelések | L4: B-01-BII-01 | M4: Leltárösszesítő
A5: =Alapa!C17 -> 0 | F5: Dátum: | G5: =Alapa!C15 -> 0 | L5: B-01-BII-02 | M5: Főkönyvi kivonat egyeztetés
A6: ="Fordulónap: "&Alapa!C12 -> Fordulónap: | F6: Készítette: | G6: =IFERROR(VLOOKUP(M8,Alapa!$K$2:$M$11,3),"") | I6: Ellenőrizte: | J6: =IF(Alapa!$M$2=0," ",Alapa!$M$2) | L6: B-01-BII-10-01 | M6: Követelések
L7: B-01-BII-10-02 | M7: Egyéb követelések
A8: Más vállalkozással szembeni rövid lejáratú követelések | L8: Készítette: | M8: 2
A9: Sorszám | B9: Dolgozó neve | C9: Folyósítás időpontja | D9: Összege | E9: Törlesztések összege | F9: Fennálló követelés összesen | G9: Értékvesztés | H9: Mérleg szerinti érték | I9: Kamat % | J9: Lejárat
A10: =COUNT(A$9:$A9)+1 -> 1 | F10: =D10-E10 -> 0 | H10: =F10-G10 -> 0
A11: =COUNT(A$9:$A10)+1 -> 2 | F11: =D11-E11 -> 0 | H11: =F11-G11 -> 0
A12: =COUNT(A$9:$A11)+1 -> 3 | F12: =D12-E12 -> 0 | H12: =F12-G12 -> 0
A13: Összesen: | D13: =SUM(D10:D12) -> 0 | E13: =SUM(E10:E12) -> 0 | F13: =SUM(F10:F12) -> 0 | G13: =SUM(G10:G12) -> 0 | H13: =SUM(H10:H12) -> 0
M14: Eredmény:
A15: Munkavállalókkal szembeni követelések | M15: Ide írja az egyeztetés / vizsgálat szöveges értékelését
A16: Sorszám | B16: Dolgozó neve | C16: Folyósítás időpontja | D16: Összege | E16: Törlesztések összege | F16: Fennálló követelés összesen | G16: Értékvesztés | H16: Mérleg szerinti érték | I16: Kamat % | J16: Lejárat | M16: Következtetés:
A17: =COUNT(A$16:$A16)+1 -> 1 | F17: =D17-E17 -> 0 | H17: =F17-G17 -> 0 | M17: Ide írja a következtetés szövegét
A18: =COUNT(A$16:$A17)+1 -> 2 | F18: =D18-E18 -> 0 | H18: =F18-G18 -> 0
A19: =COUNT(A$16:$A18)+1 -> 3 | F19: =D19-E19 -> 0 | H19: =F19-G19 -> 0
A20: Összesen: | D20: =SUM(D17:D19) -> 0 | E20: =SUM(E17:E19) -> 0 | F20: =SUM(F17:F19) -> 0 | G20: =SUM(G17:G19) -> 0 | H20: =SUM(H17:H19) -> 0
A22: Elszámolási előlegek
A23: Sorszám | B23: Felvevő neve | C23: Folyósítás időpontja | D23: Összege | E23: Törlesztések összege | F23: Fennálló követelés összesen | G23: Értékvesztés | H23: Mérleg szerinti érték | I23: Lejárat | J23: Vállalkozási cél
A24: =COUNT(A$23:$A23)+1 -> 1 | F24: =D24-E24 -> 0 | H24: =F24-G24 -> 0
A25: =COUNT(A$23:$A24)+1 -> 2 | F25: =D25-E25 -> 0 | H25: =F25-G25 -> 0
A26: =COUNT(A$23:$A25)+1 -> 3 | F26: =D26-E26 -> 0 | H26: =F26-G26 -> 0
A27: Összesen: | D27: =SUM(D24:D26) -> 0 | E27: =SUM(E24:E26) -> 0 | F27: =SUM(F24:F26) -> 0 | G27: =SUM(G24:G26) -> 0 | H27: =SUM(H24:H26) -> 0
A29: Hosszú lejáratú követelések átsorolt (egy éven belül) esedékes része
A30: Sorszám | B30: Adós neve | C30: Honnan Fk. Szla. szám | D30: Hova Mérleg tétel | E30: Összeg | F30: Értékvesztés | G30: Mérleg szerinti érték
A31: =COUNT(A$30:$A30)+1 -> 1 | D31: B.II.5. | G31: =E31-F31 -> 0
A32: =COUNT(A$30:$A31)+1 -> 2 | D32: B.II.5. | G32: =E32-F32 -> 0
A33: =COUNT(A$30:$A32)+1 -> 3 | D33: B.II.5. | G33: =E33-F33 -> 0
A34: Összesen: | D34: =SUM(D31:D33) -> 0 | E34: =SUM(E31:E33) -> 0 | F34: =SUM(F31:F33) -> 0 | G34: =SUM(G31:G33) -> 0
A36: Központi költségvetésnek fizetendő adók, járulékok túlfizetése
A37: Sorszám | B37: Adós neve | C37: Honnan Fk. Szla. szám | D37: Hova Mérleg tétel | E37: Összeg | F37: Értékvesztés | G37: Mérleg szerinti érték
A38: =COUNT(A$37:$A37)+1 -> 1 | D38: B.II.5. | G38: =E38-F38 -> 0
A39: =COUNT(A$37:$A38)+1 -> 2 | D39: B.II.5. | G39: =E39-F39 -> 0
A40: =COUNT(A$37:$A39)+1 -> 3 | D40: B.II.5. | G40: =E40-F40 -> 0
A41: Összesen: | D41: =SUM(D38:D40) -> 0 | E41: =SUM(E38:E40) -> 0 | F41: =SUM(F38:F40) -> 0 | G41: =SUM(G38:G40) -> 0
A43: Önkormányzati adók túlfizetése
A44: Sorszám | B44: Adós neve | C44: Honnan Fk. Szla. szám | D44: Hova Mérleg tétel | E44: Összeg | F44: Értékvesztés | G44: Mérleg szerinti érték
A45: =COUNT(A$44:$A44)+1 -> 1 | D45: B.II.5. | G45: =E45-F45 -> 0
A46: =COUNT(A$44:$A45)+1 -> 2 | D46: B.II.5. | G46: =E46-F46 -> 0
A47: =COUNT(A$44:$A46)+1 -> 3 | D47: B.II.5. | G47: =E47-F47 -> 0
A48: Összesen: | D48: =SUM(D45:D47) -> 0 | E48: =SUM(E45:E47) -> 0 | F48: =SUM(F45:F47) -> 0 | G48: =SUM(G45:G47) -> 0
A50: Szállítói túlfizetések
A51: Sorszám | B51: Adós neve | C51: Honnan Fk. Szla. szám | D51: Hova Mérleg tétel | E51: Összeg | F51: Értékvesztés | G51: Mérleg szerinti érték
A52: =COUNT(A$51:$A51)+1 -> 1 | D52: B.II.5. | G52: =E52-F52 -> 0
A53: =COUNT(A$51:$A52)+1 -> 2 | D53: B.II.5. | G53: =E53-F53 -> 0
A54: =COUNT(A$51:$A53)+1 -> 3 | D54: B.II.5. | G54: =E54-F54 -> 0
A55: Összesen: | D55: =SUM(D52:D54) -> 0 | E55: =SUM(E52:E54) -> 0 | F55: =SUM(F52:F54) -> 0 | G55: =SUM(G52:G54) -> 0
A57: Különféle egyéb követelések
A58: Sorszám | B58: Adós neve | C58: Folyósítás időpontja | D58: Összege | E58: Törlesztések összege | F58: Fennálló követelés összesen | G58: Értékvesztés | H58: Mérleg szerinti érték
A59: =COUNT(A$58:$A58)+1 -> 1 | F59: =D59-E59 -> 0 | H59: =F59-G59 -> 0
A60: =COUNT(A$58:$A59)+1 -> 2 | F60: =D60-E60 -> 0 | H60: =F60-G60 -> 0
A61: =COUNT(A$58:$A60)+1 -> 3 | F61: =D61-E61 -> 0 | H61: =F61-G61 -> 0
A62: Összesen: | D62: =SUM(D59:D61) -> 0 | E62: =SUM(E59:E61) -> 0 | F62: =SUM(F59:F61) -> 0 | G62: =SUM(G59:G61) -> 0 | H62: =SUM(H59:H61) -> 0
A64: Egyenlegközlés-Visszaigazolás egyeztetése
A65: Azonosító / Sorszám | B65: Adós neve | C65: Követelés összege | D65: Visszaigazolt | E65: Eltérés | F65: Eltérésből vizsgálatig befolyt | G65: Fennmaradt eltérés | H65: Tisztázott eltérés | I65: Eltérés oka/Intézkedés* | J65: Tisztázatlan egyenleg | K65: Záró értékvesztés
A66: =COUNT(A$65:$A65)+1 -> 1 | E66: =+D66-C66 -> 0 | G66: =+E66-F66 -> 0 | J66: =+G66-H66 -> 0
A67: =COUNT(A$65:$A66)+1 -> 2 | E67: =+D67-C67 -> 0 | G67: =+E67-F67 -> 0 | J67: =+G67-H67 -> 0
A68: =COUNT(A$65:$A67)+1 -> 3 | E68: =+D68-C68 -> 0 | G68: =+E68-F68 -> 0 | J68: =+G68-H68 -> 0
A69: =COUNT(A$65:$A68)+1 -> 4 | E69: =+D69-C69 -> 0 | G69: =+E69-F69 -> 0 | J69: =+G69-H69 -> 0
A70: =COUNT(A$65:$A69)+1 -> 5 | E70: =+D70-C70 -> 0 | G70: =+E70-F70 -> 0 | J70: =+G70-H70 -> 0
B71: Összesen: | C71: =SUM(C66:C70) -> 0 | D71: =SUM(D66:D70) -> 0 | E71: =SUM(E66:E70) -> 0 | F71: =SUM(F66:F70) -> 0 | G71: =SUM(G66:G70) -> 0 | H71: =SUM(H66:H70) -> 0 | J71: =SUM(J66:J70) -> 0 | K71: =SUM(K66:K70) -> 0
A72: *fizetési felszólítás; nem válaszolt; megszűnt; haladék; fizetési meghagyás; perelt; jogerősen megítélt; csődvédelem; csődegyezség; végelszámolás; felszámolás; igazoltan megtérülő; egyéb.
A73: Értékvesztés nyilvántartása
A74: Azonosító / Sorszám | B74: Vevő/Adós neve | C74: Fordulónapon fennálló követelés | D74: Mk-ig befolyt | E74: Vitatott / Behajthatatlan | F74: Mk-kor fennálló | G74: Nyitó értékvesztés | H74: Tárgy évi megtérülés, kivezetés | I74: Tárgy évi Értékvesztés "+" Visszaírás"-" | J74: Záró értékvesztés | K74: Értékvesztés/ Mk-kor fennálló %
A75: =COUNT(A$74:$A74)+1 -> 1 | F75: =C75-E75-D75 -> 0 | J75: =G75-H75+I75 -> 0 | K75: =IF(F75=0,0,IF(J75=0,0,IF(J75=0,0,J75/F75%))) -> 0
A76: =COUNT(A$74:$A75)+1 -> 2 | F76: =C76-E76-D76 -> 0 | J76: =G76-H76+I76 -> 0 | K76: =IF(F76=0,0,IF(J76=0,0,IF(J76=0,0,J76/F76%))) -> 0
A77: =COUNT(A$74:$A76)+1 -> 3 | F77: =C77-E77-D77 -> 0 | J77: =G77-H77+I77 -> 0 | K77: =IF(F77=0,0,IF(J77=0,0,IF(J77=0,0,J77/F77%))) -> 0
A78: =COUNT(A$74:$A77)+1 -> 4 | F78: =C78-E78-D78 -> 0 | J78: =G78-H78+I78 -> 0 | K78: =IF(F78=0,0,IF(J78=0,0,IF(J78=0,0,J78/F78%))) -> 0
A79: =COUNT(A$74:$A78)+1 -> 5 | F79: =C79-E79-D79 -> 0 | J79: =G79-H79+I79 -> 0 | K79: =IF(F79=0,0,IF(J79=0,0,IF(J79=0,0,J79/F79%))) -> 0
B80: Összesen: | C80: =SUM(C75:C79) -> 0 | D80: =SUM(D75:D79) -> 0 | E80: =SUM(E75:E79) -> 0 | F80: =SUM(F75:F79) -> 0 | G80: =SUM(G75:G79) -> 0 | H80: =SUM(H75:H79) -> 0 | I80: =SUM(I75:I79) -> 0 | J80: =SUM(J75:J79) -> 0 | K80: =IF(F80=0,0,IF(J80=0,0,IF(J80=0,0,J80/F80%))) -> 0

Sheet B-01-BIII-01
A1: B-01-BIII-01
B2: =C21 -> 0 | D2: =G15 -> NINCS FK. ADAT | E2: =G17 -> Ide írja a következtetés szövegét | F2: ◄◄ NEM SZERKESZTHETŐ SOR !!
B3: Leltárösszesítő | F3: Tartalom | G3: Tartalom
F4: B-01-BIII-01 | G4: Leltárösszesítő
A5: =Alapa!C17 -> 0 | C5: Dátum: | D5: =Alapa!C15 -> 0 | F5: B-01-BIII-02 | G5: Főkönyvi egyeztetés
A6: ="Fordulónap: "&Alapa!C12 -> Fordulónap: | C6: Készítette: | D6: =IFERROR(VLOOKUP(G8,Alapa!$K$2:$M$11,3),"") | F6: B-01-BIII-10-01 | G6: Értékpapírok (részesedések)
C7: Ellenőrizte: | D7: =IF(Alapa!$M$2=0," ",Alapa!$M$2) | F7: B-01-BIII-10-02 | G7: Forgatási célú hitelviszonyt megtestesítő értékpapír
F8: Készítette: | G8: 2
A10: B.III. Értékpapírok | C10: =IF(D19=0,"NINCS FK. ADAT",IF(C19=0,"NINCS ANALITIKA",IF(C21=0,"EGYEZIK","NEM EGYEZIK !"))) -> NINCS FK. ADAT
C11: Ft-ban | D11: Ft-ban | E11: E Ft-ban
B12: Megnevezés | C12: Analitika | D12: Főkönyv | E12: Mérleg
A13: 1. | B13: Részesedés kapcsolt vállalkozásban | D13: =Import_M!H50 -> 0 | E13: =Import_M!F50 -> 0
A14: 2. | B14: Jelentős tulajdoni részesedés | D14: =Import_M!H51 -> 0 | E14: =Import_M!F51 -> 0 | G14: Eredmény:
A15: 3. | B15: Egyéb részesedés | D15: =Import_M!H52 -> 0 | E15: =Import_M!F52 -> 0 | G15: =C10 -> NINCS FK. ADAT
A16: 4. | B16: Saját részvények, saját üzletrészek | D16: =Import_M!H53 -> 0 | E16: =Import_M!F53 -> 0 | G16: Következtetés:
A17: 5. | B17: Forgatási célú hitelviszonyt megtestesítő értékpapírok | D17: =Import_M!H54 -> 0 | E17: =Import_M!F54 -> 0 | G17: Ide írja a következtetés szövegét
A18: 6. | B18: Értékpapírok értékelési különbözete | D18: =Import_M!H55 -> 0 | E18: =Import_M!F55 -> 0
B19: Összesen | C19: =ROUND(SUM(C13:C18),0) -> 0 | D19: =SUM(D13:D18) -> 0 | E19: =SUM(E13:E18) -> 0
B21: Eltérés: | C21: =C19-D19 -> 0
A24: Leltármellékletek:
A25: Főkönyvi egyeztetés
A26: Értékpapírok (részesedések)
A27: Forgatási célú hitelviszonyt megtestesítő értékpapír

Sheet B-01-BIII-02
A1: B-01-BIII-02 | C1: B.III. Értékpapírok
D2: =L15 -> Ide írja az egyeztetés / vizsgálat szöveges értékelését | E2: =L17 -> Ide írja a következtetés szövegét | K2: ◄◄ NEM SZERKESZTHETŐ SOR !!
A3: =Alapa!C17 -> 0 | E3: Dátum: | F3: =Alapa!C15 -> 0 | K3: Tartalom | L3: Tartalom
A4: ="Fordulónap: "&Alapa!C12 -> Fordulónap: | E4: Készítette: | F4: =IFERROR(VLOOKUP(L8,Alapa!$K$2:$M$11,3),"") | K4: B-01-BIII-01 | L4: Leltárösszesítő
E5: Ellenőrizte: | F5: =IF(Alapa!$M$2=0," ",Alapa!$M$2) | K5: B-01-BIII-02 | L5: Főkönyvi egyeztetés
A6: Főkönyvi kivonat elemzése | G6: Kivételes nagyságú bevétel költség: | H6: =Tartalom!$F$112*Alapa!D33 -> 0 | K6: B-01-BIII-10-01 | L6: Értékpapírok (részesedések)
A7: Mérlegértékek E Ft-ban | D7: =Alapa!C10 -> 0 | E7: =Alapa!C11 -> 0 | F7: Eltérés | G7: =Alapa!C11&"/"&Alapa!C10 -> / | K7: B-01-BIII-10-02 | L7: Forgatási célú hitelviszonyt megtestesítő értékpapír
B8: Számlaegyenlegek Ft-ban | D8: E Ft ; Ft | E8: E Ft ; Ft | F8: E Ft ; Ft | G8: % | K8: Készítette: | L8: 2
F9: =IF(E9-D9=0," ",E9-D9) | G9: =IFERROR(E9/D9%," ")
F10: =IF(E10-D10=0," ",E10-D10) | G10: =IFERROR(E10/D10%," ")
F11: =IF(E11-D11=0," ",E11-D11) | G11: =IFERROR(E11/D11%," ")
F12: =IF(E12-D12=0," ",E12-D12) | G12: =IFERROR(E12/D12%," ")
F13: =IF(E13-D13=0," ",E13-D13) | G13: =IFERROR(E13/D13%," ")
F14: =IF(E14-D14=0," ",E14-D14) | G14: =IFERROR(E14/D14%," ") | L14: Eredmény:
F15: =IF(E15-D15=0," ",E15-D15) | G15: =IFERROR(E15/D15%," ") | L15: Ide írja az egyeztetés / vizsgálat szöveges értékelését
F16: =IF(E16-D16=0," ",E16-D16) | G16: =IFERROR(E16/D16%," ") | L16: Következtetés:
F17: =IF(E17-D17=0," ",E17-D17) | G17: =IFERROR(E17/D17%," ") | L17: Ide írja a következtetés szövegét
F18: =IF(E18-D18=0," ",E18-D18) | G18: =IFERROR(E18/D18%," ")
F19: =IF(E19-D19=0," ",E19-D19) | G19: =IFERROR(E19/D19%," ")
F20: =IF(E20-D20=0," ",E20-D20) | G20: =IFERROR(E20/D20%," ")
F21: =IF(E21-D21=0," ",E21-D21) | G21: =IFERROR(E21/D21%," ")
F22: =IF(E22-D22=0," ",E22-D22) | G22: =IFERROR(E22/D22%," ")
F23: =IF(E23-D23=0," ",E23-D23) | G23: =IFERROR(E23/D23%," ")
F24: =IF(E24-D24=0," ",E24-D24) | G24: =IFERROR(E24/D24%," ")
F25: =IF(E25-D25=0," ",E25-D25) | G25: =IFERROR(E25/D25%," ")
F26: =IF(E26-D26=0," ",E26-D26) | G26: =IFERROR(E26/D26%," ")
F27: =IF(E27-D27=0," ",E27-D27) | G27: =IFERROR(E27/D27%," ")
F28: =IF(E28-D28=0," ",E28-D28) | G28: =IFERROR(E28/D28%," ")
F29: =IF(E29-D29=0," ",E29-D29) | G29: =IFERROR(E29/D29%," ")
... F400: =IF(E400-D400=0," ",E400-D400) | G400: =IFERROR(E400/D400%," ")

Sheet B-01-BIII-10-01
A1: B-01-BIII-10-01
D2: =O15 -> Ide írja az egyeztetés / vizsgálat szöveges értékelését | E2: =O17 -> Ide írja a következtetés szövegét | N2: ◄◄ NEM SZERKESZTHETŐ SOR !!
F3: Leltár | N3: Tartalom | O3: Tartalom
A4: B.III.1.,2.,3.,4. Értékpapírok (részesedések) | N4: B-01-BIII-01 | O4: Leltárösszesítő
A5: =Alapa!C17 -> 0 | G5: Dátum: | H5: =Alapa!C15 -> 0 | N5: B-01-BIII-02 | O5: Főkönyvi egyeztetés
A6: ="Fordulónap: "&Alapa!C12 -> Fordulónap: | G6: Készítette: | H6: =IFERROR(VLOOKUP(O8,Alapa!$K$2:$M$11,3),"") | J6: Ellenőrizte: | K6: =IF(Alapa!$M$2=0," ",Alapa!$M$2) | N6: B-01-BIII-10-01 | O6: Értékpapírok (részesedések)
N7: B-01-BIII-10-02 | O7: Forgatási célú hitelviszonyt megtestesítő értékpapír
A8: B.III.1. Részesedések kapcsolt vállalkozásban | N8: Készítette: | O8: 2
A9: Leltárfelvét típusa: | C9: EGYEZTETÉS/SZÁMBAVÉTEL
A10: Azonosító / Sorszám | B10: Cég/Kibocsátó | C10: Vásárlás időpontja | D10: Bekerülési érték | E10: Tulajdoni hányad % | F10: Üzletrész | H10: Értékpapír
F11: Névérték | G11: Ft/Névérték | H11: -tól | I11: -ig | J11: Darabszám | K11: Névérték / Darab | L11: Névérték | M11: Ft/Névérték
A12: =COUNT(A$11:$A11)+1 -> 1 | J12: =IF(I12-H12=0,0,I12-H12+1) -> 0 | L12: =K12*J12 -> 0 | M12: =IF(L12=0," ",D12/L12)
A13: =COUNT(A$11:$A12)+1 -> 2 | J13: =IF(I13-H13=0,0,I13-H13+1) -> 0 | L13: =K13*J13 -> 0 | M13: =IF(L13=0," ",D13/L13)
A14: =COUNT(A$11:$A13)+1 -> 3 | J14: =IF(I14-H14=0,0,I14-H14+1) -> 0 | L14: =K14*J14 -> 0 | M14: =IF(L14=0," ",D14/L14) | O14: Eredmény:
A15: =COUNT(A$11:$A14)+1 -> 4 | J15: =IF(I15-H15=0,0,I15-H15+1) -> 0 | L15: =K15*J15 -> 0 | M15: =IF(L15=0," ",D15/L15) | O15: Ide írja az egyeztetés / vizsgálat szöveges értékelését
A16: =COUNT(A$11:$A15)+1 -> 5 | J16: =IF(I16-H16=0,0,I16-H16+1) -> 0 | L16: =K16*J16 -> 0 | M16: =IF(L16=0," ",D16/L16) | O16: Következtetés:
A17: Összesen: | D17: =SUM(D12:D16) -> 0 | F17: =SUM(F12:F16) -> 0 | J17: =SUM(J12:J16) -> 0 | L17: =SUM(L12:L16) -> 0 | M17: =SUM(M12:M16) -> 0 | O17: Ide írja a következtetés szövegét
A18: Értékelés
A19: Azonosító / Sorszám | B19: Megnevezés | C19: Bekerülési érték | D19: Jegyzett tőke | E19: Saját tőke | F19: Befektetésre jutó saját tőke rész | G19: A társaság tartós piaci megítélése tendenciája | H19: Megszűnő társaságnál megtérülő összeg | I19: Piaci érték | J19: Veszteség Tartós és Jelentős Igen / Nem | K19: Nyitó értékvesztés | L19: Tárgy évi Értékvesztés/ Visszaírás "-" | M19: Mérleg szerinti érték
A20: =COUNT(A$19:$A19)+1 -> 1 | M20: =C20-K20-L20 -> 0
A21: =COUNT(A$19:$A20)+1 -> 2 | M21: =C21-K21-L21 -> 0
A22: =COUNT(A$19:$A21)+1 -> 3 | M22: =C22-K22-L22 -> 0
A23: =COUNT(A$19:$A22)+1 -> 4 | M23: =C23-K23-L23 -> 0
A24: =COUNT(A$19:$A23)+1 -> 5 | M24: =C24-K24-L24 -> 0
A25: Összesen: | C25: =SUM(C20:C24) -> 0 | D25: =SUM(D20:D24) -> 0 | E25: =SUM(E20:E24) -> 0 | F25: =SUM(F20:F24) -> 0 | H25: =SUM(H20:H24) -> 0 | I25: =SUM(I20:I24) -> 0 | K25: =SUM(K20:K24) -> 0 | L25: =SUM(L20:L24) -> 0 | M25: =SUM(M20:M24) -> 0
A27: B.III.2. Jelentős tulajdoni részesedések
A28: Azonosító / Sorszám | B28: Cég/Kibocsátó | C28: Vásárlás időpontja | D28: Bekerülési érték | E28: Tulajdoni hányad % | F28: Üzletrész | H28: Értékpapír
F29: Névérték | G29: Ft/Névérték | H29: -tól | I29: -ig | J29: Darabszám | K29: Névérték / Darab | L29: Névérték | M29: Ft/Névérték
A30: =COUNT(A$29:$A29)+1 -> 1 | J30: =IF(I30-H30=0,0,I30-H30+1) -> 0 | L30: =K30*J30 -> 0 | M30: =IF(L30=0," ",D30/L30)
A31: =COUNT(A$29:$A30)+1 -> 2 | J31: =IF(I31-H31=0,0,I31-H31+1) -> 0 | L31: =K31*J31 -> 0 | M31: =IF(L31=0," ",D31/L31)
A32: =COUNT(A$29:$A31)+1 -> 3 | J32: =IF(I32-H32=0,0,I32-H32+1) -> 0 | L32: =K32*J32 -> 0 | M32: =IF(L32=0," ",D32/L32)
A33: =COUNT(A$29:$A32)+1 -> 4 | J33: =IF(I33-H33=0,0,I33-H33+1) -> 0 | L33: =K33*J33 -> 0 | M33: =IF(L33=0," ",D33/L33)
A34: =COUNT(A$29:$A33)+1 -> 5 | J34: =IF(I34-H34=0,0,I34-H34+1) -> 0 | L34: =K34*J34 -> 0 | M34: =IF(L34=0," ",D34/L34)
A35: Összesen: | D35: =SUM(D30:D34) -> 0 | F35: =SUM(F30:F34) -> 0 | J35: =SUM(J30:J34) -> 0 | L35: =SUM(L30:L34) -> 0 | M35: =SUM(M30:M34) -> 0
A36: Értékelés
A37: Azonosító / Sorszám | B37: Megnevezés | C37: Bekerülési érték | D37: Jegyzett tőke | E37: Saját tőke | F37: Befektetésre jutó saját tőke rész | G37: A társaság tartós piaci megítélése tendenciája | H37: Megszűnő társaságnál megtérülő összeg | I37: Piaci érték | J37: Veszteség Tartós és Jelentős Igen / Nem | K37: Nyitó értékvesztés | L37: Tárgy évi Értékvesztés/ Visszaírás "-" | M37: Mérleg szerinti érték
A38: =COUNT(A$37:$A37)+1 -> 1 | M38: =C38-K38-L38 -> 0
A39: =COUNT(A$37:$A38)+1 -> 2 | M39: =C39-K39-L39 -> 0
A40: =COUNT(A$37:$A39)+1 -> 3 | M40: =C40-K40-L40 -> 0
A41: =COUNT(A$37:$A40)+1 -> 4 | M41: =C41-K41-L41 -> 0
A42: =COUNT(A$37:$A41)+1 -> 5 | M42: =C42-K42-L42 -> 0
A43: Összesen: | C43: =SUM(C38:C42) -> 0 | D43: =SUM(D38:D42) -> 0 | E43: =SUM(E38:E42) -> 0 | F43: =SUM(F38:F42) -> 0 | H43: =SUM(H38:H42) -> 0 | I43: =SUM(I38:I42) -> 0 | K43: =SUM(K38:K42) -> 0 | L43: =SUM(L38:L42) -> 0 | M43: =SUM(M38:M42) -> 0
A45: B.III.3. Egyéb részesedés
A46: Azonosító / Sorszám | B46: Cég/Kibocsátó | C46: Vásárlás időpontja | D46: Bekerülési érték | E46: Tulajdoni hányad % | F46: Üzletrész | H46: Értékpapír
F47: Névérték | G47: Ft/Névérték | H47: -tól | I47: -ig | J47: Darabszám | K47: Névérték / Darab | L47: Névérték | M47: Ft/Névérték
A48: =COUNT(A$47:$A47)+1 -> 1 | J48: =IF(I48-H48=0,0,I48-H48+1) -> 0 | L48: =K48*J48 -> 0 | M48: =IF(L48=0," ",D48/L48)
A49: =COUNT(A$47:$A48)+1 -> 2 | J49: =IF(I49-H49=0,0,I49-H49+1) -> 0 | L49: =K49*J49 -> 0 | M49: =IF(L49=0," ",D49/L49)
A50: =COUNT(A$47:$A49)+1 -> 3 | J50: =IF(I50-H50=0,0,I50-H50+1) -> 0 | L50: =K50*J50 -> 0 | M50: =IF(L50=0," ",D50/L50)
A51: =COUNT(A$47:$A50)+1 -> 4 | J51: =IF(I51-H51=0,0,I51-H51+1) -> 0 | L51: =K51*J51 -> 0 | M51: =IF(L51=0," ",D51/L51)
A52: =COUNT(A$47:$A51)+1 -> 5 | J52: =IF(I52-H52=0,0,I52-H52+1) -> 0 | L52: =K52*J52 -> 0 | M52: =IF(L52=0," ",D52/L52)
A53: Összesen: | D53: =SUM(D48:D52) -> 0 | F53: =SUM(F48:F52) -> 0 | J53: =SUM(J48:J52) -> 0 | L53: =SUM(L48:L52) -> 0 | M53: =SUM(M48:M52) -> 0
A54: Értékelés
A55: Azonosító / Sorszám | B55: Megnevezés | C55: Bekerülési érték | D55: Jegyzett tőke | E55: Saját tőke | F55: Befektetésre jutó saját tőke rész | G55: A társaság tartós piaci megítélése tendenciája | H55: Megszűnő társaságnál megtérülő összeg | I55: Piaci érték | J55: Veszteség Tartós és Jelentős Igen / Nem | K55: Nyitó értékvesztés | L55: Tárgy évi Értékvesztés/ Visszaírás "-" | M55: Mérleg szerinti érték
A56: =COUNT(A$55:$A55)+1 -> 1 | M56: =C56-K56-L56 -> 0
A57: =COUNT(A$55:$A56)+1 -> 2 | M57: =C57-K57-L57 -> 0
A58: =COUNT(A$55:$A57)+1 -> 3 | M58: =C58-K58-L58 -> 0
A59: =COUNT(A$55:$A58)+1 -> 4 | M59: =C59-K59-L59 -> 0
A60: =COUNT(A$55:$A59)+1 -> 5 | M60: =C60-K60-L60 -> 0
A61: Összesen: | C61: =SUM(C56:C60) -> 0 | D61: =SUM(D56:D60) -> 0 | E61: =SUM(E56:E60) -> 0 | F61: =SUM(F56:F60) -> 0 | H61: =SUM(H56:H60) -> 0 | I61: =SUM(I56:I60) -> 0 | K61: =SUM(K56:K60) -> 0 | L61: =SUM(L56:L60) -> 0 | M61: =SUM(M56:M60) -> 0
A63: B.III.4. Saját részvények és részesedések
A64: Azonosító / Sorszám | B64: Cég/Kibocsátó | C64: Vásárlás időpontja | D64: Bekerülési érték | E64: Tulajdoni hányad % | F64: Üzletrész | H64: Értékpapír
F65: Névérték | G65: Ft/Névérték | H65: -tól | I65: -ig | J65: Darabszám | K65: Névérték / Darab | L65: Névérték | M65: Ft/Névérték
A66: =COUNT(A$65:$A65)+1 -> 1 | J66: =IF(I66-H66=0,0,I66-H66+1) -> 0 | L66: =K66*J66 -> 0 | M66: =IF(L66=0," ",D66/L66)
A67: =COUNT(A$65:$A66)+1 -> 2 | J67: =IF(I67-H67=0,0,I67-H67+1) -> 0 | L67: =K67*J67 -> 0 | M67: =IF(L67=0," ",D67/L67)
A68: =COUNT(A$65:$A67)+1 -> 3 | J68: =IF(I68-H68=0,0,I68-H68+1) -> 0 | L68: =K68*J68 -> 0 | M68: =IF(L68=0," ",D68/L68)
A69: =COUNT(A$65:$A68)+1 -> 4 | J69: =IF(I69-H69=0,0,I69-H69+1) -> 0 | L69: =K69*J69 -> 0 | M69: =IF(L69=0," ",D69/L69)
A70: =COUNT(A$65:$A69)+1 -> 5 | J70: =IF(I70-H70=0,0,I70-H70+1) -> 0 | L70: =K70*J70 -> 0 | M70: =IF(L70=0," ",D70/L70)
A71: Összesen: | D71: =SUM(D66:D70) -> 0 | F71: =SUM(F66:F70) -> 0 | J71: =SUM(J66:J70) -> 0 | L71: =SUM(L66:L70) -> 0 | M71: =SUM(M66:M70) -> 0
A72: Értékelés
A73: Azonosító / Sorszám | B73: Megnevezés | C73: Bekerülési érték | D73: Jegyzett tőke | E73: Saját tőke | F73: Befektetésre jutó saját tőke rész | G73: A társaság tartós piaci megítélése tendenciája | H73: Megszűnő társaságnál megtérülő összeg | I73: Piaci érték | J73: Veszteség Tartós és Jelentős Igen / Nem | K73: Nyitó értékvesztés | L73: Tárgy évi Értékvesztés/ Visszaírás "-" | M73: Mérleg szerinti érték
A74: =COUNT(A$73:$A73)+1 -> 1 | M74: =C74-K74-L74 -> 0
A75: =COUNT(A$73:$A74)+1 -> 2 | M75: =C75-K75-L75 -> 0
A76: =COUNT(A$73:$A75)+1 -> 3 | M76: =C76-K76-L76 -> 0
A77: =COUNT(A$73:$A76)+1 -> 4 | M77: =C77-K77-L77 -> 0
A78: =COUNT(A$73:$A77)+1 -> 5 | M78: =C78-K78-L78 -> 0
A79: Összesen: | C79: =SUM(C74:C78) -> 0 | D79: =SUM(D74:D78) -> 0 | E79: =SUM(E74:E78) -> 0 | F79: =SUM(F74:F78) -> 0 | H79: =SUM(H74:H78) -> 0 | I79: =SUM(I74:I78) -> 0 | K79: =SUM(K74:K78) -> 0 | L79: =SUM(L74:L78) -> 0 | M79: =SUM(M74:M78) -> 0

Sheet B-01-BIII-10-02
A1: B-01-BIII-10-02
D2: =M15 -> Ide írja az egyeztetés / vizsgálat szöveges értékelését | E2: =M17 -> Ide írja a következtetés szövegét | L2: ◄◄ NEM SZERKESZTHETŐ SOR !!
E3: Leltár | L3: Tartalom | M3: Tartalom
A4: B.III.5. Forgatási célú hitelviszonyt megtestesítő értékpapír | L4: B-01-BIII-01 | M4: Leltárösszesítő
A5: =Alapa!C17 -> 0 | F5: Dátum: | G5: =Alapa!C15 -> 0 | L5: B-01-BIII-02 | M5: Főkönyvi egyeztetés
A6: ="Fordulónap: "&Alapa!C12 -> Fordulónap: | F6: Készítette: | G6: =IFERROR(VLOOKUP(M8,Alapa!$K$2:$M$11,3),"") | I6: Ellenőrizte: | J6: =IF(Alapa!$M$2=0," ",Alapa!$M$2) | L6: B-01-BIII-10-01 | M6: Értékpapírok (részesedések)
L7: B-01-BIII-10-02 | M7: Forgatási célú hitelviszonyt megtestesítő értékpapír
L8: Készítette: | M8: 2
A9: Leltárfelvét típusa: | C9: EGYEZTETÉS/SZÁMBAVÉTEL
A10: Azonosító / Sorszám | B10: Cég/Kibocsátó | C10: Vásárlás időpontja | D10: Bekerülési érték | E10: Hozam % | F10: Értékpapír
F11: Sorszám: -tól, -ig | H11: Darabszám | I11: Névérték / Darab | J11: Névérték | K11: Ft/Névérték
A12: =COUNT(A$11:$A11)+1 -> 1 | H12: =IF(G12-F12=0,0,G12-F12+1) -> 0 | J12: =I12*H12 -> 0 | K12: =IF(J12=0," ",D12/J12)
A13: =COUNT(A$11:$A12)+1 -> 2 | H13: =IF(G13-F13=0,0,G13-F13+1) -> 0 | J13: =I13*H13 -> 0 | K13: =IF(J13=0," ",D13/J13)
A14: =COUNT(A$11:$A13)+1 -> 3 | H14: =IF(G14-F14=0,0,G14-F14+1) -> 0 | J14: =I14*H14 -> 0 | K14: =IF(J14=0," ",D14/J14) | M14: Eredmény:
A15: =COUNT(A$11:$A14)+1 -> 4 | H15: =IF(G15-F15=0,0,G15-F15+1) -> 0 | J15: =I15*H15 -> 0 | K15: =IF(J15=0," ",D15/J15) | M15: Ide írja az egyeztetés / vizsgálat szöveges értékelését
A16: =COUNT(A$11:$A15)+1 -> 5 | H16: =IF(G16-F16=0,0,G16-F16+1) -> 0 | J16: =I16*H16 -> 0 | K16: =IF(J16=0," ",D16/J16) | M16: Következtetés:
A17: Összesen: | D17: =SUM(D12:D16) -> 0 | H17: =SUM(H12:H16) -> 0 | J17: =SUM(J12:J16) -> 0 | K17: =SUM(K12:K16) -> 0 | M17: Ide írja a következtetés szövegét
A18: Értékvesztés nyilvántartása
A19: Azonosító / Sorszám | B19: Vevő/Adós neve | C19: Fordulónapon fennálló követelés | D19: Mk-ig befolyt | E19: Vitatott / Behajthatatlan | F19: Mk-kor fennálló | G19: Nyitó értékvesztés | H19: Tárgy évi megtérülés, kivezetés | I19: Tárgy évi Értékvesztés "+" Visszaírás"-" | J19: Záró értékvesztés | K19: Értékvesztés/ Mk-kor fennálló %
A20: =COUNT(A$19:$A19)+1 -> 1 | F20: =C20-E20-D20 -> 0 | J20: =G20-H20+I20 -> 0 | K20: =IF(F20=0,0,IF(J20=0,0,IF(J20=0,0,J20/F20%))) -> 0
A21: =COUNT(A$19:$A20)+1 -> 2 | F21: =C21-E21-D21 -> 0 | J21: =G21-H21+I21 -> 0 | K21: =IF(F21=0,0,IF(J21=0,0,IF(J21=0,0,J21/F21%))) -> 0
A22: =COUNT(A$19:$A21)+1 -> 3 | F22: =C22-E22-D22 -> 0 | J22: =G22-H22+I22 -> 0 | K22: =IF(F22=0,0,IF(J22=0,0,IF(J22=0,0,J22/F22%))) -> 0
A23: =COUNT(A$19:$A22)+1 -> 4 | F23: =C23-E23-D23 -> 0 | J23: =G23-H23+I23 -> 0 | K23: =IF(F23=0,0,IF(J23=0,0,IF(J23=0,0,J23/F23%))) -> 0
A24: =COUNT(A$19:$A23)+1 -> 5 | F24: =C24-E24-D24 -> 0 | J24: =G24-H24+I24 -> 0 | K24: =IF(F24=0,0,IF(J24=0,0,IF(J24=0,0,J24/F24%))) -> 0
B25: Összesen: | C25: =SUM(C20:C24) -> 0 | D25: =SUM(D20:D24) -> 0 | E25: =SUM(E20:E24) -> 0 | F25: =SUM(F20:F24) -> 0 | G25: =SUM(G20:G24) -> 0 | H25: =SUM(H20:H24) -> 0 | I25: =SUM(I20:I24) -> 0 | J25: =SUM(J20:J24) -> 0 | K25: =IF(F25=0,0,IF(J25=0,0,IF(J25=0,0,J25/F25%))) -> 0

Sheet B-01-BIV-01
A1: B-01-BIV-01
B2: =C17 -> 0 | D2: =G15 -> NINCS FK. ADAT | E2: =G17 -> Ide írja a következtetés szövegét | F2: ◄◄ NEM SZERKESZTHETŐ SOR !!
B3: Leltárösszesítő | F3: Tartalom | G3: Tartalom
F4: B-01-BIV-01 | G4: Leltárösszesítő
A5: =Alapa!C17 -> 0 | C5: Dátum: | D5: =Alapa!C15 -> 0 | F5: B-01-BIV-02 | G5: Főkönyvi kivonat egyeztetés
A6: ="Fordulónap: "&Alapa!C12 -> Fordulónap: | C6: Készítette: | D6: =IFERROR(VLOOKUP(G7,Alapa!$K$2:$M$11,3),"") | F6: B-01-BIV-10-01 | G6: Pénzeszközök részletezése
C7: Ellenőrizte: | D7: =IF(Alapa!$M$2=0," ",Alapa!$M$2) | F7: Készítette: | G7: 2
A10: B.IV. Pénzeszközök | C10: =IF(D15=0,"NINCS FK. ADAT",IF(C15=0,"NINCS ANALITIKA",IF(C17=0,"EGYEZIK","NEM EGYEZIK !"))) -> NINCS FK. ADAT
C11: Ft-ban | D11: Ft-ban | E11: E Ft-ban
B12: Megnevezés | C12: Analitika | D12: Főkönyv | E12: Mérleg
A13: 1. | B13: Pénztár, csekkek | D13: =Import_M!H57 -> 0 | E13: =Import_M!F57 -> 0
A14: 2. | B14: Bankbetétek | D14: =Import_M!H58 -> 0 | E14: =Import_M!F58 -> 0 | G14: Eredmény:
B15: Összesen | C15: =ROUND(SUM(C13:C14),0) -> 0 | D15: =SUM(D13:D14) -> 0 | E15: =SUM(E13:E14) -> 0 | G15: =C10 -> NINCS FK. ADAT
G16: Következtetés:
B17: Eltérés: | C17: =C15-D15 -> 0 | G17: Ide írja a következtetés szövegét
A20: Leltármellékletek:
A21: Főkönyvi kivonat egyeztetés
A22: Pénzeszközök részletezése

Sheet B-01-BIV-02
A1: B-01-BIV-02 | C1: B.IV. Pénzeszközök
D2: =L15 -> Ide írja az egyeztetés / vizsgálat szöveges értékelését | E2: =L17 -> Ide írja a következtetés szövegét | K2: ◄◄ NEM SZERKESZTHETŐ SOR !!
A3: =Alapa!C17 -> 0 | E3: Dátum: | F3: =Alapa!C15 -> 0 | K3: Tartalom | L3: Tartalom
A4: ="Fordulónap: "&Alapa!C12 -> Fordulónap: | E4: Készítette: | F4: =IFERROR(VLOOKUP(L7,Alapa!$K$2:$M$11,3),"") | K4: B-01-BIV-01 | L4: Leltárösszesítő
E5: Ellenőrizte: | F5: =IF(Alapa!$M$2=0," ",Alapa!$M$2) | K5: B-01-BIV-02 | L5: Főkönyvi kivonat egyeztetés
A6: Főkönyvi kivonat elemzése | G6: Kivételes nagyságú bevétel költség: | H6: =Tartalom!$F$112*Alapa!D33 -> 0 | K6: B-01-BIV-10-01 | L6: Pénzeszközök részletezése
A7: Mérlegértékek E Ft-ban | D7: =Alapa!C10 -> 0 | E7: =Alapa!C11 -> 0 | F7: Eltérés | G7: =Alapa!C11&"/"&Alapa!C10 -> / | K7: Készítette: | L7: 2
B8: Számlaegyenlegek Ft-ban | D8: E Ft ; Ft | E8: E Ft ; Ft | F8: E Ft ; Ft | G8: %
F9: =IF(E9-D9=0," ",E9-D9) | G9: =IFERROR(E9/D9%," ")
F10: =IF(E10-D10=0," ",E10-D10) | G10: =IFERROR(E10/D10%," ")
F11: =IF(E11-D11=0," ",E11-D11) | G11: =IFERROR(E11/D11%," ")
F12: =IF(E12-D12=0," ",E12-D12) | G12: =IFERROR(E12/D12%," ")
F13: =IF(E13-D13=0," ",E13-D13) | G13: =IFERROR(E13/D13%," ")
F14: =IF(E14-D14=0," ",E14-D14) | G14: =IFERROR(E14/D14%," ") | L14: Eredmény:
F15: =IF(E15-D15=0," ",E15-D15) | G15: =IFERROR(E15/D15%," ") | L15: Ide írja az egyeztetés / vizsgálat szöveges értékelését
F16: =IF(E16-D16=0," ",E16-D16) | G16: =IFERROR(E16/D16%," ") | L16: Következtetés:
F17: =IF(E17-D17=0," ",E17-D17) | G17: =IFERROR(E17/D17%," ") | L17: Ide írja a következtetés szövegét
F18: =IF(E18-D18=0," ",E18-D18) | G18: =IFERROR(E18/D18%," ")
F19: =IF(E19-D19=0," ",E19-D19) | G19: =IFERROR(E19/D19%," ")
F20: =IF(E20-D20=0," ",E20-D20) | G20: =IFERROR(E20/D20%," ")
F21: =IF(E21-D21=0," ",E21-D21) | G21: =IFERROR(E21/D21%," ")
F22: =IF(E22-D22=0," ",E22-D22) | G22: =IFERROR(E22/D22%," ")
F23: =IF(E23-D23=0," ",E23-D23) | G23: =IFERROR(E23/D23%," ")
F24: =IF(E24-D24=0," ",E24-D24) | G24: =IFERROR(E24/D24%," ")
F25: =IF(E25-D25=0," ",E25-D25) | G25: =IFERROR(E25/D25%," ")
F26: =IF(E26-D26=0," ",E26-D26) | G26: =IFERROR(E26/D26%," ")
F27: =IF(E27-D27=0," ",E27-D27) | G27: =IFERROR(E27/D27%," ")
F28: =IF(E28-D28=0," ",E28-D28) | G28: =IFERROR(E28/D28%," ")
F29: =IF(E29-D29=0," ",E29-D29) | G29: =IFERROR(E29/D29%," ")
... F400: =IF(E400-D400=0," ",E400-D400) | G400: =IFERROR(E400/D400%," ")

Sheet B-01-BIV-10-01
A1: B-01-BIV-10-01
D2: =O14 -> Ide írja az egyeztetés / vizsgálat szöveges értékelését | E2: =O16 -> Ide írja a következtetés szövegét | N2: ◄◄ NEM SZERKESZTHETŐ SOR !!
F3: Leltár | N3: Tartalom | O3: Tartalom
A4: B.IV. Pénzeszközök | N4: B-01-BIV-01 | O4: Leltárösszesítő
A5: =Alapa!C17 -> 0 | F5: Dátum: | G5: =Alapa!C15 -> 0 | N5: B-01-BIV-02 | O5: Főkönyvi kivonat egyeztetés
A6: ="Fordulónap: "&Alapa!C12 -> Fordulónap: | F6: Készítette: | G6: =IFERROR(VLOOKUP(O7,Alapa!$K$2:$M$11,3),"") | I6: Ellenőrizte: | J6: =IF(Alapa!$M$2=0," ",Alapa!$M$2) | N6: B-01-BIV-10-01 | O6: Pénzeszközök részletezése
N7: Készítette: | O7: 2
A8: Pénztár, csekkek | F8: Adatok Ft-ban
A9: Sorszám | B9: Főkönyvi szám | C9: Megnevezés | D9: Devizanem | E9: Könyvi érték | F9: Záró értékvesztés | G9: Mérlegérték
A10: =COUNT(#REF!)+1 -> 1 | G10: =E10 -> 0
A11: =COUNT(A$10:$A10)+1 -> 2 | G11: =E11 -> 0
A12: =COUNT(A$10:$A11)+1 -> 3 | G12: =E12 -> 0
A13: Összesen: | D13: =SUM(D10:D12) -> 0 | E13: =SUM(E10:E12) -> 0 | G13: =SUM(G10:G12) -> 0 | O13: Eredmény:
O14: Ide írja az egyeztetés / vizsgálat szöveges értékelését
A15: Bankbetétek | O15: Következtetés:
A16: Sorszám | B16: Főkönyvi szám | C16: Megnevezés | D16: Devizanem | E16: Könyvi érték | F16: Záró értékvesztés | G16: Mérlegérték | O16: Ide írja a következtetés szövegét
A17: =COUNT(A$16:$A16)+1 -> 1 | G17: =E17-F17 -> 0
A18: =COUNT(A$16:$A17)+1 -> 2 | G18: =E18-F18 -> 0
A19: =COUNT(A$16:$A18)+1 -> 3 | G19: =E19-F19 -> 0
A20: =COUNT(A$16:$A19)+1 -> 4 | G20: =E20-F20 -> 0
A21: =COUNT(A$16:$A20)+1 -> 5 | G21: =E21-F21 -> 0
A22: Összesen: | D22: =SUM(D17:D21) -> 0 | E22: =SUM(E17:E21) -> 0 | F22: =SUM(F17:F21) -> 0 | G22: =SUM(G17:G21) -> 0
A24: Értékvesztés nyilvántartása
A25: Sorszám | B25: Főkönyvi szám | C25: Vevő/Adós neve | D25: Fordulónapon fennálló követelés | E25: Mk-ig befolyt | F25: Vitatott / Behajthatatlan | G25: Mk-kor fennálló | H25: Nyitó értékvesztés | I25: Tárgy évi megtérülés, kivezetés | J25: Tárgy évi Értékvesztés "+" Visszaírás"-" | K25: Értékvesztés Visszaírás indoka | L25: Záró értékvesztés | M25: Értékvesztés/ Mk-kor fennálló %
A26: =COUNT(A$25:$A25)+1 -> 1 | G26: =D26-F26-E26 -> 0 | L26: =H26-I26+J26 -> 0 | M26: =IF(G26=0,0,IF(L26=0,0,IF(L26=0,0,L26/G26%))) -> 0
A27: =COUNT(A$25:$A26)+1 -> 2 | G27: =D27-F27-E27 -> 0 | L27: =H27-I27+J27 -> 0 | M27: =IF(G27=0,0,IF(L27=0,0,IF(L27=0,0,L27/G27%))) -> 0
A28: =COUNT(A$25:$A27)+1 -> 3 | G28: =D28-F28-E28 -> 0 | L28: =H28-I28+J28 -> 0 | M28: =IF(G28=0,0,IF(L28=0,0,IF(L28=0,0,L28/G28%))) -> 0
A29: =COUNT(A$25:$A28)+1 -> 4 | G29: =D29-F29-E29 -> 0 | L29: =H29-I29+J29 -> 0 | M29: =IF(G29=0,0,IF(L29=0,0,IF(L29=0,0,L29/G29%))) -> 0
A30: =COUNT(A$25:$A29)+1 -> 5 | G30: =D30-F30-E30 -> 0 | L30: =H30-I30+J30 -> 0 | M30: =IF(G30=0,0,IF(L30=0,0,IF(L30=0,0,L30/G30%))) -> 0
A31: Összesen: | D31: =SUM(D26:D30) -> 0 | E31: =SUM(E26:E30) -> 0 | F31: =SUM(F26:F30) -> 0 | G31: =SUM(G26:G30) -> 0 | H31: =SUM(H26:H30) -> 0 | I31: =SUM(I26:I30) -> 0 | J31: =SUM(J26:J30) -> 0 | K31: =SUM(K26:K30) -> 0 | L31: =SUM(L26:L30) -> 0 | M31: =IF(G31=0,0,IF(L31=0,0,IF(L31=0,0,L31/G31%))) -> 0

Sheet B-01-C-01
A1: B-01-C-01
B2: =C18 -> 0 | D2: =G15 -> NINCS FK. ADAT | E2: =G17 -> Ide írja a következtetés szövegét | F2: ◄◄ NEM SZERKESZTHETŐ SOR !!
B3: Leltárösszesítő | F3: Tartalom | G3: Tartalom
F4: B-01-C-01 | G4: Leltárösszesítő
A5: =Alapa!C17 -> 0 | C5: Dátum: | D5: =Alapa!C15 -> 0 | F5: B-01-C-02 | G5: Főkönyvi kivonat egyeztetés
A6: ="Fordulónap: "&Alapa!C12 -> Fordulónap: | C6: Készítette: | D6: =IFERROR(VLOOKUP(G7,Alapa!$K$2:$M$11,3),"") | F6: B-01-C-10-01 | G6: Aktív időbeli elhatárolások részletezése
C7: Ellenőrizte: | D7: =IF(Alapa!$M$2=0," ",Alapa!$M$2) | F7: Készítette: | G7: 2
A10: C. Aktív időbeli elhatárolások | C10: =IF(D16=0,"NINCS FK. ADAT",IF(C16=0,"NINCS ANALITIKA",IF(C18=0,"EGYEZIK","NEM EGYEZIK !"))) -> NINCS FK. ADAT
C11: Ft-ban | D11: Ft-ban | E11: E Ft-ban
B12: Megnevezés | C12: Analitika | D12: Főkönyv | E12: Mérleg
A13: 1. | B13: Bevételek aktív időbeli elhatárolása | D13: =Import_M!H60 -> 0 | E13: =Import_M!F60 -> 0
A14: 2. | B14: Költségek, ráfordítások aktív időbeli elhatárolása | D14: =Import_M!H61 -> 0 | E14: =Import_M!F61 -> 0 | G14: Eredmény:
A15: 3. | B15: Halasztott ráfordítások | D15: =Import_M!H62 -> 0 | E15: =Import_M!F62 -> 0 | G15: =C10 -> NINCS FK. ADAT
B16: Összesen | C16: =ROUND(SUM(C13:C15),0) -> 0 | D16: =SUM(D13:D15) -> 0 | E16: =SUM(E13:E15) -> 0 | G16: Következtetés:
G17: Ide írja a következtetés szövegét
B18: Eltérés: | C18: =C16-D16 -> 0
A21: Leltármellékletek:
A22: Leltárösszesítő
A23: Főkönyvi kivonat egyeztetés
A24: Aktív időbeli elhatárolások részletezése

Sheet B-01-C-02
A1: B-01-C-02 | C1: C. Aktív időbeli elhatárolások
D2: =L15 -> Ide írja az egyeztetés / vizsgálat szöveges értékelését | E2: =L17 -> Ide írja a következtetés szövegét | K2: ◄◄ NEM SZERKESZTHETŐ SOR !!
A3: =Alapa!C17 -> 0 | E3: Dátum: | F3: =Alapa!C15 -> 0 | K3: Tartalom | L3: Tartalom
A4: ="Fordulónap: "&Alapa!C12 -> Fordulónap: | E4: Készítette: | F4: =IFERROR(VLOOKUP(L7,Alapa!$K$2:$M$11,3),"") | K4: B-01-C-01 | L4: Leltárösszesítő
E5: Ellenőrizte: | F5: =IF(Alapa!$M$2=0," ",Alapa!$M$2) | K5: B-01-C-02 | L5: Főkönyvi kivonat egyeztetés
A6: Főkönyvi kivonat elemzése | G6: Kivételes nagyságú bevétel költség: | H6: =Tartalom!$F$112*Alapa!D33 -> 0 | K6: B-01-C-10-01 | L6: Aktív időbeli elhatárolások részletezése
A7: Mérlegértékek E Ft-ban | D7: =Alapa!C10 -> 0 | E7: =Alapa!C11 -> 0 | F7: Eltérés | G7: =Alapa!C11&"/"&Alapa!C10 -> / | K7: Készítette: | L7: 2
B8: Számlaegyenlegek Ft-ban | D8: E Ft ; Ft | E8: E Ft ; Ft | F8: E Ft ; Ft | G8: %
F9: =IF(E9-D9=0," ",E9-D9) | G9: =IFERROR(E9/D9%," ")
F10: =IF(E10-D10=0," ",E10-D10) | G10: =IFERROR(E10/D10%," ")
F11: =IF(E11-D11=0," ",E11-D11) | G11: =IFERROR(E11/D11%," ")
F12: =IF(E12-D12=0," ",E12-D12) | G12: =IFERROR(E12/D12%," ")
F13: =IF(E13-D13=0," ",E13-D13) | G13: =IFERROR(E13/D13%," ")
F14: =IF(E14-D14=0," ",E14-D14) | G14: =IFERROR(E14/D14%," ") | L14: Eredmény:
F15: =IF(E15-D15=0," ",E15-D15) | G15: =IFERROR(E15/D15%," ") | L15: Ide írja az egyeztetés / vizsgálat szöveges értékelését
F16: =IF(E16-D16=0," ",E16-D16) | G16: =IFERROR(E16/D16%," ") | L16: Következtetés:
F17: =IF(E17-D17=0," ",E17-D17) | G17: =IFERROR(E17/D17%," ") | L17: Ide írja a következtetés szövegét
F18: =IF(E18-D18=0," ",E18-D18) | G18: =IFERROR(E18/D18%," ")
F19: =IF(E19-D19=0," ",E19-D19) | G19: =IFERROR(E19/D19%," ")
F20: =IF(E20-D20=0," ",E20-D20) | G20: =IFERROR(E20/D20%," ")
F21: =IF(E21-D21=0," ",E21-D21) | G21: =IFERROR(E21/D21%," ")
F22: =IF(E22-D22=0," ",E22-D22) | G22: =IFERROR(E22/D22%," ")
F23: =IF(E23-D23=0," ",E23-D23) | G23: =IFERROR(E23/D23%," ")
F24: =IF(E24-D24=0," ",E24-D24) | G24: =IFERROR(E24/D24%," ")
F25: =IF(E25-D25=0," ",E25-D25) | G25: =IFERROR(E25/D25%," ")
F26: =IF(E26-D26=0," ",E26-D26) | G26: =IFERROR(E26/D26%," ")
F27: =IF(E27-D27=0," ",E27-D27) | G27: =IFERROR(E27/D27%," ")
F28: =IF(E28-D28=0," ",E28-D28) | G28: =IFERROR(E28/D28%," ")
F29: =IF(E29-D29=0," ",E29-D29) | G29: =IFERROR(E29/D29%," ")
... F400: =IF(E400-D400=0," ",E400-D400) | G400: =IFERROR(E400/D400%," ")

Sheet B-01-C-10-01
A1: B-01-C-10-01
D2: =N14 -> Ide írja az egyeztetés / vizsgálat szöveges értékelését | E2: =N16 -> Ide írja a következtetés szövegét | M2: ◄◄ NEM SZERKESZTHETŐ SOR !!
F3: Leltár | M3: Tartalom | N3: Tartalom
A4: C. Aktív időbeli elhatárolások | M4: B-01-C-01 | N4: Leltárösszesítő
A5: =Alapa!C17 -> 0 | F5: Dátum: | G5: =Alapa!C15 -> 0 | M5: B-01-C-02 | N5: Főkönyvi kivonat egyeztetés
A6: ="Fordulónap: "&Alapa!C12 -> Fordulónap: | F6: Készítette: | G6: =IFERROR(VLOOKUP(N7,Alapa!$K$2:$M$11,3),"") | I6: Ellenőrizte: | J6: =IF(Alapa!$M$2=0," ",Alapa!$M$2) | M6: B-01-C-10-01 | N6: Aktív időbeli elhatárolások részletezése
M7: Készítette: | N7: 2
A8: C.1. Bevételek aktív időbeli elhatárolása | H8: Adatok Ft-ban
A9: Sorszám | B9: Főkönyvi szám | C9: Partner | D9: Bizonylatszám | E9: Könyvi érték | F9: Értékvesztés | G9: Mérleg érték
A10: =COUNT(A$9:$A9)+1 -> 1 | G10: =E10-F10 -> 0
A11: =COUNT(A$9:$A10)+1 -> 2 | G11: =E11-F11 -> 0
A12: =COUNT(A$9:$A11)+1 -> 3 | G12: =E12-F12 -> 0
A13: Összesen: | E13: =SUM(E10:E12) -> 0 | F13: =SUM(F10:F12) -> 0 | G13: =SUM(G10:G12) -> 0 | N13: Eredmény:
N14: Ide írja az egyeztetés / vizsgálat szöveges értékelését
A15: C.2 Költségek, ráfordítások aktív időbeli elhatárolása | N15: Következtetés:
A16: Sorszám | B16: Főkönyvi szám | C16: Partner | D16: Bizonylatszám | E16: Könyvi érték | F16: Értékvesztés | G16: Mérleg érték | N16: Ide írja a következtetés szövegét
A17: =COUNT(A$16:$A16)+1 -> 1 | G17: =E17-F17 -> 0
A18: =COUNT(A$16:$A17)+1 -> 2 | G18: =E18-F18 -> 0
A19: =COUNT(A$16:$A18)+1 -> 3 | G19: =E19-F19 -> 0
A20: Összesen: | E20: =SUM(E17:E19) -> 0 | G20: =SUM(G17:G19) -> 0
A22: C.3 Halasztott ráfordítások
A23: Sorszám | B23: Főkönyvi szám | C23: Partner | D23: Bizonylatszám | E23: Könyvi érték | F23: Értékvesztés | G23: Mérleg érték
A24: =COUNT(A$23:$A23)+1 -> 1 | G24: =E24 -> 0
A25: =COUNT(A$23:$A24)+1 -> 2 | G25: =E25 -> 0
A26: =COUNT(A$23:$A25)+1 -> 3 | G26: =E26 -> 0
A27: Összesen: | E27: =SUM(E24:E26) -> 0 | G27: =SUM(G24:G26) -> 0
A29: Értékvesztés nyilvántartása
A30: Sorszám | B30: Főkönyvi szám | C30: Vevő/Adós neve | D30: Fordulónapon fennálló követelés | E30: Mk-ig befolyt | F30: Vitatott / Behajthatatlan | G30: Mk-kor fennálló | H30: Nyitó értékvesztés | I30: Tárgy évi megtérülés, kivezetés | J30: Tárgy évi Értékvesztés "+" Visszaírás"-" | K30: Záró értékvesztés | L30: Értékvesztés/ Mk-kor fennálló %
A31: =COUNT(A$30:$A30)+1 -> 1 | G31: =D31-F31-E31 -> 0 | K31: =H31-I31+J31 -> 0 | L31: =IF(G31=0,0,IF(K31=0,0,IF(K31=0,0,K31/G31%))) -> 0
A32: =COUNT(A$30:$A31)+1 -> 2 | G32: =D32-F32-E32 -> 0 | K32: =H32-I32+J32 -> 0 | L32: =IF(G32=0,0,IF(K32=0,0,IF(K32=0,0,K32/G32%))) -> 0
A33: =COUNT(A$30:$A32)+1 -> 3 | G33: =D33-F33-E33 -> 0 | K33: =H33-I33+J33 -> 0 | L33: =IF(G33=0,0,IF(K33=0,0,IF(K33=0,0,K33/G33%))) -> 0
A34: =COUNT(A$30:$A33)+1 -> 4 | G34: =D34-F34-E34 -> 0 | K34: =H34-I34+J34 -> 0 | L34: =IF(G34=0,0,IF(K34=0,0,IF(K34=0,0,K34/G34%))) -> 0
A35: =COUNT(A$30:$A34)+1 -> 5 | G35: =D35-F35-E35 -> 0 | K35: =H35-I35+J35 -> 0 | L35: =IF(G35=0,0,IF(K35=0,0,IF(K35=0,0,K35/G35%))) -> 0
A36: Összesen: | D36: =SUM(D31:D35) -> 0 | E36: =SUM(E31:E35) -> 0 | F36: =SUM(F31:F35) -> 0 | G36: =SUM(G31:G35) -> 0 | H36: =SUM(H31:H35) -> 0 | I36: =SUM(I31:I35) -> 0 | J36: =SUM(J31:J35) -> 0 | K36: =SUM(K31:K35) -> 0 | L36: =IF(G36=0,0,IF(K36=0,0,IF(K36=0,0,K36/G36%))) -> 0

Sheet B-01-D-01
A1: B-01-D-01
B2: =C25 -> 0 | D2: =G15 -> NINCS FK. ADAT | E2: =G17 -> Ide írja a következtetés szövegét | F2: ◄◄ NEM SZERKESZTHETŐ SOR !!
B3: Leltárösszesítő | F3: Tartalom | G3: Tartalom
F4: B-01-D-01 | G4: Leltárösszesítő
A5: =Alapa!C17 -> 0 | C5: Dátum: | D5: =Alapa!C15 -> 0 | F5: B-01-D-02 | G5: Főkönyvi kivonat egyeztetés
A6: ="Fordulónap: "&Alapa!C12 -> Fordulónap: | C6: Készítette: | D6: =IFERROR(VLOOKUP(G9,Alapa!$K$2:$M$11,3),"") | F6: B-01-D-10-01 | G6: Saját tőke részletezése
C7: Ellenőrizte: | D7: =IF(Alapa!$M$2=0," ",Alapa!$M$2) | F7: B-01-D-10-02 | G7: Fejlesztési tartalék
F8: B-01-D-10-03 | G8: Osztalékfizetési korlát
F9: Készítette: | G9: 2
A10: D. Saját tőke | C10: =IF(D23=0,"NINCS FK. ADAT",IF(C23=0,"NINCS ANALITIKA",IF(C25=0,"EGYEZIK","NEM EGYEZIK !"))) -> NINCS FK. ADAT
C11: Ft-ban | D11: Ft-ban | E11: E Ft-ban
B12: Megnevezés | C12: Analitika | D12: Főkönyv | E12: Mérleg
A13: =COUNT(A$12:$A12)+1 -> 1 | B13: JEGYZETT TŐKE | D13: =Import_M!H65 -> 0 | E13: =Import_M!F65 -> 0
A14: =COUNT(A$12:$A13)+1 -> 2 | B14: ebből visszavásárolt tulajdoni részesedés névértéken | D14: =Import_M!H66 -> 0 | E14: =Import_M!F66 -> 0 | G14: Eredmény:
A15: =COUNT(A$12:$A14)+1 -> 3 | B15: JEGYZETT, DE MÉG BE NEM FIZETETT TŐKE (-) | D15: =Import_M!H67 -> 0 | E15: =Import_M!F67 -> 0 | G15: =C10 -> NINCS FK. ADAT
A16: =COUNT(A$12:$A15)+1 -> 4 | B16: TŐKETARTALÉK | D16: =Import_M!H68 -> 0 | E16: =Import_M!F68 -> 0 | G16: Következtetés:
A17: =COUNT(A$12:$A16)+1 -> 5 | B17: EREDMÉNYTARTALÉK | D17: =Import_M!H69 -> 0 | E17: =Import_M!F69 -> 0 | G17: Ide írja a következtetés szövegét
A18: =COUNT(A$12:$A17)+1 -> 6 | B18: LEKÖTÖTT TARTALÉK | D18: =Import_M!H70 -> 0 | E18: =Import_M!F70 -> 0
A19: =COUNT(A$12:$A18)+1 -> 7 | B19: ÉRTÉKELÉSI TARTALÉK | D19: =Import_M!H71 -> 0 | E19: =Import_M!F71 -> 0
A20: =COUNT(A$12:$A19)+1 -> 8 | B20: ebből Értékhelyesbítés értékelési tartaléka | D20: =Import_M!H72 -> 0 | E20: =Import_M!F72 -> 0
A21: =COUNT(A$12:$A20)+1 -> 9 | B21: ebből Valós értékelés értékelési tartaléka | D21: =Import_M!H73 -> 0 | E21: =Import_M!F73 -> 0
A22: =COUNT(A$12:$A21)+1 -> 10 | B22: ADÓZOTT EREDMÉNY | D22: =Import_M!H74 -> 0 | E22: =Import_M!F74 -> 0
B23: Összesen | C23: =ROUND(SUM(C13:C22)-SUM(C14+C20+C21),0) -> 0 | D23: =SUM(D13:D22)-D14-D20-D21 -> 0 | E23: =SUM(E13:E22)-E14-E20-E21 -> 0
B25: Eltérés: | C25: =C23-D23 -> 0
A28: Leltármellékletek:
A29: Leltárösszesítő
A30: Főkönyvi kivonat egyeztetés
A31: Saját tőke részletezése

Sheet B-01-D-02
A1: B-01-D-01 | C1: D. Saját tőke
D2: =L15 -> Ide írja az egyeztetés / vizsgálat szöveges értékelését | E2: =L17 -> Ide írja a következtetés szövegét | K2: ◄◄ NEM SZERKESZTHETŐ SOR !!
A3: =Alapa!C17 -> 0 | E3: Dátum: | F3: =Alapa!C15 -> 0 | K3: Tartalom | L3: Tartalom
A4: ="Fordulónap: "&Alapa!C12 -> Fordulónap: | E4: Készítette: | F4: =IFERROR(VLOOKUP(L9,Alapa!$K$2:$M$11,3),"") | K4: B-01-D-01 | L4: Leltárösszesítő
E5: Ellenőrizte: | F5: =IF(Alapa!$M$2=0," ",Alapa!$M$2) | K5: B-01-D-02 | L5: Főkönyvi kivonat egyeztetés
A6: Főkönyvi kivonat elemzése | G6: Kivételes nagyságú bevétel költség: | H6: =Tartalom!$F$112*Alapa!D33 -> 0 | K6: B-01-D-10-01 | L6: Saját tőke részletezése
A7: Mérlegértékek E Ft-ban | D7: =Alapa!C10 -> 0 | E7: =Alapa!C11 -> 0 | F7: Eltérés | G7: =Alapa!C11&"/"&Alapa!C10 -> / | K7: B-01-D-10-02 | L7: Fejlesztési tartalék
B8: Számlaegyenlegek Ft-ban | D8: E Ft ; Ft | E8: E Ft ; Ft | F8: E Ft ; Ft | G8: % | K8: B-01-D-10-03 | L8: Osztalékfizetési korlát
F9: =IF(E9-D9=0," ",E9-D9) | G9: =IFERROR(E9/D9%," ") | K9: Készítette: | L9: 2
F10: =IF(E10-D10=0," ",E10-D10) | G10: =IFERROR(E10/D10%," ")
F11: =IF(E11-D11=0," ",E11-D11) | G11: =IFERROR(E11/D11%," ")
F12: =IF(E12-D12=0," ",E12-D12) | G12: =IFERROR(E12/D12%," ")
F13: =IF(E13-D13=0," ",E13-D13) | G13: =IFERROR(E13/D13%," ")
F14: =IF(E14-D14=0," ",E14-D14) | G14: =IFERROR(E14/D14%," ") | L14: Eredmény:
F15: =IF(E15-D15=0," ",E15-D15) | G15: =IFERROR(E15/D15%," ") | L15: Ide írja az egyeztetés / vizsgálat szöveges értékelését
F16: =IF(E16-D16=0," ",E16-D16) | G16: =IFERROR(E16/D16%," ") | L16: Következtetés:
F17: =IF(E17-D17=0," ",E17-D17) | G17: =IFERROR(E17/D17%," ") | L17: Ide írja a következtetés szövegét
F18: =IF(E18-D18=0," ",E18-D18) | G18: =IFERROR(E18/D18%," ")
F19: =IF(E19-D19=0," ",E19-D19) | G19: =IFERROR(E19/D19%," ")
F20: =IF(E20-D20=0," ",E20-D20) | G20: =IFERROR(E20/D20%," ")
F21: =IF(E21-D21=0," ",E21-D21) | G21: =IFERROR(E21/D21%," ")
F22: =IF(E22-D22=0," ",E22-D22) | G22: =IFERROR(E22/D22%," ")
F23: =IF(E23-D23=0," ",E23-D23) | G23: =IFERROR(E23/D23%," ")
F24: =IF(E24-D24=0," ",E24-D24) | G24: =IFERROR(E24/D24%," ")
F25: =IF(E25-D25=0," ",E25-D25) | G25: =IFERROR(E25/D25%," ")
F26: =IF(E26-D26=0," ",E26-D26) | G26: =IFERROR(E26/D26%," ")
F27: =IF(E27-D27=0," ",E27-D27) | G27: =IFERROR(E27/D27%," ")
F28: =IF(E28-D28=0," ",E28-D28) | G28: =IFERROR(E28/D28%," ")
F29: =IF(E29-D29=0," ",E29-D29) | G29: =IFERROR(E29/D29%," ")
... F400: =IF(E400-D400=0," ",E400-D400) | G400: =IFERROR(E400/D400%," ")

Sheet B-01-D-10-01
A1: B-01-D-10-01
D2: =I12 -> Ide írja az egyeztetés / vizsgálat szöveges értékelését | E2: =I14 -> Ide írja a következtetés szövegét | H2: ◄◄ NEM SZERKESZTHETŐ SOR !!
B3: Leltár | H3: Tartalom | I3: Tartalom
A4: D. Saját tőke | H4: B-01-D-01 | I4: Leltárösszesítő
A5: =Alapa!C17 -> 0 | D5: Dátum: | E5: =Alapa!C15 -> 0 | H5: B-01-D-02 | I5: Főkönyvi kivonat egyeztetés
A6: ="Fordulónap: "&Alapa!C12 -> Fordulónap: | D6: Készítette: | E6: =IFERROR(VLOOKUP(I9,Alapa!$K$2:$M$11,3),"") | H6: B-01-D-10-01 | I6: Saját tőke részletezése
D7: Ellenőrizte: | E7: =IF(Alapa!$M$2=0," ",Alapa!$M$2) | H7: B-01-D-10-02 | I7: Fejlesztési tartalék
H8: B-01-D-10-03 | I8: Osztalékfizetési korlát
G9: Adatok E Ft-ban | H9: Készítette: | I9: 2
A10: Sorszám | B10: Megnevezés | C10: Bizonylat | D10: Nyitó | E10: Tárgyévi "T" | F10: Tárgyévi "K" | G10: Záró mérleg érték
A11: =COUNT(A$10:$A10)+1 -> 1 | B11: Saját tőke | D11: =SUM(D17+D29+D36+D44+D54+D55+D74) -> 0 | E11: =SUM(E17+E29+E36+E44+E54+E55+E74) -> 0 | F11: =SUM(F17+F29+F36+F44+F54+F55+F74) -> 0 | G11: =SUM(G17+G29+G36+G44+G54+G55+G74) -> 0 | I11: Eredmény:
A12: =COUNT(A$10:$A11)+1 -> 2 | B12: I. Jegyzett tőke: | D12: =Import_M!D65 -> 0 | I12: Ide írja az egyeztetés / vizsgálat szöveges értékelését
A13: =COUNT(A$10:$A12)+1 -> 3 | B13: Alapítás/Tőkeemelés | C13: Bejegyzés | I13: Következtetés:
A14: =COUNT(A$10:$A13)+1 -> 4 | B14: ……. | I14: Ide írja a következtetés szövegét
A15: =COUNT(A$10:$A14)+1 -> 5 | B15: Tőkeleszállítás | C15: Bejegyzés
A16: =COUNT(A$10:$A15)+1 -> 6 | B16: …….
A17: =COUNT(A$10:$A16)+1 -> 7 | B17: Összesen: | D17: =SUM(D12:D16) -> 0 | E17: =SUM(E12:E16) -> 0 | F17: =SUM(F12:F16) -> 0 | G17: =D17+F17-E17 -> 0
A18: =COUNT(A$10:$A17)+1 -> 8 | B18: - ebből visszvásárolt tulajdoni részesedés névértéken | D18: =Import_M!D66 -> 0
A19: =COUNT(A$10:$A18)+1 -> 9 | B19: Visszavásárlás | C19: Tulajdonátruházási szerz.
A20: =COUNT(A$10:$A19)+1 -> 10 | B20: …….
A21: =COUNT(A$10:$A20)+1 -> 11 | B21: Értékesítés | C21: Tulajdonátruházási szerz.
A22: =COUNT(A$10:$A21)+1 -> 12 | B22: …….
A23: =COUNT(A$10:$A22)+1 -> 13 | B23: Összesen: | D23: =SUM(D18:D22) -> 0 | E23: =SUM(E18:E22) -> 0 | F23: =SUM(F18:F22) -> 0 | G23: =D23+F23-E23 -> 0
A24: =COUNT(A$10:$A23)+1 -> 14 | B24: II. Jegyzett, de még be nem fizetett tőke: | D24: =Import_M!D67 -> 0
A25: =COUNT(A$10:$A24)+1 -> 15 | B25: Jegyzett tőke befizetése | C25: Banki jóváírás
A26: =COUNT(A$10:$A25)+1 -> 16 | B26: Jegyzett tőke nem pénzbeli hozzájárulása | C26: Átruházás
A27: =COUNT(A$10:$A26)+1 -> 17 | B27: Jegyzett tőke állományba vétele | C27: Bejegyzés
A28: =COUNT(A$10:$A27)+1 -> 18 | B28: …….
A29: =COUNT(A$10:$A28)+1 -> 19 | B29: Összesen: | D29: =SUM(D24:D28) -> 0 | E29: =SUM(E24:E28) -> 0 | F29: =SUM(F24:F28) -> 0 | G29: =D29+F29-E29 -> 0
A30: =COUNT(A$10:$A29)+1 -> 20 | B30: III. Tőketartalék: | D30: =Import_M!D68 -> 0
A31: =COUNT(A$10:$A30)+1 -> 21 | B31: Jogszabály alapján
A32: =COUNT(A$10:$A31)+1 -> 22 | B32: Ázsió
A33: =COUNT(A$10:$A32)+1 -> 23 | B33: Lekötött tartalékba átvezett összeg
A34: =COUNT(A$10:$A33)+1 -> 24 | B34: Tőkekivonás
A35: =COUNT(A$10:$A34)+1 -> 25 | B35: Negatív eredménytartalék ellentételezése
A36: =COUNT(A$10:$A35)+1 -> 26 | B36: Összesen: | D36: =SUM(D30:D35) -> 0 | E36: =SUM(E30:E35) -> 0 | F36: =SUM(F30:F35) -> 0 | G36: =D36+F36-E36 -> 0
A37: =COUNT(A$10:$A36)+1 -> 27 | B37: IV. Eredménytartalék: | D37: =Import_M!D69 -> 0
A38: =COUNT(A$10:$A37)+1 -> 28 | B38: Előző évi nyereség átvezetése eredménytartaléba
A39: =COUNT(A$10:$A38)+1 -> 29 | B39: Negatív eredménytartalék ellentételezése
A40: =COUNT(A$10:$A39)+1 -> 30 | B40: Előző évi veszteség átvezetése eredménytartaléba
B41: Lekötött tartalékba áthelyezett összeg
A42: =COUNT(A$10:$A40)+1 -> 31 | B42: Tőkekivonás
A43: =COUNT(A$10:$A42)+1 -> 32 | B43: Osztalék előírás
A44: =COUNT(A$10:$A43)+1 -> 33 | B44: Összesen: | D44: =SUM(D37:D43) -> 0 | E44: =SUM(E37:E43) -> 0 | F44: =SUM(F37:F43) -> 0 | G44: =D44+F44-E44 -> 0
A45: =COUNT(A$10:$A44)+1 -> 34 | B45: V. Lekötött tartalék: | D45: =Import_M!D70 -> 0
A46: =COUNT(A$10:$A45)+1 -> 35 | B46: Tőketartalékból átvezetés
A47: =COUNT(A$10:$A46)+1 -> 36 | B47: Eredménytartalékból átvezetés
A48: =COUNT(A$10:$A47)+1 -> 37 | B48: Pótbefizetés
A49: =COUNT(A$10:$A48)+1 -> 38 | B49: Jegyzett tőke leszállítás
A50: =COUNT(A$10:$A49)+1 -> 39 | B50: Tőketartalékba visszavezetés
A51: =COUNT(A$10:$A50)+1 -> 40 | B51: Eredménytartalékba visszavezetés
A52: =COUNT(A$10:$A51)+1 -> 41 | B52: Pótbefizetés visszafizetése
A53: =COUNT(A$10:$A52)+1 -> 42 | B53: Alaptőke emelés
A54: =COUNT(A$10:$A53)+1 -> 43 | B54: Összesen: | D54: =SUM(D45:D53) -> 0 | E54: =SUM(E45:E53) -> 0 | F54: =SUM(F45:F53) -> 0 | G54: =D54+F54-E54 -> 0
A55: =COUNT(A$10:$A54)+1 -> 44 | B55: VI. Értékelési tartalék: | D55: =Import_M!D71 -> 0 | E55: =SUM(E61+E67) -> 0 | F55: =SUM(F61+F67) -> 0 | G55: =SUM(G61+G67) -> 0
A56: =COUNT(A$10:$A55)+1 -> 45 | B56: VI.1. Értékhelyesbítés értékelési tartaléka | D56: =Import_M!D72 -> 0
A57: =COUNT(A$10:$A56)+1 -> 46 | B57: Állományba vétel
A58: =COUNT(A$10:$A57)+1 -> 47 | B58: Állományba vétel
A59: =COUNT(A$10:$A58)+1 -> 48 | B59: Helyesbítés
A60: =COUNT(A$10:$A59)+1 -> 49 | B60: Kivezetés
A61: =COUNT(A$10:$A60)+1 -> 50 | B61: Összesen: | D61: =SUM(D56:D60) -> 0 | E61: =SUM(E56:E60) -> 0 | F61: =SUM(F56:F60) -> 0 | G61: =D61+F61-E61 -> 0
A62: =COUNT(A$10:$A61)+1 -> 51 | B62: VI.2. Valós értékelés értékelési tartaléka | D62: =Import_M!D73 -> 0
A63: =COUNT(A$10:$A62)+1 -> 52 | B63: Állományba vétel
A64: =COUNT(A$10:$A63)+1 -> 53
A65: =COUNT(A$10:$A64)+1 -> 54 | B65: Állomány csökkenés
A66: =COUNT(A$10:$A65)+1 -> 55
A67: =COUNT(A$10:$A66)+1 -> 56 | B67: Összesen: | D67: =SUM(D62:D66) -> 0 | E67: =SUM(E62:E66) -> 0 | F67: =SUM(F62:F66) -> 0 | G67: =D67+F67-E67 -> 0
A68: =COUNT(A$10:$A67)+1 -> 57 | B68: VII. Adózott eredmény | D68: =Import_M!D74 -> 0
A69: =COUNT(A$10:$A68)+1 -> 58 | B69: Előző évi veszteség átvezetése eredménytartaléba
A70: =COUNT(A$10:$A69)+1 -> 59 | B70: Bevételi számlák zárása
A71: =COUNT(A$10:$A70)+1 -> 60 | B71: Aktivált saját teljesítmények zárása
A72: =COUNT(A$10:$A71)+1 -> 61 | B72: Előző évi nyereség átvezetése eredménytartaléba
A73: =COUNT(A$10:$A72)+1 -> 62 | B73: Ráfordítás számlák zárása
A74: =COUNT(A$10:$A73)+1 -> 63 | B74: Összesen: | D74: =SUM(D68:D73) -> 0 | E74: =SUM(E68:E73) -> 0 | F74: =SUM(F68:F73) -> 0 | G74: =D74+F74-E74 -> 0

Sheet B-01-D-10-02
A1: B-01-D-10-02
D2: =K15 -> Ide írja az egyeztetés / vizsgálat szöveges értékelését | E2: =K17 -> Ide írja a következtetés szövegét | I2: ◄◄ NEM SZERKESZTHETŐ SOR !!
A3: FEJLESZTÉSI TARTALÉK KÉPZÉS-FELHASZNÁLÁS | I3: Tartalom | J3: Tartalom
A4: ="Ügyfél: "&Alapa!$C$17 -> Ügyfél: | D4: Dátum: | E4: =Alapa!$C$15 -> 0 | I4: B-01-D-01 | J4: Leltárösszesítő
A5: ="Fordulónap: "&Alapa!$C$12 -> Fordulónap: | D5: Készítette: | E5: =IFERROR(VLOOKUP(J9,Alapa!$K$2:$M$11,3),"") | I5: B-01-D-02 | J5: Főkönyvi kivonat egyeztetés
D6: Ellenőrizte: | E6: =IF(Alapa!$N$2=0," ",Alapa!$N$2) | I6: B-01-D-10-01 | J6: Saját tőke részletezése
I7: B-01-D-10-02 | J7: Fejlesztési tartalék
G8: Adatok ezer Ft-ban | I8: B-01-D-10-03 | J8: Osztalékfizetési korlát
A9: Év | B9: =C9-1 -> -6 | C9: =D9-1 -> -5 | D9: =E9-1 -> -4 | E9: =F9-1 -> -3 | F9: =G9-1 -> -2 | G9: =H9-1 -> -1 | H9: =Alapa!C11 -> 0 | I9: Készítette: | J9: 2
A10: KÉPZÉS
A11: Adózás előtti eredmény | G11: =Import_O!D47 -> 0 | H11: =Import_O!F47 -> 0
A12: Maximális mérték %-a | C12: 0.5 | D12: 0.5 | E12: 0.5 | F12: 0.5 | G12: 0.5 | H12: 0.5
A13: Képzési korlát | C13: =IF(C11*C12>=C14,"RENDBEN","NEM JÓ") -> RENDBEN | D13: =IF(D11*D12>=D14,"RENDBEN","NEM JÓ") -> RENDBEN | E13: =IF(E11*E12>=E14,"RENDBEN","NEM JÓ") -> RENDBEN | F13: =IF(F11*F12>=F14,"RENDBEN","NEM JÓ") -> RENDBEN | G13: =IF(G11*G12>=G14,"RENDBEN","NEM JÓ") -> RENDBEN | H13: =IF(H11*H12>=H14,"RENDBEN","NEM JÓ") -> RENDBEN
A14: Képzett összeg | K14: Eredmény:
A15: Halmozott nyitó + képzés | C15: =B15+C14 -> 0 | D15: =C15+D14 -> 0 | E15: =D15+E14 -> 0 | F15: =E15+F14 -> 0 | G15: =F15+G14 -> 0 | H15: =F15+H14 -> 0 | K15: Ide írja az egyeztetés / vizsgálat szöveges értékelését
A16: FELHASZNÁLÁS | K16: Következtetés:
A17: =A18-1 -> -4 | K17: Ide írja a következtetés szövegét
A18: =A19-1 -> -3
A19: =A20-1 -> -2
A20: =A21-1 -> -1
A21: =Alapa!C11 -> 0
A22: =A21+1 -> 1
A23: =A22+1 -> 2
A24: =A23+1 -> 3
A25: =A24+1 -> 4
A26: Felhasználás összesen | C26: =SUM(C17:C20) -> 0 | D26: =SUM(D18:D21) -> 0 | E26: =SUM(E19:E22) -> 0 | F26: =SUM(F20:F23) -> 0 | G26: =SUM(G21:G24) -> 0 | H26: =SUM(H22:H25) -> 0
A27: Halmozott felhasználás | C27: =C26 -> 0 | D27: =C27+D26 -> 0 | E27: =D27+E26 -> 0 | F27: =E27+F26 -> 0 | G27: =F27+G26 -> 0 | H27: =G27+H26 -> 0
A28: Halmozott képzés "-" felhasználás | C28: =C15-C27 -> 0 | D28: =D15-D27 -> 0 | E28: =E15-E27 -> 0 | F28: =F15-F27 -> 0 | G28: =G15-G27 -> 0 | H28: =H15-H27 -> 0
A29: Fel nem használt (fizetendő adó alapja) | C29: =C14-C26 -> 0 | D29: =D14-D26 -> 0 | E29: =E14-E26 -> 0 | F29: =F14-F26 -> 0 | G29: =G14-G26 -> 0 | H29: =H14-H26 -> 0

Sheet B-01-D-10-03
A1: B-01-D-10-03
D2: =H12 -> Ide írja az egyeztetés / vizsgálat szöveges értékelését | E2: =H14 -> Ide írja a következtetés szövegét | G2: ◄◄ NEM SZERKESZTHETŐ SOR !!
A3: Osztalékfizetési korlát | G3: Tartalom | H3: Tartalom
A4: ="Ügyfél: "&Alapa!$C$17 -> Ügyfél: | D4: Dátum: | E4: =Alapa!$C$15 -> 0 | G4: B-01-D-01 | H4: Leltárösszesítő
A5: ="Fordulónap: "&Alapa!$C$12 -> Fordulónap: | D5: Készítette: | E5: =IFERROR(VLOOKUP(H9,Alapa!$K$2:$M$11,3),"") | G5: B-01-D-02 | H5: Főkönyvi kivonat egyeztetés
D6: Ellenőrizte: | E6: =IF(Alapa!$M$2=0," ",Alapa!$M$2) | G6: B-01-D-10-01 | H6: Saját tőke részletezése
G7: B-01-D-10-02 | H7: Fejlesztési tartalék
G8: B-01-D-10-03 | H8: Osztalékfizetési korlát
A9: Sorszám | B9: Megnevezés | C9: =Alapa!C10 -> 0 | D9: =Alapa!C11 -> 0 | E9: Eltérés | F9: Változás % | G9: Készítette: | H9: 2
A10: =COUNT(A$9:$A9)+1 -> 1 | B10: JEGYZETT TŐKE | C10: =Import_M!D65 -> 0 | D10: =Import_M!F65 -> 0 | E10: =D10-C10 -> 0 | F10: =IF(C10=0,0,(D10-C10)/ABS(C10)) -> 0
A11: =COUNT(A$10:$A10)+1 -> 2 | B11: JEGYZETT, DE MÉG BE NEM FIZETETT TŐKE (-) | C11: =Import_M!D67 -> 0 | D11: =Import_M!F67 -> 0 | E11: =D11-C11 -> 0 | F11: =IF(C11=0,0,(D11-C11)/ABS(C11)) -> 0 | H11: Eredmény:
A12: =COUNT(A$10:$A11)+1 -> 3 | B12: TŐKETARTALÉK | C12: =Import_M!D68 -> 0 | D12: =Import_M!F68 -> 0 | E12: =D12-C12 -> 0 | F12: =IF(C12=0,0,(D12-C12)/ABS(C12)) -> 0 | H12: Ide írja az egyeztetés / vizsgálat szöveges értékelését
A13: =COUNT(A$10:$A12)+1 -> 4 | B13: EREDMÉNYTARTALÉK | C13: =Import_M!D69 -> 0 | D13: =Import_M!F69 -> 0 | E13: =D13-C13 -> 0 | F13: =IF(C13=0,0,(D13-C13)/ABS(C13)) -> 0 | H13: Következtetés:
A14: =COUNT(A$10:$A13)+1 -> 5 | B14: LEKÖTÖTT TARTALÉK | C14: =Import_M!D70 -> 0 | D14: =Import_M!F70 -> 0 | E14: =D14-C14 -> 0 | F14: =IF(C14=0,0,(D14-C14)/ABS(C14)) -> 0 | H14: Ide írja a következtetés szövegét
A15: =COUNT(A$10:$A14)+1 -> 6 | B15: ÉRTÉKELÉSI TARTALÉK | C15: =Import_M!D71 -> 0 | D15: =Import_M!F71 -> 0 | E15: =D15-C15 -> 0 | F15: =IF(C15=0,0,(D15-C15)/ABS(C15)) -> 0
A16: =COUNT(A$10:$A15)+1 -> 7 | B16: ADÓZOTT EREDMÉNY | C16: =Import_M!D74 -> 0 | D16: =Import_M!F74 -> 0 | E16: =D16-C16 -> 0 | F16: =IF(C16=0,0,(D16-C16)/ABS(C16)) -> 0
A17: =COUNT(A$10:$A16)+1 -> 8 | B17: SAJÁT TŐKE | C17: =SUM(C10:C16) -> 0 | D17: =SUM(D10:D16) -> 0 | E17: =D17-C17 -> 0 | F17: =IF(C17=0,0,(D17-C17)/ABS(C17)) -> 0
A18: =COUNT(A$10:$A17)+1 -> 9 | B18: - LEKÖTÖTT TARTALÉK | C18: =-C14 -> 0 | D18: =-D14 -> 0 | E18: =D18-C18 -> 0 | F18: =IF(C18=0,0,(D18-C18)/ABS(C18)) -> 0
A19: =COUNT(A$10:$A18)+1 -> 10 | B19: - ÉRTÉKELÉSI TARTALÉK, HA POZITÍV! | C19: =IF(C15<0,0,-C15) -> 0 | D19: =IF(D15<0,0,-D15) -> 0 | E19: =D19-C19 -> 0 | F19: =IF(C19=0,0,(D19-C19)/ABS(C19)) -> 0
A20: =COUNT(A$10:$A19)+1 -> 11 | B20: - JEGYZETT TŐKE | C20: =-C10 -> 0 | D20: =-D10 -> 0 | E20: =D20-C20 -> 0 | F20: =IF(C20=0,0,(D20-C20)/ABS(C20)) -> 0
A21: =COUNT(A$10:$A20)+1 -> 12 | B21: + Mérlegkészítésig elszámolt kapott (járó) osztalék | E21: =D21-C21 -> 0 | F21: =IF(C21=0,0,(D21-C21)/ABS(C21)) -> 0
A22: =COUNT(A$10:$A21)+1 -> 13 | B22: OSZTALÉK ELVI MAXIMUMA | C22: =SUM(C17:C21) -> 0 | D22: =SUM(D17:D21) -> 0 | E22: =D22-C22 -> 0 | F22: =IF(C22=0,0,(D22-C22)/ABS(C22)) -> 0
A23: =COUNT(A$10:$A22)+1 -> 14
A24: =COUNT(A$10:$A23)+1 -> 15 | B24: EREDMÉNYTARTALÉK | C24: =C13 -> 0 | D24: =D13 -> 0 | E24: =D24-C24 -> 0 | F24: =IF(C24=0,0,(D24-C24)/ABS(C24)) -> 0
A25: =COUNT(A$10:$A24)+1 -> 16 | B25: ADÓZOTT EREDMÉNY | C25: =C16 -> 0 | D25: =D16 -> 0 | E25: =D25-C25 -> 0 | F25: =IF(C25=0,0,(D25-C25)/ABS(C25)) -> 0
A26: =COUNT(A$10:$A25)+1 -> 17 | B26: + Mérlegkészítésig elszámolt kapott (járó) osztalék | C26: =C21 -> 0 | D26: =D21 -> 0 | E26: =D26-C26 -> 0 | F26: =IF(C26=0,0,(D26-C26)/ABS(C26)) -> 0
A27: =COUNT(A$10:$A26)+1 -> 18 | B27: OSZTALÉK FORRÁSA | C27: =IF(SUM(C24:C26)<0,0,SUM(C24:C26)) -> 0 | D27: =IF(SUM(D24:D26)<0,0,SUM(D24:D26)) -> 0 | E27: =D27-C27 -> 0 | F27: =IF(C27=0,0,(D27-C27)/ABS(C27)) -> 0
A28: =COUNT(A$10:$A27)+1 -> 19
A29: =COUNT(A$10:$A28)+1 -> 20 | B29: KIFIZETHETŐ OSZTALÉK MAXIMUMA | C29: =IF(C27<C22,C27,C22) -> 0 | D29: =IF(D27<D22,D27,D22) -> 0 | E29: =D29-C29 -> 0 | F29: =IF(C29=0,0,(D29-C29)/ABS(C29)) -> 0

Sheet B-01-E-01
A1: B-01-AI-01
B2: =C18 -> 0 | D2: =G15 -> NINCS FK. ADAT | E2: =G17 -> Ide írja a következtetés szövegét | F2: ◄◄ NEM SZERKESZTHETŐ SOR !!
B3: Leltárösszesítő | F3: Tartalom | G3: Tartalom
F4: B-01-E-01 | G4: Leltár összesítő
A5: =Alapa!C17 -> 0 | C5: Dátum: | D5: =Alapa!C15 -> 0 | F5: B-01-E-02 | G5: Főkönyvi kivonat egyeztetés
A6: ="Fordulónap: "&Alapa!C12 -> Fordulónap: | C6: Készítette: | D6: =IFERROR(VLOOKUP(G7,Alapa!$K$2:$M$11,3),"") | F6: B-01-E-10-1 | G6: Céltartalékok részletezése
C7: Ellenőrizte: | D7: =IF(Alapa!$M$2=0," ",Alapa!$M$2) | F7: Készítette: | G7: 2
A10: E. Céltartalékok | C10: =IF(D16=0,"NINCS FK. ADAT",IF(C16=0,"NINCS ANALITIKA",IF(C18=0,"EGYEZIK","NEM EGYEZIK !"))) -> NINCS FK. ADAT
C11: Ft-ban | D11: Ft-ban | E11: E Ft-ban
B12: Megnevezés | C12: Analitika | D12: Főkönyv | E12: Mérleg
A13: =COUNT(A$12:$A12)+1 -> 1 | B13: Céltartalék a várható kötelezettségekre | D13: =Import_M!H76 -> 0 | E13: =Import_M!F76 -> 0
A14: =COUNT(A$12:$A13)+1 -> 2 | B14: Céltartalék a jövőbeni költségekre | D14: =Import_M!H77 -> 0 | E14: =Import_M!F77 -> 0 | G14: Eredmény:
A15: =COUNT(A$12:$A14)+1 -> 3 | B15: Egyéb céltartalék | D15: =Import_M!H78 -> 0 | E15: =Import_M!F78 -> 0 | G15: =C10 -> NINCS FK. ADAT
B16: Összesen | C16: =ROUND(SUM(C13:C15),0) -> 0 | D16: =SUM(D13:D15) -> 0 | E16: =SUM(E13:E15) -> 0 | G16: Következtetés:
G17: Ide írja a következtetés szövegét
B18: Eltérés: | C18: =C16-D16 -> 0
A21: Leltármellékletek:
A22: Főkönyvi egyeztetés
A23: Állományváltozás részletezése
A24: Ügyvezetői, taggyűlési határozat
A25: Szerződés
A26: Elszámolás

Sheet B-01-E-02
A1: B-01-E-02 | C1: E. Céltartalékok
D2: =L15 -> Ide írja az egyeztetés / vizsgálat szöveges értékelését | E2: =L17 -> Ide írja a következtetés szövegét | K2: ◄◄ NEM SZERKESZTHETŐ SOR !!
A3: ="Ügyfél: "&Alapa!$C$17 -> Ügyfél: | E3: Dátum: | F3: =Alapa!$C$15 -> 0 | K3: Tartalom | L3: Tartalom
A4: ="Fordulónap: "&Alapa!$C$12 -> Fordulónap: | E4: Készítette: | F4: =IFERROR(VLOOKUP(L7,Alapa!$K$2:$M$11,3),"") | K4: B-01-E-01 | L4: Leltár összesítő
E5: Ellenőrízte: | F5: =IF(Alapa!$M$2=0," ",Alapa!$M$2) | K5: B-01-E-02 | L5: Főkönyvi kivonat egyeztetés
A6: Főkönyvi kivonat elemzése | G6: Kivételes nagyságú bevétel költség: | H6: =Tartalom!$F$112*Alapa!D33 -> 0 | K6: B-01-E-10-1 | L6: Céltartalékok részletezése
A7: Mérlegértékek E Ft-ban | D7: =Alapa!C10 -> 0 | E7: =Alapa!C11 -> 0 | F7: Eltérés | G7: =Alapa!C11&"/"&Alapa!C10 -> / | K7: Készítette: | L7: 2
B8: Számlaegyenlegek Ft-ban | D8: E Ft ; Ft | E8: E Ft ; Ft | F8: E Ft ; Ft | G8: %
F9: =IF(E9-D9=0," ",E9-D9) | G9: =IFERROR(E9/D9%," ")
F12: =IF(E12-D12=0," ",E12-D12) | G12: =IFERROR(E12/D12%," ")
F13: =IF(E13-D13=0," ",E13-D13) | G13: =IFERROR(E13/D13%," ")
F14: =IF(E14-D14=0," ",E14-D14) | G14: =IFERROR(E14/D14%," ") | L14: Eredmény:
F15: =IF(E15-D15=0," ",E15-D15) | G15: =IFERROR(E15/D15%," ") | L15: Ide írja az egyeztetés / vizsgálat szöveges értékelését
F16: =IF(E16-D16=0," ",E16-D16) | G16: =IFERROR(E16/D16%," ") | L16: Következtetés:
F17: =IF(E17-D17=0," ",E17-D17) | G17: =IFERROR(E17/D17%," ") | L17: Ide írja a következtetés szövegét
F18: =IF(E18-D18=0," ",E18-D18) | G18: =IFERROR(E18/D18%," ")
F19: =IF(E19-D19=0," ",E19-D19) | G19: =IFERROR(E19/D19%," ")
F20: =IF(E20-D20=0," ",E20-D20) | G20: =IFERROR(E20/D20%," ")
F21: =IF(E21-D21=0," ",E21-D21) | G21: =IFERROR(E21/D21%," ")
F22: =IF(E22-D22=0," ",E22-D22) | G22: =IFERROR(E22/D22%," ")
F23: =IF(E23-D23=0," ",E23-D23) | G23: =IFERROR(E23/D23%," ")
F24: =IF(E24-D24=0," ",E24-D24) | G24: =IFERROR(E24/D24%," ")
F25: =IF(E25-D25=0," ",E25-D25) | G25: =IFERROR(E25/D25%," ")
F26: =IF(E26-D26=0," ",E26-D26) | G26: =IFERROR(E26/D26%," ")
F27: =IF(E27-D27=0," ",E27-D27) | G27: =IFERROR(E27/D27%," ")
F28: =IF(E28-D28=0," ",E28-D28) | G28: =IFERROR(E28/D28%," ")
F29: =IF(E29-D29=0," ",E29-D29) | G29: =IFERROR(E29/D29%," ")
... F400: =IF(E400-D400=0," ",E400-D400) | G400: =IFERROR(E400/D400%," ")

Sheet B-01-E-10-1
A1: B-01-E-10-1
D2: =H15 -> Ide írja az egyeztetés / vizsgálat szöveges értékelését | E2: =H17 -> Ide írja a következtetés szövegét | G2: ◄◄ NEM SZERKESZTHETŐ SOR !!
A3: CÉLTARTALÉKOK | G3: Tartalom | H3: Tartalom
A4: ="Ügyfél: "&Alapa!$C$17 -> Ügyfél: | D4: Dátum: | E4: =Alapa!$C$15 -> 0 | G4: B-01-E-01 | H4: Leltár összesítő
A5: ="Fordulónap: "&Alapa!$C$12 -> Fordulónap: | D5: Készítette: | E5: =IFERROR(VLOOKUP(H7,Alapa!$K$2:$M$11,3),"") | G5: B-01-E-02 | H5: Főkönyvi kivonat egyeztetés
D6: Ellenőrizte: | E6: =IF(Alapa!$M$2=0," ",Alapa!$M$2) | G6: B-01-E-10-1 | H6: Céltartalékok részletezése
G7: Készítette: | H7: 2
A9: Főkönyvi szám | B9: Megnevezés | C9: Nyitó | D9: Növelő | E9: Csökkentő | F9: Mérleg érték
A10: Várható kötelezettségek
F11: =C11+D11-E11 -> 0
F12: =C12+D12-E12 -> 0
F13: =C13+D13-E13 -> 0
B14: Összesen: | F14: =SUM(F11:F13) -> 0 | H14: Eredmény:
A15: Jövőbeni költségek | H15: Ide írja az egyeztetés / vizsgálat szöveges értékelését
F16: =C16+D16-E16 -> 0 | H16: Következtetés:
F17: =C17+D17-E17 -> 0 | H17: Ide írja a következtetés szövegét
F18: =C18+D18-E18 -> 0
B19: Összesen: | F19: =SUM(F16:F18) -> 0
A20: Egyéb céltartalékok
F21: =C21+D21-E21 -> 0
F22: =C22+D22-E22 -> 0
F23: =C23+D23-E23 -> 0
B24: Összesen: | F24: =SUM(F21:F23) -> 0
A25: Mindösszesen: | F25: =+F24+F19+F14 -> 0

Sheet B-01-FI-01
A1: B-01-FI-01
B2: =C19 -> 0 | D2: =G15 -> NINCS FK. ADAT | E2: =G17 -> Ide írja a következtetés szövegét | F2: ◄◄ NEM SZERKESZTHETŐ SOR !!
B3: Leltárösszesítő | F3: Tartalom | G3: Tartalom
F4: B-01-FI-01 | G4: Leltár összesítő
A5: =Alapa!C17 -> 0 | C5: Dátum: | D5: =Alapa!C15 -> 0 | F5: B-01-FI-02 | G5: Főkönyvi kivonat egyeztetés
A6: ="Fordulónap: "&Alapa!C12 -> Fordulónap: | C6: Készítette: | D6: =IFERROR(VLOOKUP(G7,Alapa!$K$2:$M$11,3),"") | F6: B-01-FI-10-01 | G6: Részletezés
C7: Ellenőrizte: | D7: =IF(Alapa!$M$2=0," ",Alapa!$M$2) | F7: Készítette: | G7: 2
A10: FI. Hátrasorolt kötelezettségek | C10: =IF(D17=0,"NINCS FK. ADAT",IF(C17=0,"NINCS ANALITIKA",IF(C19=0,"EGYEZIK","NEM EGYEZIK !"))) -> NINCS FK. ADAT
C11: Ft-ban | D11: Ft-ban | E11: E Ft-ban
B12: Megnevezés | C12: Analitika | D12: Főkönyv | E12: Mérleg
A13: =COUNT(A$12:$A12)+1 -> 1 | B13: Hátrasorolt kötelezettségek kapcsolt vállalkozással szemben | D13: =Import_M!H81 -> 0 | E13: =Import_M!F81 -> 0
A14: =COUNT(A$12:$A13)+1 -> 2 | B14: Hátrasorolt köt-ek jelentős tul. visz. lévő váll. szemben | D14: =Import_M!H82 -> 0 | E14: =Import_M!F82 -> 0 | G14: Eredmény:
