Workbook
Name A.III.L1.: 'B-01-FII-10-2'!$D$1:$E$1
Name A.III.L1.: 'B-01-FII-10-3'!$D$1:$E$1
Name A.III.L1.: 'B-01-FIII-10-2'!$D$1:$E$1
Name KörlevMező: '[1]#HIV'!$A$1
Name nyomtat: [2]Alapadatok!$C$42
Name TABLE: Alapa!$C$27:$C$27
Name TABLE_2: Alapa!$C$27:$C$27

Sheet BORITO
O1: Használati útmutató
O2: ◄◄ NEM SZERKESZTHETŐ SOR !!
A3: BESZÁMOLÓ ÉS LELTÁR | O3: Tartalom
A4: A TÁRSASÁG
A5: VEZETÉSE RÉSZÉRE
A7: =Alapa!C17 -> 0
A8: Vállalkozás megnevezése
A10: =Alapa!C18 -> 0
A11: Vállalkozás címe
A15: =Alapa!C12 -> 0
A16: Üzleti év fordulónapja
K20: Beosztása:
B21: Beszámolót aláíró neve: | F21: =Alapa!L2 -> 0 | K21: =Alapa!M2 -> 0
B22: Számviteli rendért felelős neve: | F22: =Alapa!L3 -> 0 | K22: =Alapa!M3 -> 0
B25: Könyvvizsgáló társaság: | F25: =Alapa!C2 -> 0
B26: Független könyvvizsgáló neve: | F26: =Alapa!C5 -> 0
B27: Független könyvvizsgáló címe: | F27: =Alapa!C6 -> 0
F30: B BESZÁMOLÓ ÉS LELTÁR
G31: B-01 | H31: Leltár és eredmény
G32: B-02 | H32: Főkönyvi kivonat
G33: B-03 | H33: Mérleg, Eredménykimutatás
G34: B-04 | H34: Kiegészítő melléklet
G35: B-05 | H35: Üzleti jelentés
G36: B-06 | H36: Teljességi nyilatkozat
G37: B-07 | H37: Könyvvizsgálói jelentés
G38: B-08 | H38: Vezetői levél
G39: B-09 | H39: Legfőbb szerv határozatai
A46: Használati útmutató | D46: VISSZA | F46: Tartalom
A47: Cél | C47: A DigitAudit program AuditBeszámoló moduljának B01 Leltár és eredmény táblarendszere segítséget nyújt a vállalkozások mérlegének és eredménykimutatásának szakszerű elkészítéséhez.
A48: Ellenőrzés - Áttekintés | C48: Az ellenőrzések eredményeit, a szöveges értékeléseket és következtetéseket a Tartalom munkalapon tekintheti át. A Tartalom munkalapon követheti munkavégzésének folyamatát.
A49: Áttekintés | C49: A táblarendszer Tartalom munkalapjának F;G oszlopában áttekintheti a táblarendszer ellenőrző számait, követheti munkavégzésének pillanatnyi állapotát.
A50: JELZÉSEK | C50: Az alábbi feladatok közül:
C51: A piros betűs feladatok a használat Kiemelt támaköreit jelzik, amit el kell végezni.
C52: A zölddel jelzett témák kiegészítő információk, és javasolt feladatok a táblarendszer használatához.
A53: Előkészítés | C53: A táblarendszer használatához előzetesen a program mérleg -és eredménykimutatás összeállító felületén kell beolvasni az aktuális (három oszlopos) főkönyvi kivonat számláit, majd a főkönyvi számlák besorolását követően az adatokat exportálni kell.
A54: Feltöltés | C54: Az Exportálással a táblarendszer feltöltésre kerül és a főkönyvi adatok megjelennek a táblarendszer megfelelő celláiban.
A55: Mérleg-Eredmény | C55: Az Exportálással a programban lévő Mérleg és Eredménykimutatás is feltöltésre kerülnek a Dokumentumkezelő/Fastruktúrájából megnyitható másik Excel táblában.
A56: Mutatók | C56: Az Exportálással a programban lévő mutatószámos elemző táblák is feltöltésre kerülnek a Dokumentumkezelő/Fastruktúrájából megnyitható másik Excel táblában.
A57: Dátumok | C57: A táblarendszer valemennyi dátuma alapértelmezésben megegyezik a Mérleg-Eredménykimuatás összeállítás Exportálása során megjelölt munkavégzés dátumával. Amennyiben módosítani kívánja az egyes táblák dátumát, írja felül a képletet, de legyen figyelemmel arra, hogy ezt követően az alapértelmezés már nem jöhet létre, a beírt dátum megmarad.
A58: Kitöltés | D58: Csak színes cellákba írjon adatot !
...

Sheet Tartalom
A1: B-01 Leltár és Eredmény
D2: Ide írja az egyeztetés / vizsgálat szöveges értékelését | E2: Ide írja a következtetés szövegét | J2: ◄◄ NEM SZERKESZTHETŐ SOR !!
A3: DigitAudit | H3: AuditBeszámoló
D4: =Alapa!C17 -> 0
A5: =Alapa!C12 -> 0
C6: Tartalom | F6: Ellenőrzés - Értékelés - Következtetés | J6: Használati útmutató
A9: Megnevezés | B9: Sorszám | C9: Hivatkozás | D9: Munkalap neve | E9: Dátum | F9: 1. Ellenőrző szám JÓ, HA "0" | G9: 2. Ellenőrző szám JÓ, HA "0" | H9: Eredmény* | I9: Következtetés* | J9: * Az eredményt és a következtetést az egyedi munkalapokon lehet megfogalmazni.
A10: Forduló napi deviza-valuta értékelés
B11: =COUNT(B$9:$B10)+1 -> 1 | C11: B-01-DEV | D11: Deviza-valuta értékelése | E11: ='B-01-DEV'!F5 -> 0 | F11: ='B-01-DEV'!B2 -> 0 | G11: ='B-01-DEV'!C2 -> 0 | H11: =IF('B-01-DEV'!D2=D2,"",'B-01-DEV'!D2) -> NINCS ADAT | I11: =IF('B-01-DEV'!E2=E2,"",'B-01-DEV'!E2)
A12: Leltár
A13: Mérlegen kívüli tételek
B14: =COUNT(B$9:$B13)+1 -> 2 | C14: B-01-MK | D14: Mérlegen kívüli tételek | E14: ='B-01-MK'!D5 -> 0 | F14: ='B-01-MK'!B2 -> 0 | G14: ='B-01-MK'!C2 -> 0 | H14: =IF('B-01-MK'!D2=D2,"",'B-01-MK'!D2) -> NINCS ADAT | I14: =IF('B-01-MK'!E2=E2,"",'B-01-MK'!E2)
A15: Immateriális javak
B16: =COUNT(B$9:$B15)+1 -> 3 | C16: B-01-AI-01 | D16: Leltárösszesítő | E16: ='B-01-AI-01'!D5 -> 0 | F16: ='B-01-AI-01'!B2 -> 0 | G16: ='B-01-AI-01'!C2 -> 0 | H16: =IF('B-01-AI-01'!D2=D2,"",'B-01-AI-01'!D2) -> NINCS FK. ADAT | I16: =IF('B-01-AI-01'!E2=E2,"",'B-01-AI-01'!E2)
B17: =COUNT(B$9:$B16)+1 -> 4 | C17: B-01-AI-02 | D17: Főkönyvi kivonat egyeztetés | E17: ='B-01-AI-02'!F3 -> 0 | F17: ='B-01-AI-02'!B2 -> 0 | G17: ='B-01-AI-02'!C2 -> 0 | H17: =IF('B-01-AI-02'!D2=D2,"",'B-01-AI-02'!D2) | I17: =IF('B-01-AI-02'!E2=E2,"",'B-01-AI-02'!E2)
B18: =COUNT(B$9:$B17)+1 -> 5 | C18: B-01-AI-10-01 | D18: Immateriális javak (kivéve előlegek) | E18: ='B-01-AI-10-01'!I5 -> 0 | F18: ='B-01-AI-10-01'!B2 -> 0 | G18: ='B-01-AI-10-01'!C2 -> 0 | H18: =IF('B-01-AI-10-01'!D2=D2,"",'B-01-AI-10-01'!D2) | I18: =IF('B-01-AI-10-01'!E2=E2,"",'B-01-AI-10-01'!E2)
B19: =COUNT(B$9:$B18)+1 -> 6 | C19: B-01-AI-10-02 | D19: Immateriális javakra adott előlegek | E19: ='B-01-AI-10-02'!G5 -> 0 | F19: ='B-01-AI-10-02'!B2 -> 0 | G19: ='B-01-AI-10-02'!C2 -> 0 | H19: =IF('B-01-AI-10-02'!D2=D2,"",'B-01-AI-10-02'!D2) | I19: =IF('B-01-AI-10-02'!E2=E2,"",'B-01-AI-10-02'!E2)
A20: Tárgyi eszközök
B21: =COUNT(B$9:$B20)+1 -> 7 | C21: B-01-AII-01 | D21: Leltárösszesítő | E21: ='B-01-AII-01'!D5 -> 0 | F21: ='B-01-AII-01'!B2 -> 0 | G21: ='B-01-AII-01'!C2 -> 0 | H21: =IF('B-01-AII-01'!D2=D2,"",'B-01-AII-01'!D2) -> NINCS FK. ADAT | I21: =IF('B-01-AII-01'!E2=E2,"",'B-01-AII-01'!E2)
B22: =COUNT(B$9:$B21)+1 -> 8 | C22: B-01-AII-02 | D22: Főkönyvi kivonat egyeztetés | E22: ='B-01-AII-02'!F3 -> 0 | F22: ='B-01-AII-02'!B2 -> 0 | G22: ='B-01-AII-02'!C2 -> 0 | H22: =IF('B-01-AII-02'!D2=D2,"",'B-01-AII-02'!D2) | I22: =IF('B-01-AII-02'!E2=E2,"",'B-01-AII-02'!E2)
B23: =COUNT(B$9:$B22)+1 -> 9 | C23: B-01-AII-10-01 | D23: Tárgyieszközök (kivéve beruházások, felújítások, előlegek) | E23: ='B-01-AII-10-01'!I5 -> 0 | F23: ='B-01-AII-10-01'!B2 -> 0 | G23: ='B-01-AII-10-01'!C2 -> 0 | H23: =IF('B-01-AII-10-01'!D2=D2,"",'B-01-AII-10-01'!D2) | I23: =IF('B-01-AII-10-01'!E2=E2,"",'B-01-AII-10-01'!E2)
B24: =COUNT(B$9:$B23)+1 -> 10 | C24: B-01-AII-10-02 | D24: Beruházásokra adott előlegek | E24: ='B-01-AII-10-02'!G5 -> 0 | F24: ='B-01-AII-10-02'!B2 -> 0 | G24: ='B-01-AII-10-02'!C2 -> 0 | H24: =IF('B-01-AII-10-02'!D2=D2,"",'B-01-AII-10-02'!D2) | I24: =IF('B-01-AII-10-02'!E2=E2,"",'B-01-AII-10-02'!E2)
B25: =COUNT(B$9:$B24)+1 -> 11 | C25: B-01-AII-10-03 | D25: Beruházások,felujítások | E25: ='B-01-AII-10-03'!E5 -> 0 | F25: ='B-01-AII-10-03'!B2 -> 0 | G25: ='B-01-AII-10-03'!C2 -> 0 | H25: =IF('B-01-AII-10-03'!D2=D2,"",'B-01-AII-10-03'!D2) | I25: =IF('B-01-AII-10-03'!E2=E2,"",'B-01-AII-10-03'!E2)
A26: Befektetett pénzügyi eszközök
B27: =COUNT(B$9:$B26)+1 -> 12 | C27: B-01-AIII-01 | D27: Leltárösszesítő | E27: ='B-01-AIII-01'!D5 -> 0 | F27: ='B-01-AIII-01'!B2 -> 0 | G27: ='B-01-AIII-01'!C2 -> 0 | H27: =IF('B-01-AIII-01'!D2=D2,"",'B-01-AIII-01'!D2) -> NINCS FK. ADAT | I27: =IF('B-01-AIII-01'!E2=E2,"",'B-01-AIII-01'!E2)
B28: =COUNT(B$9:$B27)+1 -> 13 | C28: B-01-AIII-02 | D28: Főkönyvi kivonat egyeztetés | E28: ='B-01-AIII-02'!F3 -> 0 | F28: ='B-01-AIII-02'!B2 -> 0 | G28: ='B-01-AIII-02'!C2 -> 0 | H28: =IF('B-01-AIII-02'!D2=D2,"",'B-01-AIII-02'!D2) | I28: =IF('B-01-AIII-02'!E2=E2,"",'B-01-AIII-02'!E2)
B29: =COUNT(B$9:$B28)+1 -> 14 | C29: B-01-AIII-10-01 | D29: Befektetett pénzügyi eszközök,Tartós részesedések | E29: ='B-01-AIII-10-01'!H5 -> 0 | F29: ='B-01-AIII-10-01'!B2 -> 0 | G29: ='B-01-AIII-10-01'!C2 -> 0 | H29: =IF('B-01-AIII-10-01'!D2=D2,"",'B-01-AIII-10-01'!D2) | I29: =IF('B-01-AIII-10-01'!E2=E2,"",'B-01-AIII-10-01'!E2)
B30: =COUNT(B$9:$B29)+1 -> 15 | C30: B-01-AIII-10-02 | D30: Tartósan adott kölcsönök | E30: ='B-01-AIII-10-02'!G5 -> 0 | F30: ='B-01-AIII-10-02'!B2 -> 0 | G30: ='B-01-AIII-10-02'!C2 -> 0 | H30: =IF('B-01-AIII-10-02'!D2=D2,"",'B-01-AIII-10-02'!D2) | I30: =IF('B-01-AIII-10-02'!E2=E2,"",'B-01-AIII-10-02'!E2)
B31: =COUNT(B$9:$B30)+1 -> 16 | C31: B-01-AIII-10-03 | D31: Tartós hitelviszonyt megtestesítő értékpapír | E31: ='B-01-AIII-10-03'!G5 -> 0 | F31: ='B-01-AIII-10-03'!B2 -> 0 | G31: ='B-01-AIII-10-03'!C2 -> 0 | H31: =IF('B-01-AIII-10-03'!D2=D2,"",'B-01-AIII-10-03'!D2) | I31: =IF('B-01-AIII-10-03'!E2=E2,"",'B-01-AIII-10-03'!E2)
B32: =COUNT(B$9:$B31)+1 -> 17 | C32: B-01-AIII-10-04 | D32: Befektetett pénzügyi eszközök értékhelyesbítése | E32: ='B-01-AIII-10-04'!E5 -> 0 | F32: ='B-01-AIII-10-04'!B2 -> 0 | G32: ='B-01-AIII-10-04'!C2 -> 0 | H32: =IF('B-01-AIII-10-04'!D2=D2,"",'B-01-AIII-10-04'!D2) | I32: =IF('B-01-AIII-10-04'!E2=E2,"",'B-01-AIII-10-04'!E2)
A33: Halasztott adókövetelés
B34: =COUNT(B$9:$B33)+1 -> 18 | C34: B-01-AIV-01 | D34: Leltárösszesítő | E34: ='B-01-AIV-01'!D5 -> 0 | F34: ='B-01-AIV-01'!B2 -> 0 | G34: ='B-01-AIV-01'!C2 -> 0 | H34: =IF('B-01-AIV-01'!D2=D2,"",'B-01-AIV-01'!D2) -> NINCS FK. ADAT | I34: =IF('B-01-AIV-01'!E2=E2,"",'B-01-AIV-01'!E2)
B35: =COUNT(B$9:$B34)+1 -> 19 | C35: B-01-AIV-02 | D35: Főkönyvi kivonat egyeztetés | E35: ='B-01-AIV-02'!F3 -> 0 | F35: ='B-01-AIV-02'!B2 -> 0 | G35: ='B-01-AIV-02'!C2 -> 0 | H35: =IF('B-01-AIV-02'!D2=D2,"",'B-01-AIV-02'!D2) | I35: =IF('B-01-AIV-02'!E2=E2,"",'B-01-AIV-02'!E2)
A36: Készletek
B37: =COUNT(B$9:$B36)+1 -> 20 | C37: B-01-BI-01 | D37: Leltárösszesítő | E37: ='B-01-BI-01'!D5 -> 0 | F37: ='B-01-BI-01'!B2 -> 0 | G37: ='B-01-BI-01'!C2 -> 0 | H37: =IF('B-01-BI-01'!D2=D2,"",'B-01-BI-01'!D2) -> NINCS FK. ADAT | I37: =IF('B-01-BI-01'!E2=E2,"",'B-01-BI-01'!E2)
B38: =COUNT(B$9:$B37)+1 -> 21 | C38: B-01-BI-02 | D38: Főkönyvi kivonat egyeztetés | E38: ='B-01-BI-02'!F3 -> 0 | F38: ='B-01-BI-02'!B2 -> 0 | G38: ='B-01-BI-02'!C2 -> 0 | H38: =IF('B-01-BI-02'!D2=D2,"",'B-01-BI-02'!D2) | I38: =IF('B-01-BI-02'!E2=E2,"",'B-01-BI-02'!E2)
B39: =COUNT(B$9:$B38)+1 -> 22 | C39: B-01-BI-10-01 | D39: Készletek leltráfelvételi íve (mennyiségi nyilvántartás hiányában) | E39: ='B-01-BI-10-01'!G5 -> 0 | F39: ='B-01-BI-10-01'!B2 -> 0 | G39: ='B-01-BI-10-01'!C2 -> 0 | H39: =IF('B-01-BI-10-01'!D2=D2,"",'B-01-BI-10-01'!D2) | I39: =IF('B-01-BI-10-01'!E2=E2,"",'B-01-BI-10-01'!E2)
B40: =COUNT(B$9:$B39)+1 -> 23 | C40: B-01-BI-10-02 | D40: Készletek leltráfelvételi íve( mennyiségi nyilvántartás mellett) | E40: ='B-01-BI-10-02'!J5 -> 0 | F40: ='B-01-BI-10-02'!B2 -> 0 | G40: ='B-01-BI-10-02'!C2 -> 0 | H40: =IF('B-01-BI-10-02'!D2=D2,"",'B-01-BI-10-02'!D2) | I40: =IF('B-01-BI-10-02'!E2=E2,"",'B-01-BI-10-02'!E2)
B41: =COUNT(B$9:$B40)+1 -> 24 | C41: B-01-BI-10-03 | D41: Vásárolt készletek ( anyag áru ) értékelése | E41: ='B-01-BI-10-03'!H5 -> 0 | F41: ='B-01-BI-10-03'!B2 -> 0 | G41: ='B-01-BI-10-03'!C2 -> 0 | H41: =IF('B-01-BI-10-03'!D2=D2,"",'B-01-BI-10-03'!D2) | I41: =IF('B-01-BI-10-03'!E2=E2,"",'B-01-BI-10-03'!E2)
B42: =COUNT(B$9:$B41)+1 -> 25 | C42: B-01-BI-10-04 | D42: Saját termelésű készletek értékelése | E42: ='B-01-BI-10-04'!J5 -> 0 | F42: ='B-01-BI-10-04'!B2 -> 0 | G42: ='B-01-BI-10-04'!C2 -> 0 | H42: =IF('B-01-BI-10-04'!D2=D2,"",'B-01-BI-10-04'!D2) | I42: =IF('B-01-BI-10-04'!E2=E2,"",'B-01-BI-10-04'!E2)
...

Sheet B-01-DEV
A1: B-01-DEV
D2: =M15 -> NINCS ADAT | E2: =M17 -> Ide írja a következtetés szövegét | L2: ◄◄ NEM SZERKESZTHETŐ SOR !!
E3: DEVIZA-VALUTA ÉRTÉKELÉSE | L3: Tartalom
A5: =Alapa!C17 -> 0 | E5: Dátum: | F5: =Alapa!C15 -> 0
A6: ="Fordulónap: "&Alapa!C12 -> Fordulónap: | E6: Készítette: | F6: =IFERROR(VLOOKUP(M6,Alapa!$K$2:$M$11,3),"") | H6: Ellenőrizte: | I6: =IF(Alapa!$M$2=0," ",Alapa!$M$2) | L6: Készítette: | M6: 2
A8: Deviza-valuta értékelés hatása az eredményre:
A10: B. | B10: Pénzügyi műveletek eredménye | E10: =IF(F10=0," NINCS HATÁS",IF(F10>0,"NYERESÉG:",IF(F10<0,"VESZTESÉG:"," "))) -> NINCS HATÁS | F10: =+SUMIF(C:C,"Összesen:",K:K)-(SUMIF(C:C,"Összesen:",J:J)*-1) -> 0 | G10: =IF(F10>0,"T Eszköz/Forrás",IF(F10<0,"K Eszköz/Forrás"," ")) | I10: =IF(F10>0,"K Pénzügyi műveletek egyéb bevételei",IF(F10<0,"T Pénzügyi műveletek egyéb ráfordításai"," "))
F12: CHF | G12: EUR | H12: GBP | I12: USD
A13: Fordulónapi árfolyamok: | C13: HUF / DEVIZA | E13: =Alapa!C12 -> 0
M14: Eredmény:
A15: Devizás analitika | K15: =IF(SUM(F51+F60)=0,"NINCS ADAT","") -> NINCS ADAT | M15: =K15 -> NINCS ADAT
J16: Adatok Ft-ban | M16: Következtetés:
A17: Főkönyvi szám | B17: Tétel megnevezése | C17: Tételazonosító | D17: Devizanem | E17: Könyv szerinti érték | H17: Mérlegfordulónapi érték | J17: Árfolyam különbözet | M17: Ide írja a következtetés szövegét
E18: Devizaösszeg | F18: Forint | G18: Árfolyam Ft / … | H18: Árfolyam Ft / … | I18: Forint | J18: Nyereség | K18: Veszteség
E19: Követelés "+" Kötelezettség " -"
G20: =IF(E20=0,0,ROUND(F20/E20,2)) -> 0 | H20: =SUMIF($F$12:$I$12,D20,$F$13:$I$13) -> 0 | I20: =H20*E20 -> 0 | J20: =IF(I20-F20>=0,I20-F20,"0") -> 0 | K20: =IF(I20-F20<0,I20-F20,"0") -> 0
G21: =IF(E21=0,0,ROUND(F21/E21,2)) -> 0 | H21: =SUMIF($F$12:$I$12,D21,$F$13:$I$13) -> 0 | I21: =H21*E21 -> 0 | J21: =IF(I21-F21>=0,I21-F21,"0") -> 0 | K21: =IF(I21-F21<0,I21-F21,"0") -> 0
G22: =IF(E22=0,0,ROUND(F22/E22,2)) -> 0 | H22: =SUMIF($F$12:$I$12,D22,$F$13:$I$13) -> 0 | I22: =H22*E22 -> 0 | J22: =IF(I22-F22>=0,I22-F22,"0") -> 0 | K22: =IF(I22-F22<0,I22-F22,"0") -> 0
G23: =IF(E23=0,0,ROUND(F23/E23,2)) -> 0 | H23: =SUMIF($F$12:$I$12,D23,$F$13:$I$13) -> 0 | I23: =H23*E23 -> 0 | J23: =IF(I23-F23>=0,I23-F23,"0") -> 0 | K23: =IF(I23-F23<0,I23-F23,"0") -> 0
G24: =IF(E24=0,0,ROUND(F24/E24,2)) -> 0 | H24: =SUMIF($F$12:$I$12,D24,$F$13:$I$13) -> 0 | I24: =H24*E24 -> 0 | J24: =IF(I24-F24>=0,I24-F24,"0") -> 0 | K24: =IF(I24-F24<0,I24-F24,"0") -> 0
G25: =IF(E25=0,0,ROUND(F25/E25,2)) -> 0 | H25: =SUMIF($F$12:$I$12,D25,$F$13:$I$13) -> 0 | I25: =H25*E25 -> 0 | J25: =IF(I25-F25>=0,I25-F25,"0") -> 0 | K25: =IF(I25-F25<0,I25-F25,"0") -> 0
G26: =IF(E26=0,0,ROUND(F26/E26,2)) -> 0 | H26: =SUMIF($F$12:$I$12,D26,$F$13:$I$13) -> 0 | I26: =H26*E26 -> 0 | J26: =IF(I26-F26>=0,I26-F26,"0") -> 0 | K26: =IF(I26-F26<0,I26-F26,"0") -> 0
G27: =IF(E27=0,0,ROUND(F27/E27,2)) -> 0 | H27: =SUMIF($F$12:$I$12,D27,$F$13:$I$13) -> 0 | I27: =H27*E27 -> 0 | J27: =IF(I27-F27>=0,I27-F27,"0") -> 0 | K27: =IF(I27-F27<0,I27-F27,"0") -> 0
G28: =IF(E28=0,0,ROUND(F28/E28,2)) -> 0 | H28: =SUMIF($F$12:$I$12,D28,$F$13:$I$13) -> 0 | I28: =H28*E28 -> 0 | J28: =IF(I28-F28>=0,I28-F28,"0") -> 0 | K28: =IF(I28-F28<0,I28-F28,"0") -> 0
G29: =IF(E29=0,0,ROUND(F29/E29,2)) -> 0 | H29: =SUMIF($F$12:$I$12,D29,$F$13:$I$13) -> 0 | I29: =H29*E29 -> 0 | J29: =IF(I29-F29>=0,I29-F29,"0") -> 0 | K29: =IF(I29-F29<0,I29-F29,"0") -> 0
G30: =IF(E30=0,0,ROUND(F30/E30,2)) -> 0 | H30: =SUMIF($F$12:$I$12,D30,$F$13:$I$13) -> 0 | I30: =H30*E30 -> 0 | J30: =IF(I30-F30>=0,I30-F30,"0") -> 0 | K30: =IF(I30-F30<0,I30-F30,"0") -> 0
G31: =IF(E31=0,0,ROUND(F31/E31,2)) -> 0 | H31: =SUMIF($F$12:$I$12,D31,$F$13:$I$13) -> 0 | I31: =H31*E31 -> 0 | J31: =IF(I31-F31>=0,I31-F31,"0") -> 0 | K31: =IF(I31-F31<0,I31-F31,"0") -> 0
... G50: =IF(E50=0,0,ROUND(F50/E50,2)) -> 0 | H50: =SUMIF($F$12:$I$12,D50,$F$13:$I$13) -> 0 | I50: =H50*E50 -> 0 | J50: =IF(I50-F50>=0,I50-F50,"0") -> 0 | K50: =IF(I50-F50<0,I50-F50,"0") -> 0
B51: Deviza számlák | C51: Összesen: | E51: =SUM(E19:E50) -> 0 | F51: =SUM(F19:F50) -> 0 | G51: =IF(E51=0,0,ROUND(F51/E51,2)) -> 0 | I51: =SUM(I19:I50) -> 0 | J51: =SUM(J19:J50) -> 0 | K51: =SUM(K19:K50) -> 0
A53: Valutapénztár analitika
A55: Főkönyvi szám | B55: Tétel megnevezése | C55: Tételazonosító | D55: Valutanem | E55: Könyv szerinti érték | H55: Mérleg fordulónapi érték | J55: Árfolyam különbözet
E56: Valutaösszeg | F56: Forint | G56: Árfolyam Ft / … | H56: Árfolyam Ft / … | I56: Forint | J56: Nyereség | K56: Veszteség
G57: =IF(E57=0,0,ROUND(F57/E57,2)) -> 0 | H57: =SUMIF($F$12:$I$12,D57,$F$13:$I$13) -> 0 | I57: =E57*H57 -> 0 | J57: =IF(I57-F57>=0,I57-F57,"0") -> 0 | K57: =IF(I57-F57<0,I57-F57,"0") -> 0
G58: =IF(E58=0,0,ROUND(F58/E58,2)) -> 0 | H58: =SUMIF($F$12:$I$12,D58,$F$13:$I$13) -> 0 | I58: =E58*H58 -> 0 | J58: =IF(I58-F58>=0,I58-F58,"0") -> 0 | K58: =IF(I58-F58<0,I58-F58,"0") -> 0
G59: =IF(E59=0,0,ROUND(F59/E59,2)) -> 0 | H59: =SUMIF($F$12:$I$12,D59,$F$13:$I$13) -> 0 | I59: =E59*H59 -> 0 | J59: =IF(I59-F59>=0,I59-F59,"0") -> 0 | K59: =IF(I59-F59<0,I59-F59,"0") -> 0
B60: Valutapénztár | C60: Összesen: | E60: =SUM(E57:E59) -> 0 | F60: =SUM(F56:F59) -> 0 | I60: =SUM(I57:I59) -> 0 | J60: =SUM(J57:J59) -> 0 | K60: =SUM(K57:K59) -> 0
L92: A tételsor Beszúrást mindig az összesítő sort megelőző sor fölé kell elvégezni.
L93: A tételsor Beszúrás után az új sorba be kell másolni a megelőző sor összefüggéseit.

Sheet B-01-MK
A1: B-01-MK
B2: =F67 -> 0 | D2: =H15 -> NINCS ADAT | E2: =H17 -> Ide írja a következtetés szövegét | G2: ◄◄ NEM SZERKESZTHETŐ SOR !!
C3: LELTÁRÖSSZESÍTŐ | G3: Tartalom
A4: A.0. Mérlegen kívüli tételek ( "0" számlaosztály)
A5: =Alapa!C17 -> 0 | C5: Dátum: | D5: =Alapa!C15 -> 0
A6: ="Fordulónap: "&Alapa!C12 -> Fordulónap: | C6: Készítette: | D6: =IFERROR(VLOOKUP(H6,Alapa!$K$2:$M$11,3),"") | E6: Ellenőrizte: | F6: =IF(Alapa!$M$2=0," ",Alapa!$M$2) | G6: Készítette: | H6: 2
F9: =IF(SUM(F39+F65)=0,"NINCS ADAT",IF(F67=0,"EGYEZIK","NEM EGYEZIK !")) -> NINCS ADAT
A10: Eszközök | F10: Adatok E Ft
A11: Főkönyvi szám | B11: Megnevezés | C11: Megjegyzés | D11: Aktivált érték | E11: Elszámolt ráfordítás | F11: Nyilvántartási érték
A13: A. BEFEKTETETT ESZKÖZÖK | D13: =D14+D17+D20 -> 0 | E13: =E14+E17+E20 -> 0 | F13: =F14+F17+F20 -> 0
A14: I. IMMATERIÁLIS JAVAK | D14: =SUM(D15:D16) -> 0 | E14: =SUM(E15:E16) -> 0 | F14: =SUM(F15:F16) -> 0 | H14: Eredmény:
F15: =D15-E15 -> 0 | H15: =F9 -> NINCS ADAT
F16: =D16-E16 -> 0 | H16: Következtetés:
A17: II. TÁRGYI ESZKÖZÖK | D17: =SUM(D18:D19) -> 0 | E17: =SUM(E18:E19) -> 0 | F17: =SUM(F18:F19) -> 0 | H17: Ide írja a következtetés szövegét
F18: =D18-E18 -> 0
F19: =D19-E19 -> 0
A20: III. BEFEKTETETT PÉNZÜGYI ESZKÖZÖK | D20: =SUM(D21:D22) -> 0 | E20: =SUM(E21:E22) -> 0 | F20: =SUM(F21:F22) -> 0
F21: =D21-E21 -> 0
F22: =D22-E22 -> 0
A23: B. FORGÓESZKÖZÖK | D23: =D24+D27+D30+D33 -> 0 | E23: =E24+E27+E30+E33 -> 0 | F23: =F24+F27+F30+F33 -> 0
A24: I. KÉSZLETEK | D24: =SUM(D25:D26) -> 0 | E24: =SUM(E25:E26) -> 0 | F24: =SUM(F25:F26) -> 0
F25: =D25-E25 -> 0
F26: =D26-E26 -> 0
A27: II. KÖVETELÉSEK | D27: =SUM(D28:D29) -> 0 | E27: =SUM(E28:E29) -> 0 | F27: =SUM(F28:F29) -> 0
F28: =D28-E28 -> 0
F29: =D29-E29 -> 0
A30: III. ÉRTÉKPAPÍROK | D30: =SUM(D31:D32) -> 0 | E30: =SUM(E31:E32) -> 0 | F30: =SUM(F31:F32) -> 0
F31: =D31-E31 -> 0
F32: =D32-E32 -> 0
A33: IV. PÉNZESZKÖZÖK | D33: =SUM(D34:D35) -> 0 | E33: =SUM(E34:E35) -> 0 | F33: =SUM(F34:F35) -> 0
F34: =D34-E34 -> 0
F35: =D35-E35 -> 0
A36: C. AKTÍV IDŐBELI ELHATÁROLÁSOK | D36: =SUM(D37:D38) -> 0 | E36: =SUM(E37:E38) -> 0 | F36: =SUM(F37:F38) -> 0
F37: =D37-E37 -> 0
F38: =D38-E38 -> 0
A39: ESZKÖZÖK ÖSSZESEN | D39: =D36+D23+D13 -> 0 | E39: =E36+E23+E13 -> 0 | F39: =F36+F23+F13 -> 0
A42: Források | F42: Ft
A43: Főkönyvi összesítő | B43: Megnevezés | C43: Megjegyzés | D43: Passzívált érték | E43: Elszámolt bevétel | F43: Nyilvántartási érték
A44: D. SAJÁT TŐKE | D44: =SUM(D45:D46) -> 0 | E44: =SUM(E45:E46) -> 0 | F44: =SUM(F45:F46) -> 0
F45: =D45-E45 -> 0
...

Sheet B-01-AI-01
A1: B-01-AI-01
B2: =C22 -> 0 | D2: =G15 -> NINCS FK. ADAT | E2: =G17 -> Ide írja a következtetés szövegét | F2: ◄◄ NEM SZERKESZTHETŐ SOR !!
B3: Leltárösszesítő | F3: Tartalom | G3: Tartalom
F4: B-01-AI-01 | G4: Leltár összesítő
A5: =Alapa!C17 -> 0 | C5: Dátum: | D5: =Alapa!C15 -> 0 | F5: B-01-AI-02 | G5: Főkönyvi kivonat egyeztetés
A6: ="Fordulónap: "&Alapa!C12 -> Fordulónap: | C6: Készítette: | D6: =IFERROR(VLOOKUP(G8,Alapa!$K$2:$M$11,3),"") | F6: B-01-AI-10-01 | G6: Immateriális javak (kivéve előlegek)
C7: Ellenőrizte: | D7: =IF(Alapa!$M$2=0," ",Alapa!$M$2) | F7: B-01-AI-10-02 | G7: Immateriális javakra adott előlegek
F8: Készítette: | G8: 2
A10: A.I. Immateriális javak | C10: =IF(D20=0,"NINCS FK. ADAT",IF(C20=0,"NINCS ANALITIKA",IF(C22=0,"EGYEZIK","NEM EGYEZIK !"))) -> NINCS FK. ADAT
C11: Ft-ban | D11: Ft-ban | E11: E Ft-ban
B12: Megnevezés | C12: Analitika | D12: Főkönyv | E12: Mérleg
A13: 1. | B13: Alapítás-átszervezés aktívált értéke | D13: =Import_M!H5 -> 0 | E13: =Import_M!F5 -> 0
A14: 2. | B14: Kísérleti fejlesztés aktívált értéke | D14: =Import_M!H6 -> 0 | E14: =Import_M!F6 -> 0 | G14: Eredmény:
A15: 3. | B15: Vagyoni értékű jogok | D15: =Import_M!H7 -> 0 | E15: =Import_M!F7 -> 0 | G15: =C10 -> NINCS FK. ADAT
A16: 4. | B16: Szellemi termékek | D16: =Import_M!H8 -> 0 | E16: =Import_M!F8 -> 0 | G16: Következtetés:
A17: 5. | B17: Üzleti vagy cégérték | D17: =Import_M!H9 -> 0 | E17: =Import_M!F9 -> 0 | G17: Ide írja a következtetés szövegét
A18: 6. | B18: Immateriális javakra adott előlegek | D18: =Import_M!H10 -> 0 | E18: =Import_M!F10 -> 0
A19: 7. | B19: Immateriális javak értékhelyesbítése | D19: =Import_M!H11 -> 0 | E19: =Import_M!F11 -> 0
B20: Összesen | C20: =ROUND(SUM(C13:C19),0) -> 0 | D20: =SUM(D13:D19) -> 0 | E20: =SUM(E13:E19) -> 0
B22: Eltérés: | C22: =C20-D20 -> 0
A25: Leltármellékletek:
A26: Főkönyvi egyeztetés
A27: A.I. Immateriális javak (kivéve előlegek)
A28: A.I.6. Immateriális javakra adott előlegek

Sheet B-01-AI-02
A1: B-01-AI-02 | C1: A.I. Immateriális javak
D2: =L15 -> Ide írja az egyeztetés / vizsgálat szöveges értékelését | E2: =L17 -> Ide írja a következtetés szövegét | K2: ◄◄ NEM SZERKESZTHETŐ SOR !!
A3: =Alapa!C17 -> 0 | E3: Dátum: | F3: =Alapa!C15 -> 0 | K3: Tartalom | L3: Tartalom
A4: ="Fordulónap: "&Alapa!C12 -> Fordulónap: | E4: Készítette: | F4: =IFERROR(VLOOKUP(L8,Alapa!$K$2:$M$11,3),"") | K4: B-01-AI-01 | L4: Leltár összesítő
E5: Ellenőrizte: | F5: =IF(Alapa!$M$2=0," ",Alapa!$M$2) | K5: B-01-AI-02 | L5: Főkönyvi kivonat egyeztetés
A6: Főkönyvi kivonat elemzés | G6: Kivételes nagyságú bevétel költség: | H6: =Tartalom!$F$112*Alapa!D33 -> 0 | K6: B-01-AI-10-01 | L6: Immateriális javak (kivéve előlegek)
A7: Mérlegértékek E Ft-ban | D7: =Alapa!C10 -> 0 | E7: =Alapa!C11 -> 0 | F7: Eltérés | G7: =Alapa!C11&"/"&Alapa!C10 -> / | K7: B-01-AI-10-02 | L7: Immateriális javakra adott előlegek
B8: Számlaegyenlegek Ft-ban | D8: E Ft ; Ft | E8: E Ft ; Ft | F8: E Ft ; Ft | G8: % | K8: Készítette: | L8: 2
F9: =IF(E9-D9=0," ",E9-D9) | G9: =IFERROR(E9/D9%," ")
F10: =IF(E10-D10=0," ",E10-D10) | G10: =IFERROR(E10/D10%," ")
F11: =IF(E11-D11=0," ",E11-D11) | G11: =IFERROR(E11/D11%," ")
F12: =IF(E12-D12=0," ",E12-D12) | G12: =IFERROR(E12/D12%," ")
F13: =IF(E13-D13=0," ",E13-D13) | G13: =IFERROR(E13/D13%," ")
F14: =IF(E14-D14=0," ",E14-D14) | G14: =IFERROR(E14/D14%," ") | L14: Eredmény:
F15: =IF(E15-D15=0," ",E15-D15) | G15: =IFERROR(E15/D15%," ") | L15: Ide írja az egyeztetés / vizsgálat szöveges értékelését
F16: =IF(E16-D16=0," ",E16-D16) | G16: =IFERROR(E16/D16%," ") | L16: Következtetés:
F17: =IF(E17-D17=0," ",E17-D17) | G17: =IFERROR(E17/D17%," ") | L17: Ide írja a következtetés szövegét
F18: =IF(E18-D18=0," ",E18-D18) | G18: =IFERROR(E18/D18%," ")
F19: =IF(E19-D19=0," ",E19-D19) | G19: =IFERROR(E19/D19%," ")
F20: =IF(E20-D20=0," ",E20-D20) | G20: =IFERROR(E20/D20%," ")
F21: =IF(E21-D21=0," ",E21-D21) | G21: =IFERROR(E21/D21%," ")
F22: =IF(E22-D22=0," ",E22-D22) | G22: =IFERROR(E22/D22%," ")
F23: =IF(E23-D23=0," ",E23-D23) | G23: =IFERROR(E23/D23%," ")
F24: =IF(E24-D24=0," ",E24-D24) | G24: =IFERROR(E24/D24%," ")
F25: =IF(E25-D25=0," ",E25-D25) | G25: =IFERROR(E25/D25%," ")
F26: =IF(E26-D26=0," ",E26-D26) | G26: =IFERROR(E26/D26%," ")
F27: =IF(E27-D27=0," ",E27-D27) | G27: =IFERROR(E27/D27%," ")
F28: =IF(E28-D28=0," ",E28-D28) | G28: =IFERROR(E28/D28%," ")
F29: =IF(E29-D29=0," ",E29-D29) | G29: =IFERROR(E29/D29%," ")
... F400: =IF(E400-D400=0," ",E400-D400) | G400: =IFERROR(E400/D400%," ")

Sheet B-01-AI-10-01
A1: B-01-AI-10-01
D2: =O15 -> Ide írja az egyeztetés / vizsgálat szöveges értékelését | E2: =O17 -> Ide írja a következtetés szövegét | N2: ◄◄ NEM SZERKESZTHETŐ SOR !!
G3: Leltár | N3: Tartalom | O3: Tartalom
A4: A.I. Immateriális javak (kivéve előlegek) | N4: B-01-AI-01 | O4: Leltár összesítő
A5: =Alapa!C17 -> 0 | H5: Dátum: | I5: =Alapa!C15 -> 0 | N5: B-01-AI-02 | O5: Főkönyvi kivonat egyeztetés
A6: ="Fordulónap: "&Alapa!C12 -> Fordulónap: | H6: Készítette: | I6: =IFERROR(VLOOKUP(O8,Alapa!$K$2:$M$11,3),"") | K6: Ellenőrizte: | L6: =IF(Alapa!$M$2=0," ",Alapa!$M$2) | N6: B-01-AI-10-01 | O6: Immateriális javak (kivéve előlegek)
N7: B-01-AI-10-02 | O7: Immateriális javakra adott előlegek
A8: Leltárfelvét típusa: | C8: EGYEZTETÉS | M8: Adatok Ft-ban | N8: Készítette: | O8: 2
A9: Sorszámszám | B9: Azonosító | C9: Megnevezés | D9: Mennyiség | E9: Aktiválás időpontja | F9: Bekerülési érték | G9: Terv szerinti é.cs. | H9: Terven felüli écs. * | I9: T.f.é.cs. Visszaírás * | J9: Nettó mérleg érték | K9: Értékhelyesbítés**
K10: Értékelés módszere | L10: Piaci érték | M10: Értékhelyesbítés
A11: 1. | J11: =F11-G11-H11+I11 -> 0 | M11: =IF(L11=0,0,L11-J11) -> 0
A12: 2. | J12: =F12-G12-H12+I12 -> 0 | M12: =IF(L12=0,0,L12-J12) -> 0
A13: 3. | J13: =F13-G13-H13+I13 -> 0 | M13: =IF(L13=0,0,L13-J13) -> 0
A14: 4. | J14: =F14-G14-H14+I14 -> 0 | M14: =IF(L14=0,0,L14-J14) -> 0 | O14: Eredmény:
A15: 5. | J15: =F15-G15-H15+I15 -> 0 | M15: =IF(L15=0,0,L15-J15) -> 0 | O15: Ide írja az egyeztetés / vizsgálat szöveges értékelését
A16: 6. | J16: =F16-G16-H16+I16 -> 0 | M16: =IF(L16=0,0,L16-J16) -> 0 | O16: Következtetés:
A17: 7. | J17: =F17-G17-H17+I17 -> 0 | M17: =IF(L17=0,0,L17-J17) -> 0 | O17: Ide írja a következtetés szövegét
A18: 8. | J18: =F18-G18-H18+I18 -> 0 | M18: =IF(L18=0,0,L18-J18) -> 0
A19: 9. | J19: =F19-G19-H19+I19 -> 0 | M19: =IF(L19=0,0,L19-J19) -> 0
A20: 10. | J20: =F20-G20-H20+I20 -> 0 | M20: =IF(L20=0,0,L20-J20) -> 0
A21: 11. | J21: =F21-G21-H21+I21 -> 0 | M21: =IF(L21=0,0,L21-J21) -> 0
A22: 12. | J22: =F22-G22-H22+I22 -> 0 | M22: =IF(L22=0,0,L22-J22) -> 0
A23: 13. | J23: =F23-G23-H23+I23 -> 0 | M23: =IF(L23=0,0,L23-J23) -> 0
A24: 14. | J24: =F24-G24-H24+I24 -> 0 | M24: =IF(L24=0,0,L24-J24) -> 0
A25: 15. | J25: =F25-G25-H25+I25 -> 0 | M25: =IF(L25=0,0,L25-J25) -> 0
A26: 16. | J26: =F26-G26-H26+I26 -> 0 | M26: =IF(L26=0,0,L26-J26) -> 0
A27: 17. | J27: =F27-G27-H27+I27 -> 0 | M27: =IF(L27=0,0,L27-J27) -> 0
A28: 18. | J28: =F28-G28-H28+I28 -> 0 | M28: =IF(L28=0,0,L28-J28) -> 0
A29: 19. | J29: =F29-G29-H29+I29 -> 0 | M29: =IF(L29=0,0,L29-J29) -> 0
A30: 20. | J30: =F30-G30-H30+I30 -> 0 | M30: =IF(L30=0,0,L30-J30) -> 0
A31: Összesen: | F31: =SUM(F11:F30) -> 0 | G31: =SUM(G11:G30) -> 0 | H31: =SUM(H11:H30) -> 0 | I31: =SUM(I11:I30) -> 0 | J31: =SUM(J11:J30) -> 0 | L31: =SUM(L11:L30) -> 0 | M31: =SUM(M11:M30) -> 0
H32: * Kivéve: Alapítás-átszervezés értéke | K32: ** Csak Szellemi termék és Vagyon értékű jog

Sheet B-01-AI-10-02
A1: B-01-AI-10-02
D2: =M15 -> Ide írja az egyeztetés / vizsgálat szöveges értékelését | E2: =M17 -> Ide írja a következtetés szövegét | L2: ◄◄ NEM SZERKESZTHETŐ SOR !!
E3: Leltár | L3: Tartalom | M3: Tartalom
A4: A.I.6. Immateriális javakra adott előlegek | L4: B-01-AI-01 | M4: Leltár összesítő
A5: =Alapa!C17 -> 0 | F5: Dátum: | G5: =Alapa!C15 -> 0 | L5: B-01-AI-02 | M5: Főkönyvi kivonat egyeztetés
A6: ="Fordulónap: "&Alapa!C12 -> Fordulónap: | F6: Készítette: | G6: =IFERROR(VLOOKUP(M8,Alapa!$K$2:$M$11,3),"") | I6: Ellenőrizte: | J6: =IF(Alapa!$M$2=0," ",Alapa!$M$2) | L6: B-01-AI-10-01 | M6: Immateriális javak (kivéve előlegek)
L7: B-01-AI-10-02 | M7: Immateriális javakra adott előlegek
L8: Készítette: | M8: 2
A9: Követelések korosítása
A10: Azonosító / Sorszám | B10: Vevő/Adós neve | C10: <30 nap | D10: 31-90 nap közötti | E10: 91-180 nap közötti | F10: 181-360 nap közötti | G10: >360 | H10: Könyvi érték | I10: Záró értékvesztés | J10: Mérleg érték
A11: 1. | H11: =SUM(C11:G11) -> 0 | J11: =H11-I11 -> 0
A12: 2. | H12: =SUM(C12:G12) -> 0 | J12: =H12-I12 -> 0
A13: 3. | H13: =SUM(C13:G13) -> 0 | J13: =H13-I13 -> 0
A14: 4. | H14: =SUM(C14:G14) -> 0 | J14: =H14-I14 -> 0 | M14: Eredmény:
A15: 5. | H15: =SUM(C15:G15) -> 0 | J15: =H15-I15 -> 0 | M15: Ide írja az egyeztetés / vizsgálat szöveges értékelését
B16: Összesen: | C16: =SUM(C11:C15) -> 0 | D16: =SUM(D11:D15) -> 0 | E16: =SUM(E11:E15) -> 0 | F16: =SUM(F11:F15) -> 0 | G16: =SUM(G11:G15) -> 0 | H16: =SUM(H11:H15) -> 0 | I16: =SUM(I11:I15) -> 0 | J16: =SUM(J11:J15) -> 0 | M16: Következtetés:
M17: Ide írja a következtetés szövegét
A18: Egyenlegközlés-Visszaigazolás egyeztetése
A19: Azonosító / Sorszám | B19: Vevő/Adós neve | C19: Követelés összege | D19: Visszaigazolt | E19: Eltérés | F19: Eltérésből vizsgálatig befolyt | G19: Fennmaradt eltérés | H19: Tisztázott eltérés | I19: Eltérés oka/Intézkedés* | J19: Tisztázatlan egyenleg | K19: Záró értékvesztés
A20: 1. | E20: =+D20-C20 -> 0 | G20: =+E20-F20 -> 0 | J20: =+G20-H20 -> 0
A21: 2. | E21: =+D21-C21 -> 0 | G21: =+E21-F21 -> 0 | J21: =+G21-H21 -> 0
A22: 3. | E22: =+D22-C22 -> 0 | G22: =+E22-F22 -> 0 | J22: =+G22-H22 -> 0
A23: 4. | E23: =+D23-C23 -> 0 | G23: =+E23-F23 -> 0 | J23: =+G23-H23 -> 0
A24: 5. | E24: =+D24-C24 -> 0 | G24: =+E24-F24 -> 0 | J24: =+G24-H24 -> 0
B25: Összesen: | C25: =SUM(C20:C24) -> 0 | D25: =SUM(D20:D24) -> 0 | E25: =SUM(E20:E24) -> 0 | F25: =SUM(F20:F24) -> 0 | G25: =SUM(G20:G24) -> 0 | H25: =SUM(H20:H24) -> 0 | J25: =SUM(J20:J24) -> 0 | K25: =SUM(K20:K24) -> 0
A26: *fizetési felszólítás; nem válaszolt; megszűnt; halasztás; fizetési meghagyás; perelt; jogerősen megítélt; csődvédelem; csődegyezség; végelszámolás; felszámolás; igazoltan megtérülő; egyéb.
A28: Értékvesztés nyilvántartása
A29: Azonosító / Sorszám | B29: Vevő/Adós neve | C29: Fordulónapon fennálló követelés | D29: Mk-ig befolyt | E29: Vitatott / Behajthatatlan | F29: Mk-kor fennálló | G29: Nyitó értékvesztés | H29: Tárgy évi megtérülés, kivezetés | I29: Tárgy évi Értékvesztés "+" Visszaírás"-" | J29: Záró értékvesztés | K29: Értékvesztés/ Mk-kor fennálló %
A30: 1. | F30: =C30-E30-D30 -> 0 | J30: =G30-H30+I30 -> 0 | K30: =IF(F30=0,0,IF(J30=0,0,IF(J30=0,0,J30/F30%))) -> 0
A31: 2. | F31: =C31-E31-D31 -> 0 | J31: =G31-H31+I31 -> 0 | K31: =IF(F31=0,0,IF(J31=0,0,IF(J31=0,0,J31/F31%))) -> 0
A32: 3. | F32: =C32-E32-D32 -> 0 | J32: =G32-H32+I32 -> 0 | K32: =IF(F32=0,0,IF(J32=0,0,IF(J32=0,0,J32/F32%))) -> 0
A33: 4. | F33: =C33-E33-D33 -> 0 | J33: =G33-H33+I33 -> 0 | K33: =IF(F33=0,0,IF(J33=0,0,IF(J33=0,0,J33/F33%))) -> 0
A34: 5. | F34: =C34-E34-D34 -> 0 | J34: =G34-H34+I34 -> 0 | K34: =IF(F34=0,0,IF(J34=0,0,IF(J34=0,0,J34/F34%))) -> 0
B35: Összesen: | C35: =SUM(C30:C34) -> 0 | D35: =SUM(D30:D34) -> 0 | E35: =SUM(E30:E34) -> 0 | F35: =SUM(F30:F34) -> 0 | G35: =SUM(G30:G34) -> 0 | H35: =SUM(H30:H34) -> 0 | I35: =SUM(I30:I34) -> 0 | J35: =SUM(J30:J34) -> 0 | K35: =IF(F35=0,0,IF(J35=0,0,IF(J35=0,0,J35/F35%))) -> 0

Sheet B-01-AII-01
A1: B-01-AII-01
B2: =C22 -> 0 | D2: =G15 -> NINCS FK. ADAT | E2: =G17 -> Ide írja a következtetés szövegét | F2: ◄◄ NEM SZERKESZTHETŐ SOR !!
B3: Leltárösszesítő | F3: Tartalom | G3: Tartalom
F4: B-01-AII-01 | G4: Leltárösszesítő
A5: =Alapa!C17 -> 0 | C5: Dátum: | D5: =Alapa!C15 -> 0 | F5: B-01-AII-02 | G5: Főkönyvi egyeztetés
A6: ="Fordulónap: "&Alapa!C12 -> Fordulónap: | C6: Készítette: | D6: =IFERROR(VLOOKUP(G9,Alapa!$K$2:$M$11,3),"") | F6: B-01-AII-10-01 | G6: Tárgyi eszközök (kivéve beruházások, felújítások, beruházásra adott előlegek)
C7: Ellenőrizte: | D7: =IF(Alapa!$M$2=0," ",Alapa!$M$2) | F7: B-01-AII-10-02 | G7: Beruházásokra adott előlegek
F8: B-01-AII-10-03 | G8: Beruházások, felújítások
F9: Készítette: | G9: 2
A10: A.II.Tárgyi eszközök | C10: =IF(D20=0,"NINCS FK. ADAT",IF(C20=0,"NINCS ANALITIKA",IF(C22=0,"EGYEZIK","NEM EGYEZIK !"))) -> NINCS FK. ADAT
C11: Ft-ban | D11: Ft-ban | E11: E Ft-ban
B12: Megnevezés | C12: Analitika | D12: Főkönyv | E12: Mérleg
A13: 1. | B13: Ingatlanok és a kapcsolódó vagyonértékű jogok | D13: =Import_M!H13 -> 0 | E13: =Import_M!F13 -> 0
A14: 2. | B14: Műszaki berendezések, gépek, járművek | D14: =Import_M!H14 -> 0 | E14: =Import_M!F14 -> 0 | G14: Eredmény:
A15: 3. | B15: Egyéb berendezések, felszerelések, járművek | D15: =Import_M!H15 -> 0 | E15: =Import_M!F15 -> 0 | G15: =C10 -> NINCS FK. ADAT
A16: 4. | B16: Tenyészállatok | D16: =Import_M!H16 -> 0 | E16: =Import_M!F16 -> 0 | G16: Következtetés:
A17: 5. | B17: Beruházások, felújítások | D17: =Import_M!H17 -> 0 | E17: =Import_M!F17 -> 0 | G17: Ide írja a következtetés szövegét
A18: 6. | B18: Beruházásokra adott előleg | D18: =Import_M!H18 -> 0 | E18: =Import_M!F18 -> 0
A19: 7. | B19: Tárgyi eszközök értékhelyesbítése | D19: =Import_M!H19 -> 0 | E19: =Import_M!F19 -> 0
B20: Összesen | C20: =ROUND(SUM(C13:C19),0) -> 0 | D20: =SUM(D13:D19) -> 0 | E20: =SUM(E13:E19) -> 0
B22: Eltérés: | C22: =C20-D20 -> 0
A25: Leltármellékletek:
A26: Főkönyvi egyeztetés
A27: A.II. Tárgyi eszközök (kivéve beruházások, felújítások, beruházásra adott előlegek)
A28: A.II.6. Beruházásokra adott előlegek
A29: A.II.5. Beruházások, felujítások

Sheet B-01-AII-02
A1: B-01-AII-02 | C1: A.II.Tárgyi eszközök
D2: =L15 -> Ide írja az egyeztetés / vizsgálat szöveges értékelését | E2: =L17 -> Ide írja a következtetés szövegét | K2: ◄◄ NEM SZERKESZTHETŐ SOR !!
A3: =Alapa!C17 -> 0 | E3: Dátum: | F3: =Alapa!C15 -> 0 | K3: Tartalom | L3: Tartalom
A4: ="Fordulónap: "&Alapa!C12 -> Fordulónap: | E4: Készítette: | F4: =IFERROR(VLOOKUP(L9,Alapa!$K$2:$M$11,3),"") | K4: B-01-AII-01 | L4: Leltárösszesítő
E5: Ellenőrizte: | F5: =IF(Alapa!$M$2=0," ",Alapa!$M$2) | K5: B-01-AII-02 | L5: Főkönyvi egyeztetés
A6: Főkönyvi kivonat elemzése | G6: Kivételes nagyságú bevétel költség: | H6: =Tartalom!$F$112*Alapa!D33 -> 0 | K6: B-01-AII-10-01 | L6: Tárgyi eszközök (kivéve beruházások, felújítások, beruházásra adott előlegek)
A7: Mérlegértékek E Ft-ban | D7: =Alapa!C10 -> 0 | E7: =Alapa!C11 -> 0 | F7: Eltérés | G7: / | K7: B-01-AII-10-02 | L7: Beruházásokra adott előlegek
B8: Számlaegyenlegek Ft-ban | D8: E Ft ; Ft | E8: E Ft ; Ft | F8: E Ft ; Ft | G8: % | K8: B-01-AII-10-03 | L8: Beruházások, felújítások
F9: =IF(E9-D9=0," ",E9-D9) | G9: =IFERROR(E9/D9%," ") | K9: Készítette: | L9: 2
F10: =IF(E10-D10=0," ",E10-D10) | G10: =IFERROR(E10/D10%," ")
F11: =IF(E11-D11=0," ",E11-D11) | G11: =IFERROR(E11/D11%," ")
F12: =IF(E12-D12=0," ",E12-D12) | G12: =IFERROR(E12/D12%," ")
F13: =IF(E13-D13=0," ",E13-D13) | G13: =IFERROR(E13/D13%," ")
F14: =IF(E14-D14=0," ",E14-D14) | G14: =IFERROR(E14/D14%," ") | L14: Eredmény:
F15: =IF(E15-D15=0," ",E15-D15) | G15: =IFERROR(E15/D15%," ") | L15: Ide írja az egyeztetés / vizsgálat szöveges értékelését
F16: =IF(E16-D16=0," ",E16-D16) | G16: =IFERROR(E16/D16%," ") | L16: Következtetés:
F17: =IF(E17-D17=0," ",E17-D17) | G17: =IFERROR(E17/D17%," ") | L17: Ide írja a következtetés szövegét
F18: =IF(E18-D18=0," ",E18-D18) | G18: =IFERROR(E18/D18%," ")
F19: =IF(E19-D19=0," ",E19-D19) | G19: =IFERROR(E19/D19%," ")
F20: =IF(E20-D20=0," ",E20-D20) | G20: =IFERROR(E20/D20%," ")
F21: =IF(E21-D21=0," ",E21-D21) | G21: =IFERROR(E21/D21%," ")
F22: =IF(E22-D22=0," ",E22-D22) | G22: =IFERROR(E22/D22%," ")
F23: =IF(E23-D23=0," ",E23-D23) | G23: =IFERROR(E23/D23%," ")
F24: =IF(E24-D24=0," ",E24-D24) | G24: =IFERROR(E24/D24%," ")
F25: =IF(E25-D25=0," ",E25-D25) | G25: =IFERROR(E25/D25%," ")
F26: =IF(E26-D26=0," ",E26-D26) | G26: =IFERROR(E26/D26%," ")
F27: =IF(E27-D27=0," ",E27-D27) | G27: =IFERROR(E27/D27%," ")
F28: =IF(E28-D28=0," ",E28-D28) | G28: =IFERROR(E28/D28%," ")
F29: =IF(E29-D29=0," ",E29-D29) | G29: =IFERROR(E29/D29%," ")
... F400: =IF(E400-D400=0," ",E400-D400) | G400: =IFERROR(E400/D400%," ")

Sheet B-01-AII-10-01
A1: B-01-AII-10-01
D2: =O15 -> Ide írja az egyeztetés / vizsgálat szöveges értékelését | E2: =O17 -> Ide írja a következtetés szövegét | N2: ◄◄ NEM SZERKESZTHETŐ SOR !!
G3: Leltár | N3: Tartalom | O3: Tartalom
A4: A.II. Tárgyi eszközök (kivéve beruházások, felújítások, beruházásra adott előlegek) | N4: B-01-AII-01 | O4: Leltárösszesítő
A5: =Alapa!C17 -> 0 | H5: Dátum: | I5: =Alapa!C15 -> 0 | N5: B-01-AII-02 | O5: Főkönyvi egyeztetés
A6: ="Fordulónap: "&Alapa!C12 -> Fordulónap: | H6: Készítette: | I6: =IFERROR(VLOOKUP(O9,Alapa!$K$2:$M$11,3),"") | K6: Ellenőrizte: | L6: =IF(Alapa!$M$2=0," ",Alapa!$M$2) | N6: B-01-AII-10-01 | O6: Tárgyi eszközök (kivéve beruházások, felújítások, beruházásra adott előlegek)
N7: B-01-AII-10-02 | O7: Beruházásokra adott előlegek
A8: Leltárfelvét típusa: | C8: EGYEZTETÉS / MENNYISÉGI FELVÉTEL (három évente kötelező) | M8: Adatok Ft-ban | N8: B-01-AII-10-03 | O8: Beruházások, felújítások
A9: Sorszámszám | B9: Azonosító | C9: Megnevezés | D9: Mennyiség | E9: Aktiválás időpontja | F9: Bekerülési érték | G9: Terv szerinti é.cs. | H9: Terven felüli écs. | I9: T.f.é.cs. visszaírás | J9: Nettó mérleg érték | K9: Értékhelyesbítés | N9: Készítette: | O9: 2
K10: Értékelés módszere | L10: Piaci érték | M10: Értékhelyesbítés
A11: 1. | J11: =F11-G11-H11+I11 -> 0 | M11: =IF(L11=0,0,L11-J11) -> 0
A12: 2. | J12: =F12-G12-H12+I12 -> 0 | M12: =IF(L12=0,0,L12-J12) -> 0
A13: 3. | J13: =F13-G13-H13+I13 -> 0 | M13: =IF(L13=0,0,L13-J13) -> 0
A14: 4. | J14: =F14-G14-H14+I14 -> 0 | M14: =IF(L14=0,0,L14-J14) -> 0 | O14: Eredmény:
A15: 5. | J15: =F15-G15-H15+I15 -> 0 | M15: =IF(L15=0,0,L15-J15) -> 0 | O15: Ide írja az egyeztetés / vizsgálat szöveges értékelését
A16: 6. | J16: =F16-G16-H16+I16 -> 0 | M16: =IF(L16=0,0,L16-J16) -> 0 | O16: Következtetés:
A17: 7. | J17: =F17-G17-H17+I17 -> 0 | M17: =IF(L17=0,0,L17-J17) -> 0 | O17: Ide írja a következtetés szövegét
A18: 8. | J18: =F18-G18-H18+I18 -> 0 | M18: =IF(L18=0,0,L18-J18) -> 0
A19: 9. | J19: =F19-G19-H19+I19 -> 0 | M19: =IF(L19=0,0,L19-J19) -> 0
A20: 10. | J20: =F20-G20-H20+I20 -> 0 | M20: =IF(L20=0,0,L20-J20) -> 0
A21: 11. | J21: =F21-G21-H21+I21 -> 0 | M21: =IF(L21=0,0,L21-J21) -> 0
A22: 12. | J22: =F22-G22-H22+I22 -> 0 | M22: =IF(L22=0,0,L22-J22) -> 0
A23: 13. | J23: =F23-G23-H23+I23 -> 0 | M23: =IF(L23=0,0,L23-J23) -> 0
A24: 14. | J24: =F24-G24-H24+I24 -> 0 | M24: =IF(L24=0,0,L24-J24) -> 0
A25: 15. | J25: =F25-G25-H25+I25 -> 0 | M25: =IF(L25=0,0,L25-J25) -> 0
A26: 16. | J26: =F26-G26-H26+I26 -> 0 | M26: =IF(L26=0,0,L26-J26) -> 0
A27: 17. | J27: =F27-G27-H27+I27 -> 0 | M27: =IF(L27=0,0,L27-J27) -> 0
A28: 18. | J28: =F28-G28-H28+I28 -> 0 | M28: =IF(L28=0,0,L28-J28) -> 0
A29: 19. | J29: =F29-G29-H29+I29 -> 0 | M29: =IF(L29=0,0,L29-J29) -> 0
A30: 20. | J30: =F30-G30-H30+I30 -> 0 | M30: =IF(L30=0,0,L30-J30) -> 0
A31: Összesen: | F31: =SUM(F11:F30) -> 0 | G31: =SUM(G11:G30) -> 0 | H31: =SUM(H11:H30) -> 0 | I31: =SUM(I11:I30) -> 0 | J31: =SUM(J11:J30) -> 0 | L31: =SUM(L11:L30) -> 0 | M31: =SUM(M11:M30) -> 0

Sheet B-01-AII-10-02
A1: B-01-AII-10-02
D2: =M15 -> Ide írja az egyeztetés / vizsgálat szöveges értékelését | E2: =M17 -> Ide írja a következtetés szövegét | L2: ◄◄ NEM SZERKESZTHETŐ SOR !!
E3: Leltár | L3: Tartalom | M3: Tartalom
A4: A.II.6. Beruházásokra adott előlegek | L4: B-01-AII-01 | M4: Leltárösszesítő
A5: =Alapa!C17 -> 0 | F5: Dátum: | G5: =Alapa!C15 -> 0 | L5: B-01-AII-02 | M5: Főkönyvi egyeztetés
A6: ="Fordulónap: "&Alapa!C12 -> Fordulónap: | F6: Készítette: | G6: =IFERROR(VLOOKUP(M9,Alapa!$K$2:$M$11,3),"") | I6: Ellenőrizte: | J6: =IF(Alapa!$M$2=0," ",Alapa!$M$2) | L6: B-01-AII-10-01 | M6: Tárgyi eszközök (kivéve beruházások, felújítások, beruházásra adott előlegek)
L7: B-01-AII-10-02 | M7: Beruházásokra adott előlegek
A8: Követelések korosítása | L8: B-01-AII-10-03 | M8: Beruházások, felújítások
A9: Azonosító / Sorszám | B9: Vevő/Adós neve | C9: <30 nap | D9: 31-90 nap közötti | E9: 91-180 nap közötti | F9: 181-360 nap közötti | G9: >360 | H9: Könyvi érték | I9: Záró értékvesztés | J9: Mérleg érték | L9: Készítette: | M9: 2
A10: 1. | H10: =SUM(C10:G10) -> 0 | J10: =H10-I10 -> 0
A11: 2. | H11: =SUM(C11:G11) -> 0 | J11: =H11-I11 -> 0
A12: 3. | H12: =SUM(C12:G12) -> 0 | J12: =H12-I12 -> 0
A13: 4. | H13: =SUM(C13:G13) -> 0 | J13: =H13-I13 -> 0
A14: 5. | H14: =SUM(C14:G14) -> 0 | J14: =H14-I14 -> 0 | M14: Eredmény:
B15: Összesen: | C15: =SUM(C10:C14) -> 0 | D15: =SUM(D10:D14) -> 0 | E15: =SUM(E10:E14) -> 0 | F15: =SUM(F10:F14) -> 0 | G15: =SUM(G10:G14) -> 0 | H15: =SUM(H10:H14) -> 0 | I15: =SUM(I10:I14) -> 0 | J15: =SUM(J10:J14) -> 0 | M15: Ide írja az egyeztetés / vizsgálat szöveges értékelését
M16: Következtetés:
A17: Egyenlegközlés-Visszaigazolás egyeztetése | M17: Ide írja a következtetés szövegét
A18: Azonosító / Sorszám | B18: Vevő/Adós neve | C18: Követelés összege | D18: Visszaigazolt | E18: Eltérés | F18: Eltérésből vizsgálatig befolyt | G18: Fennmaradt eltérés | H18: Tisztázott eltérés | I18: Eltérés oka/Intézkedés* | J18: Tisztázatlan egyenleg | K18: Záró értékvesztés
A19: 1. | E19: =+D19-C19 -> 0 | G19: =+E19-F19 -> 0 | J19: =+G19-H19 -> 0
A20: 2. | E20: =+D20-C20 -> 0 | G20: =+E20-F20 -> 0 | J20: =+G20-H20 -> 0
A21: 3. | E21: =+D21-C21 -> 0 | G21: =+E21-F21 -> 0 | J21: =+G21-H21 -> 0
A22: 4. | E22: =+D22-C22 -> 0 | G22: =+E22-F22 -> 0 | J22: =+G22-H22 -> 0
A23: 5. | E23: =+D23-C23 -> 0 | G23: =+E23-F23 -> 0 | J23: =+G23-H23 -> 0
B24: Összesen: | C24: =SUM(C19:C23) -> 0 | D24: =SUM(D19:D23) -> 0 | E24: =SUM(E19:E23) -> 0 | F24: =SUM(F19:F23) -> 0 | G24: =SUM(G19:G23) -> 0 | H24: =SUM(H19:H23) -> 0 | J24: =SUM(J19:J23) -> 0 | K24: =SUM(K19:K23) -> 0
A25: *fizetési felszólítás; nem válaszolt; megszűnt; haladék; fizetési meghagyás; perelt; jogerősen megítélt; csődvédelem; csődegyezség; végelszámolás; felszámolás; igazoltan megtérülő; egyéb.
A26: Értékvesztés nyilvántartása
A27: Azonosító / Sorszám | B27: Vevő/Adós neve | C27: Fordulónapon fennálló követelés | D27: Mk-ig befolyt | E27: Vitatott / Behajthatatlan | F27: Mk-kor fennálló | G27: Nyitó értékvesztés | H27: Tárgy évi megtérülés, kivezetés | I27: Tárgy évi Értékvesztés "+" Visszaírás"-" | J27: Záró értékvesztés | K27: Értékvesztés/ Mk-kor fennálló %
A28: 1. | F28: =C28-E28-D28 -> 0 | J28: =G28-H28+I28 -> 0 | K28: =IF(F28=0,0,IF(J28=0,0,IF(J28=0,0,J28/F28%))) -> 0
A29: 2. | F29: =C29-E29-D29 -> 0 | J29: =G29-H29+I29 -> 0 | K29: =IF(F29=0,0,IF(J29=0,0,IF(J29=0,0,J29/F29%))) -> 0
A30: 3. | F30: =C30-E30-D30 -> 0 | J30: =G30-H30+I30 -> 0 | K30: =IF(F30=0,0,IF(J30=0,0,IF(J30=0,0,J30/F30%))) -> 0
A31: 4. | F31: =C31-E31-D31 -> 0 | J31: =G31-H31+I31 -> 0 | K31: =IF(F31=0,0,IF(J31=0,0,IF(J31=0,0,J31/F31%))) -> 0
A32: 5. | F32: =C32-E32-D32 -> 0 | J32: =G32-H32+I32 -> 0 | K32: =IF(F32=0,0,IF(J32=0,0,IF(J32=0,0,J32/F32%))) -> 0
B33: Összesen: | C33: =SUM(C28:C32) -> 0 | D33: =SUM(D28:D32) -> 0 | E33: =SUM(E28:E32) -> 0 | F33: =SUM(F28:F32) -> 0 | G33: =SUM(G28:G32) -> 0 | H33: =SUM(H28:H32) -> 0 | I33: =SUM(I28:I32) -> 0 | J33: =SUM(J28:J32) -> 0 | K33: =IF(F33=0,0,IF(J33=0,0,IF(J33=0,0,J33/F33%))) -> 0

Sheet B-01-AII-10-03
A1: B-01-AII-10-03
D2: =H15 -> Ide írja az egyeztetés / vizsgálat szöveges értékelését | E2: =H17 -> Ide írja a következtetés szövegét | G2: ◄◄ NEM SZERKESZTHETŐ SOR !!
C3: Leltár | G3: Tartalom | H3: Tartalom
A4: A.II.5. Beruházások, felújítások | G4: B-01-AII-01 | H4: Leltárösszesítő
A5: =Alapa!C17 -> 0 | D5: Dátum: | E5: =Alapa!C15 -> 0 | G5: B-01-AII-02 | H5: Főkönyvi egyeztetés
A6: ="Fordulónap: "&Alapa!C12 -> Fordulónap: | D6: Készítette: | E6: =IFERROR(VLOOKUP(H9,Alapa!$K$2:$M$11,3),"") | G6: B-01-AII-10-01 | H6: Tárgyi eszközök (kivéve beruházások, felújítások, beruházásra adott előlegek)
D7: Ellenőrizte: | E7: =IF(Alapa!$M$2=0," ",Alapa!$M$2) | G7: B-01-AII-10-02 | H7: Beruházásokra adott előlegek
G8: B-01-AII-10-03 | H8: Beruházások, felújítások
A9: Leltározás módja: | C9: EGYEZTETÉS | F9: Adatok Ft-ban | G9: Készítette: | H9: 2
A10: Főkönyvi szám | B10: Szállító neve | C10: Termék / Szolgáltatás | D10: Bizonylat száma | E10: Termék / Szolgáltatás | F10: Vételár (le nem vonható ÁFA-val)
H14: Eredmény:
H15: Ide írja az egyeztetés / vizsgálat szöveges értékelését
H16: Következtetés:
H17: Ide írja a következtetés szövegét
A31: Összesen | F31: =SUM(F11:F30) -> 0

Sheet B-01-AIII-01
A1: B-01-AIII-01
B2: =C25 -> 0 | D2: =G15 -> NINCS FK. ADAT | E2: =G17 -> Ide írja a következtetés szövegét | F2: ◄◄ NEM SZERKESZTHETŐ SOR !!
B3: Leltárösszesítő | F3: Tartalom | G3: Tartalom
F4: B-01-AIII-01 | G4: Leltárösszesítő
A5: =Alapa!C17 -> 0 | C5: Dátum: | D5: =Alapa!C15 -> 0 | F5: B-01-AIII-02 | G5: Főkönyvi kivonat egyeztetés
A6: ="Fordulónap: "&Alapa!C12 -> Fordulónap: | C6: Készítette: | D6: =IFERROR(VLOOKUP(G9,Alapa!$K$2:$M$11,3),"") | F6: B-01-AIII-10-01 | G6: Befektetett pénzügyi eszközök, Tartós részesedések
C7: Ellenőrizte: | D7: =IF(Alapa!$M$2=0," ",Alapa!$M$2) | F7: B-01-AIII-10-02 | G7: Tartósan adott kölcsönök
F8: B-01-AIII-10-03 | G8: Tartós hitelviszonyt megtestesítő értékpapír
F9: Készítette: | G9: 2
A10: A.III.Befektetett pénzügyi eszközök | C10: =IF(D23=0,"NINCS FK. ADAT",IF(C23=0,"NINCS ANALITIKA",IF(C25=0,"EGYEZIK","NEM EGYEZIK !"))) -> NINCS FK. ADAT
C11: Ft-ban | D11: Ft-ban | E11: E Ft-ban
B12: Megnevezés | C12: Analitika | D12: Főkönyv | E12: Mérleg
A13: 1. | B13: Tartós részesedés kapcsolt vállalkozásban | D13: =Import_M!H21 -> 0 | E13: =Import_M!F21 -> 0
A14: 2. | B14: Tartósan adott kölcsön kapcsolt vállalkozásban | D14: =Import_M!H22 -> 0 | E14: =Import_M!F22 -> 0 | G14: Eredmény:
A15: 3. | B15: Tartós jelentős tulajdoni részesedés | D15: =Import_M!H23 -> 0 | E15: =Import_M!F23 -> 0 | G15: =C10 -> NINCS FK. ADAT
A16: 4. | B16: Tartósan adott kölcsön jel. tul. rész. visz. álló vállalkozásban | D16: =Import_M!H24 -> 0 | E16: =Import_M!F24 -> 0 | G16: Következtetés:
A17: 5. | B17: Egyéb tartós részesedés | D17: =Import_M!H25 -> 0 | E17: =Import_M!F25 -> 0 | G17: Ide írja a következtetés szövegét
A18: 6. | B18: Tartósan adott kölcsön egyéb rész. visz. álló vállalkozásban | D18: =Import_M!H26 -> 0 | E18: =Import_M!F26 -> 0
A19: 7. | B19: Egyéb tartósan adott kölcsön | D19: =Import_M!H27 -> 0 | E19: =Import_M!F27 -> 0
A20: 8. | B20: Tartós hitelviszonyt megtestesítő értékpapír | D20: =Import_M!H28 -> 0 | E20: =Import_M!F28 -> 0
A21: 9. | B21: Befektetett pénzügyi eszközök értékhelyesbítése | D21: =Import_M!H29 -> 0 | E21: =Import_M!F29 -> 0
A22: 10. | B22: Befektetett pénzügyi eszközök értékelési különbözete | D22: =Import_M!H30 -> 0 | E22: =Import_M!F30 -> 0
B23: Összesen | C23: =ROUND(SUM(C13:C22),0) -> 0 | D23: =SUM(D13:D22) -> 0 | E23: =SUM(E13:E22) -> 0
B25: Eltérés: | C25: =C23-D23 -> 0
A28: Leltármellékletek:
A29: Főkönyvi egyeztetés
A30: A.III.1.,3. Tartós részesedések
A31: A.III. 2.,4.,5. Tartósan adott kölcsönök
A32: A.III.6. Tartós hitelviszonyt megtestesítő értékpapír

Sheet B-01-AIII-02
A1: B-01-AIII-02 | C1: A.III.Befektetett pénzügyi eszközök
D2: =L15 -> Ide írja az egyeztetés / vizsgálat szöveges értékelését | E2: =L17 -> Ide írja a következtetés szövegét | K2: ◄◄ NEM SZERKESZTHETŐ SOR !!
A3: =Alapa!C17 -> 0 | E3: Dátum: | F3: =Alapa!C15 -> 0 | K3: Tartalom | L3: Tartalom
A4: ="Fordulónap: "&Alapa!C12 -> Fordulónap: | E4: Készítette: | F4: =IFERROR(VLOOKUP(L9,Alapa!$K$2:$M$11,3),"") | K4: B-01-AIII-01 | L4: Leltárösszesítő
E5: Ellenőrizte: | F5: =IF(Alapa!$M$2=0," ",Alapa!$M$2) | K5: B-01-AIII-02 | L5: Főkönyvi kivonat egyeztetés
A6: Főkönyvi kivonat elemzés | G6: Kivételes nagyságú bevétel költség: | H6: =Tartalom!$F$112*Alapa!D33 -> 0 | K6: B-01-AIII-10-01 | L6: Befektetett pénzügyi eszközök, Tartós részesedések
A7: Mérlegértékek E Ft-ban | D7: =Alapa!C10 -> 0 | E7: =Alapa!C11 -> 0 | F7: Eltérés | G7: =Alapa!C11&"/"&Alapa!C10 -> / | K7: B-01-AIII-10-02 | L7: Tartósan adott kölcsönök
B8: Számlaegyenlegek Ft-ban | D8: E Ft ; Ft | E8: E Ft ; Ft | F8: E Ft ; Ft | G8: % | K8: B-01-AIII-10-03 | L8: Tartós hitelviszonyt megtestesítő értékpapír
F9: =IF(E9-D9=0," ",E9-D9) | G9: =IFERROR(E9/D9%," ") | K9: Készítette: | L9: 2
F10: =IF(E10-D10=0," ",E10-D10) | G10: =IFERROR(E10/D10%," ")
F11: =IF(E11-D11=0," ",E11-D11) | G11: =IFERROR(E11/D11%," ")
F12: =IF(E12-D12=0," ",E12-D12) | G12: =IFERROR(E12/D12%," ")
F13: =IF(E13-D13=0," ",E13-D13) | G13: =IFERROR(E13/D13%," ")
F14: =IF(E14-D14=0," ",E14-D14) | G14: =IFERROR(E14/D14%," ") | L14: Eredmény:
F15: =IF(E15-D15=0," ",E15-D15) | G15: =IFERROR(E15/D15%," ") | L15: Ide írja az egyeztetés / vizsgálat szöveges értékelését
F16: =IF(E16-D16=0," ",E16-D16) | G16: =IFERROR(E16/D16%," ") | L16: Következtetés:
F17: =IF(E17-D17=0," ",E17-D17) | G17: =IFERROR(E17/D17%," ") | L17: Ide írja a következtetés szövegét
F18: =IF(E18-D18=0," ",E18-D18) | G18: =IFERROR(E18/D18%," ")
F19: =IF(E19-D19=0," ",E19-D19) | G19: =IFERROR(E19/D19%," ")
F20: =IF(E20-D20=0," ",E20-D20) | G20: =IFERROR(E20/D20%," ")
F21: =IF(E21-D21=0," ",E21-D21) | G21: =IFERROR(E21/D21%," ")
F22: =IF(E22-D22=0," ",E22-D22) | G22: =IFERROR(E22/D22%," ")
F23: =IF(E23-D23=0," ",E23-D23) | G23: =IFERROR(E23/D23%," ")
F24: =IF(E24-D24=0," ",E24-D24) | G24: =IFERROR(E24/D24%," ")
F25: =IF(E25-D25=0," ",E25-D25) | G25: =IFERROR(E25/D25%," ")
F26: =IF(E26-D26=0," ",E26-D26) | G26: =IFERROR(E26/D26%," ")
F27: =IF(E27-D27=0," ",E27-D27) | G27: =IFERROR(E27/D27%," ")
F28: =IF(E28-D28=0," ",E28-D28) | G28: =IFERROR(E28/D28%," ")
F29: =IF(E29-D29=0," ",E29-D29) | G29: =IFERROR(E29/D29%," ")
... F400: =IF(E400-D400=0," ",E400-D400) | G400: =IFERROR(E400/D400%," ")

Sheet B-01-AIII-10-01
A1: B-01-AIII-10-01
D2: =O15 -> Ide írja az egyeztetés / vizsgálat szöveges értékelését | E2: =O17 -> Ide írja a következtetés szövegét | N2: ◄◄ NEM SZERKESZTHETŐ SOR !!
F3: Leltár | N3: Tartalom | O3: Tartalom
A4: A.III.1.,3.,5. Befektetett pénzügyi eszközök/Tartós részesedések | N4: B-01-AIII-01 | O4: Leltárösszesítő
A5: =Alapa!C17 -> 0 | G5: Dátum: | H5: =Alapa!C15 -> 0 | N5: B-01-AIII-02 | O5: Főkönyvi kivonat egyeztetés
A6: ="Fordulónap: "&Alapa!C12 -> Fordulónap: | G6: Készítette: | H6: =IFERROR(VLOOKUP(O9,Alapa!$K$2:$M$11,3),"") | J6: Ellenőrizte: | K6: =IF(Alapa!$M$2=0," ",Alapa!$M$2) | N6: B-01-AIII-10-01 | O6: Befektetett pénzügyi eszközök, Tartós részesedések
N7: B-01-AIII-10-02 | O7: Tartósan adott kölcsönök
A8: A.III.1. Tartós részesedések kapcsolt vállalkozásban | N8: B-01-AIII-10-03 | O8: Tartós hitelviszonyt megtestesítő értékpapír
A9: Leltárfelvét típusa: | C9: EGYEZTETÉS/SZÁMBAVÉTEL | N9: Készítette: | O9: 2
A10: Azonosító / Sorszám | B10: Cég/Kibocsátó | C10: Vásárlás időpontja | D10: Bekerülési érték | E10: Tulajdoni hányad % | F10: Üzletrész | H10: Értékpapír
F11: Névérték | G11: Ft/Névérték | H11: -tól | I11: -ig | J11: Darabszám | K11: Névérték / Darab | L11: Névérték | M11: Ft/Névérték
A12: 1. | J12: =IF(I12-H12=0,0,I12-H12+1) -> 0 | L12: =K12*J12 -> 0 | M12: =IF(L12=0," ",D12/L12)
A13: 2. | J13: =IF(I13-H13=0,0,I13-H13+1) -> 0 | L13: =K13*J13 -> 0 | M13: =IF(L13=0," ",D13/L13)
A14: 3. | J14: =IF(I14-H14=0,0,I14-H14+1) -> 0 | L14: =K14*J14 -> 0 | M14: =IF(L14=0," ",D14/L14) | O14: Eredmény:
A15: 4. | J15: =IF(I15-H15=0,0,I15-H15+1) -> 0 | L15: =K15*J15 -> 0 | M15: =IF(L15=0," ",D15/L15) | O15: Ide írja az egyeztetés / vizsgálat szöveges értékelését
A16: 5. | J16: =IF(I16-H16=0,0,I16-H16+1) -> 0 | L16: =K16*J16 -> 0 | M16: =IF(L16=0," ",D16/L16) | O16: Következtetés:
A17: Összesen: | D17: =SUM(D12:D16) -> 0 | F17: =SUM(F12:F16) -> 0 | J17: =SUM(J12:J16) -> 0 | L17: =SUM(L12:L16) -> 0 | M17: =SUM(M12:M16) -> 0 | O17: Ide írja a következtetés szövegét
A18: Értékelés
A19: Azonosító / Sorszám | B19: Megnevezés | C19: Bekerülési érték | D19: Jegyzett tőke | E19: Saját tőke | F19: Befektetésre jutó saját tőke rész | G19: A társaság tartós piaci megítélése tendenciája | H19: Megszűnő társaságnál megtérülő összeg | I19: Piaci érték | J19: Veszteség Tartós és Jelentős Igen / Nem | K19: Nyitó értékvesztés | L19: Tárgy évi Értékvesztés/ Visszaírás "-" | M19: Mérleg szerinti érték
A20: 1. | M20: =C20-K20-L20 -> 0
A21: 2. | M21: =C21-K21-L21 -> 0
A22: 3. | M22: =C22-K22-L22 -> 0
A23: 4. | M23: =C23-K23-L23 -> 0
A24: 5. | M24: =C24-K24-L24 -> 0
A25: Összesen: | C25: =SUM(C20:C24) -> 0 | D25: =SUM(D20:D24) -> 0 | E25: =SUM(E20:E24) -> 0 | F25: =SUM(F20:F24) -> 0 | H25: =SUM(H20:H24) -> 0 | I25: =SUM(I20:I24) -> 0 | K25: =SUM(K20:K24) -> 0 | L25: =SUM(L20:L24) -> 0 | M25: =SUM(M20:M24) -> 0
A27: A.III.3. Tartós jelentős tulajdoni részesedés
A28: Azonosító / Sorszám | B28: Cég/Kibocsátó | C28: Vásárlás időpontja | D28: Bekerülési érték | E28: Tulajdoni hányad % | F28: Üzletrész | H28: Értékpapír
F29: Névérték | G29: Ft/Névérték | H29: -tól | I29: -ig | J29: Darabszám | K29: Névérték / Darab | L29: Névérték | M29: Ft/Névérték
A30: 1. | J30: =IF(I30-H30=0,0,I30-H30+1) -> 0 | L30: =K30*J30 -> 0 | M30: =IF(L30=0," ",D30/L30)
A31: 2. | J31: =IF(I31-H31=0,0,I31-H31+1) -> 0 | L31: =K31*J31 -> 0 | M31: =IF(L31=0," ",D31/L31)
A32: 3. | J32: =IF(I32-H32=0,0,I32-H32+1) -> 0 | L32: =K32*J32 -> 0 | M32: =IF(L32=0," ",D32/L32)
A33: 4. | J33: =IF(I33-H33=0,0,I33-H33+1) -> 0 | L33: =K33*J33 -> 0 | M33: =IF(L33=0," ",D33/L33)
A34: 5. | J34: =IF(I34-H34=0,0,I34-H34+1) -> 0 | L34: =K34*J34 -> 0 | M34: =IF(L34=0," ",D34/L34)
A35: Összesen: | D35: =SUM(D30:D34) -> 0 | F35: =SUM(F30:F34) -> 0 | J35: =SUM(J30:J34) -> 0 | L35: =SUM(L30:L34) -> 0 | M35: =SUM(M30:M34) -> 0
A36: Értékelés
A37: Azonosító / Sorszám | B37: Megnevezés | C37: Bekerülési érték | D37: Jegyzett tőke | E37: Saját tőke | F37: Befektetésre jutó saját tőke rész | G37: A társaság tartós piaci megítélése tendenciája | H37: Megszűnő társaságnál megtérülő összeg | I37: Piaci érték | J37: Veszteség Tartós és Jelentős Igen / Nem | K37: Nyitó értékvesztés | L37: Tárgy évi Értékvesztés/ Visszaírás "-" | M37: Mérleg szerinti érték
A38: 1. | M38: =C38-K38-L38 -> 0
A39: 2. | M39: =C39-K39-L39 -> 0
A40: 3. | M40: =C40-K40-L40 -> 0
A41: 4. | M41: =C41-K41-L41 -> 0
...

Sheet B-01-AIII-10-02
A1: B-01-AIII-10-02
D2: =N15 -> Ide írja az egyeztetés / vizsgálat szöveges értékelését | E2: =N17 -> Ide írja a következtetés szövegét | M2: ◄◄ NEM SZERKESZTHETŐ SOR !!
F3: Leltár | M3: Tartalom | N3: Tartalom
A4: A.III. 2.,4.,6.,7. Befektetett pénzügyi eszközök/ Tartósan adott kölcsönök | M4: B-01-AIII-01 | N4: Leltárösszesítő
A5: =Alapa!C17 -> 0 | F5: Dátum: | G5: =Alapa!C15 -> 0 | M5: B-01-AIII-02 | N5: Főkönyvi kivonat egyeztetés
A6: ="Fordulónap: "&Alapa!C12 -> Fordulónap: | F6: Készítette: | G6: =IFERROR(VLOOKUP(N9,Alapa!$K$2:$M$11,3),"") | I6: Ellenőrizte: | J6: =IF(Alapa!$M$2=0," ",Alapa!$M$2) | M6: B-01-AIII-10-01 | N6: Befektetett pénzügyi eszközök, Tartós részesedések
M7: B-01-AIII-10-02 | N7: Tartósan adott kölcsönök
A8: A.III.2. Tartósan adott kölcsön kapcsolt vállalkozásban | M8: B-01-AIII-10-03 | N8: Tartós hitelviszonyt megtestesítő értékpapír
A9: Leltározás módja | C9: EGYENLEGKÖZLÉS / VISSZAIGAZOLÁS / EGYEZTETÉS | L9: Adatok Ft-ban | M9: Készítette: | N9: 2
A10: Azonosító / Sorszám | B10: Vevő/Adós neve | C10: Követelés összege | D10: Visszaigazolt | E10: Eltérés | F10: Eltérésből vizsgálatig befolyt | G10: Fennmaradt eltérés | H10: Tisztázott eltérés | I10: Tisztázatlan egyenleg | J10: Eltérés oka/Intézkedés* | K10: Éven belül esedékes | L10: Záró értékvesztés
A11: 1. | E11: =+D11-C11 -> 0 | G11: =+E11-F11 -> 0 | I11: =+G11-H11 -> 0
A12: 2. | E12: =+D12-C12 -> 0 | G12: =+E12-F12 -> 0 | I12: =+G12-H12 -> 0
A13: 3. | E13: =+D13-C13 -> 0 | G13: =+E13-F13 -> 0 | I13: =+G13-H13 -> 0
A14: 4. | E14: =+D14-C14 -> 0 | G14: =+E14-F14 -> 0 | I14: =+G14-H14 -> 0 | N14: Eredmény:
A15: 5. | E15: =+D15-C15 -> 0 | G15: =+E15-F15 -> 0 | I15: =+G15-H15 -> 0 | N15: Ide írja az egyeztetés / vizsgálat szöveges értékelését
B16: Összesen: | C16: =SUM(C11:C15) -> 0 | D16: =SUM(D11:D15) -> 0 | E16: =SUM(E11:E15) -> 0 | F16: =SUM(F11:F15) -> 0 | G16: =SUM(G11:G15) -> 0 | H16: =SUM(H11:H15) -> 0 | I16: =SUM(I11:I15) -> 0 | K16: =SUM(K11:K15) -> 0 | L16: =SUM(L11:L15) -> 0 | N16: Következtetés:
A17: *fizetési felszólítás; nem válaszolt; megszűnt; haladékot kapott; fizetési meghagyás; perelt; jogerősen megítélt; csődvédelem; csődegyezség; végelszámolás; felszámolás; igazoltan megtérülő; egyéb. | N17: Ide írja a következtetés szövegét
A19: A.III.4. Tartósan adott kölcsön jel. tul. rész. viszonyban álló váll-ban
A20: Leltározás módja | C20: EGYENLEGKÖZLÉS / VISSZAIGAZOLÁS / EGYEZTETÉS | L20: Adatok Ft-ban
A21: Azonosító / Sorszám | B21: Vevő/Adós neve | C21: Követelés összege | D21: Visszaigazolt | E21: Eltérés | F21: Eltérésből vizsgálatig befolyt | G21: Fennmaradt eltérés | H21: Tisztázott eltérés | I21: Tisztázatlan egyenleg | J21: Eltérés oka/Intézkedés* | K21: Éven belül esedékes | L21: Záró értékvesztés
A22: 1. | E22: =+D22-C22 -> 0 | G22: =+E22-F22 -> 0 | I22: =+G22-H22 -> 0
A23: 2. | E23: =+D23-C23 -> 0 | G23: =+E23-F23 -> 0 | I23: =+G23-H23 -> 0
A24: 3. | E24: =+D24-C24 -> 0 | G24: =+E24-F24 -> 0 | I24: =+G24-H24 -> 0
A25: 4. | E25: =+D25-C25 -> 0 | G25: =+E25-F25 -> 0 | I25: =+G25-H25 -> 0
A26: 5. | E26: =+D26-C26 -> 0 | G26: =+E26-F26 -> 0 | I26: =+G26-H26 -> 0
B27: Összesen: | C27: =SUM(C22:C26) -> 0 | D27: =SUM(D22:D26) -> 0 | E27: =SUM(E22:E26) -> 0 | F27: =SUM(F22:F26) -> 0 | G27: =SUM(G22:G26) -> 0 | H27: =SUM(H22:H26) -> 0 | I27: =SUM(I22:I26) -> 0 | K27: =SUM(K22:K26) -> 0 | L27: =SUM(L22:L26) -> 0
A28: *fizetési felszólítás; nem válaszolt; megszűnt; haladékot kapott; fizetési meghagyás; perelt; jogerősen megítélt; csődvédelem; csődegyezség; végelszámolás; felszámolás; igazoltan megtérülő; egyéb.
A30: A.III.6. Tartósan adott kölcsön egyéb rész. viszonyban álló váll-ban
A31: Leltározás módja | C31: EGYENLEGKÖZLÉS / VISSZAIGAZOLÁS / EGYEZTETÉS | L31: Adatok Ft-ban
A32: Azonosító / Sorszám | B32: Vevő/Adós neve | C32: Követelés összege | D32: Visszaigazolt | E32: Eltérés | F32: Eltérésből vizsgálatig befolyt | G32: Fennmaradt eltérés | H32: Tisztázott eltérés | I32: Tisztázatlan egyenleg | J32: Eltérés oka/Intézkedés* | K32: Éven belül esedékes | L32: Záró értékvesztés
A33: 1. | E33: =+D33-C33 -> 0 | G33: =+E33-F33 -> 0 | I33: =+G33-H33 -> 0
A34: 2. | E34: =+D34-C34 -> 0 | G34: =+E34-F34 -> 0 | I34: =+G34-H34 -> 0
A35: 3. | E35: =+D35-C35 -> 0 | G35: =+E35-F35 -> 0 | I35: =+G35-H35 -> 0
A36: 4. | E36: =+D36-C36 -> 0 | G36: =+E36-F36 -> 0 | I36: =+G36-H36 -> 0
A37: 5. | E37: =+D37-C37 -> 0 | G37: =+E37-F37 -> 0 | I37: =+G37-H37 -> 0
B38: Összesen: | C38: =SUM(C33:C37) -> 0 | D38: =SUM(D33:D37) -> 0 | E38: =SUM(E33:E37) -> 0 | F38: =SUM(F33:F37) -> 0 | G38: =SUM(G33:G37) -> 0 | H38: =SUM(H33:H37) -> 0 | I38: =SUM(I33:I37) -> 0 | K38: =SUM(K33:K37) -> 0 | L38: =SUM(L33:L37) -> 0
A39: *fizetési felszólítás; nem válaszolt; megszűnt; haladékot kapott; fizetési meghagyás; perelt; jogerősen megítélt; csődvédelem; csődegyezség; végelszámolás; felszámolás; igazoltan megtérülő; egyéb.
A41: A.III.7. Egyéb tartósan adott kölcsön
A42: Leltározás módja | C42: EGYENLEGKÖZLÉS / VISSZAIGAZOLÁS / EGYEZTETÉS | L42: Adatok Ft-ban
A43: Azonosító / Sorszám | B43: Vevő/Adós neve | C43: Követelés összege | D43: Visszaigazolt | E43: Eltérés | F43: Eltérésből vizsgálatig befolyt | G43: Fennmaradt eltérés | H43: Tisztázott eltérés | I43: Tisztázatlan egyenleg | J43: Eltérés oka/Intézkedés* | K43: Éven belül esedékes | L43: Záró értékvesztés
...

Sheet B-01-AIII-10-03
A1: B-1-AIII-10-3
D2: =M15 -> Ide írja az egyeztetés / vizsgálat szöveges értékelését | E2: =M17 -> Ide írja a következtetés szövegét | L2: ◄◄ NEM SZERKESZTHETŐ SOR !!
E3: Leltár | L3: Tartalom | M3: Tartalom
A4: A.III.8. Tartós hitelviszonyt megtestesítő értékpapír | L4: B-01-AIII-01 | M4: Leltárösszesítő
A5: =Alapa!C17 -> 0 | F5: Dátum: | G5: =Alapa!C15 -> 0 | L5: B-01-AIII-02 | M5: Főkönyvi kivonat egyeztetés
A6: ="Fordulónap: "&Alapa!C12 -> Fordulónap: | F6: Készítette: | G6: =IFERROR(VLOOKUP(M9,Alapa!$K$2:$M$11,3),"") | I6: Ellenőrizte: | J6: =IF(Alapa!$M$2=0," ",Alapa!$M$2) | L6: B-01-AIII-10-01 | M6: Befektetett pénzügyi eszközök, Tartós részesedések
L7: B-01-AIII-10-02 | M7: Tartósan adott kölcsönök
L8: B-01-AIII-10-03 | M8: Tartós hitelviszonyt megtestesítő értékpapír
A9: Leltárfelvét típusa: | C9: EGYEZTETÉS/SZÁMBAVÉTEL | L9: Készítette: | M9: 2
